{"text_format":"1","workbook":"xlsx","n_sheets":15,"sheets":["Menú","1.Energía,agua,cambio climático","2.Uso de materias primas","3.Residuos","4. RSE","5. Huella de Carbono e Hídrica","6.Calculadora Huella-homeoffice","Formato de Evidencia","Clasificación","Preguntas","Categoria","Metodos","Calificación","Respuestas","Calificación (2)"],"not_rendered":{"charts":0,"images":4,"macros":1,"external_links":0,"defined_names":4,"comments":4,"pivot_tables":0},"unopened":[],"bounds":{"document_bytes":16777216,"sheet_cells":100000,"rows_first":2000,"rows_last":500,"rows_between":2000,"halvings":0,"cell_chars":16384,"cell_head_chars":4096},"cells_cut":0,"cells_raw":0,"read":"whole","date_system":"1900"}

{"sheet":"Menú","index":0,"n_rows":40,"n_cols":12,"rows_kept":40,"cut":false,"hidden":false,"merged":[[39,5,39,12],[28,5,28,8],[22,4,24,4],[27,4,28,4],[24,5,24,8],[25,5,25,8],[34,1,38,12],[26,5,26,8],[22,5,22,8],[23,5,23,8],[27,2,28,2],[32,3,32,11],[27,5,27,8],[22,2,24,2],[27,3,28,3],[22,3,24,3],[2,2,2,11],[3,2,3,11],[20,10,21,10],[20,11,21,11],[20,2,21,2],[20,3,21,3],[11,3,11,7],[20,4,21,4],[20,5,21,8],[12,4,12,7],[20,9,21,9],[9,4,9,7]]}
[]
[]
[null,null,"Formulario Sostenibilidad Proveedores Bienes y Servicios"]
[null,null,"Proveedor Servicios"]
[]
[null,null,"Tipo de Empresa",null,null,null,"Validar Clasificación"]
[null,null,"Proveedor Razón Social"]
[null,null,"Nit"]
[null,null,"Fecha Diligenciamiento"]
[null,null,"Categoría Otorgada",null,{"$f":"IFERROR(VLOOKUP(E31,Categoria!E14:F418,2,FALSE), \" \")","v":" "}]
[]
[null,null,null,"Evaluación Criterios de Sostenibilidad"]
[null,null,null,null,"Dimensiones"]
[null,null,null,null,"Ambiental","Social","Ética","Económica","Total"]
[null,null,"Porcentaje Cumplimiento",null,{"$f":"IFERROR((VLOOKUP(E17,Calificación!D1083:G1122,4,FALSE)), )","v":0},{"$f":"IFERROR((VLOOKUP(F17,Calificación!$D$1083:$G$1122,4,FALSE)), )","v":0},{"$f":"IFERROR((VLOOKUP(G17,Calificación!$D$1083:$G$1122,4,FALSE)), )","v":0},{"$f":"IFERROR((VLOOKUP(H17,Calificación!$D$1083:$G$1122,4,FALSE)), )","v":0},{"$f":"IFERROR((VLOOKUP(I17,Calificación!$D$1083:$G$1122,4,FALSE)), )","v":0}]
[null,null,null,null,{"$f":"CONCATENATE(E6,C23)","v":"Consumo de Energía, Agua y Cambio Climático"},{"$f":"CONCATENATE(E6,C26)","v":"Gestión eficiente del uso Materia Prima y Materiales"},{"$f":"CONCATENATE(E6,C27)","v":"Gestión  de los Residuos"},{"$f":"CONCATENATE(E6,C28)","v":"Responsabilidad Social Empresarial"},{"$f":"CONCATENATE(H6,G23)","v":""}]
[null,null,null,null,{"$f":"CONCATENATE(E6,E14)","v":"Ambiental"},{"$f":"CONCATENATE(E6,F14)","v":"Social"},{"$f":"CONCATENATE(E6,G14)","v":"Ética"},{"$f":"CONCATENATE(E6,H14)","v":"Económica"},{"$f":"CONCATENATE(E6,I14)","v":"Total"}]
[]
[]
[]
[null,null,"Criterio Sostenibilidad","Puntaje Total Obtenido Criterio","% Total Obtenido Criterio","Método de Verificación",null,null,null,"Puntaje Total Obtenido Método","Puntuación por Tipo de Empresa","% Total Obtenido Método"]
[]
[null,null,"Consumo de Energía, Agua y Cambio Climático",{"$f":"IFERROR((J23+J24+J25), )","v":0},{"$f":"IFERROR((VLOOKUP(E16,Calificación!D1083:G1122,4,FALSE)), )","v":0},"1. Eficiencia Energética",null,null,null,{"$f":"IFERROR(('1.Energía,agua,cambio climático'!F11), )","v":0},{"$f":"CONCATENATE('1.Energía,agua,cambio climático'!C15,\"-\",Menú!F23)","v":" -1. Eficiencia Energética"},{"$f":"IFERROR(J23/(VLOOKUP(K23,Metodos!$E$3:$F$34,2,FALSE)), )","v":0}]
[null,null,null,null,null,"2. Cambio Climático ",null,null,null,{"$f":"IFERROR(('1.Energía,agua,cambio climático'!F47), )","v":0},{"$f":"CONCATENATE('1.Energía,agua,cambio climático'!C15,\"-\",Menú!F24)","v":" -2. Cambio Climático "},{"$f":"IFERROR(J24/(VLOOKUP(K24,Metodos!$E$3:$F$34,2,FALSE)), )","v":0}]
[null,null,null,null,null,"3. Consumo de agua ",null,null,null,{"$f":"IFERROR(('1.Energía,agua,cambio climático'!F77), )","v":0},{"$f":"CONCATENATE('1.Energía,agua,cambio climático'!C15,\"-\",Menú!F25)","v":" -3. Consumo de agua "},{"$f":"IFERROR(J25/(VLOOKUP(K25,Metodos!$E$3:$F$34,2,FALSE)), )","v":0}]
[null,null,"Gestión eficiente del uso Materia Prima y Materiales",{"$f":"IFERROR((J26), )","v":0},{"$f":"IFERROR((VLOOKUP(F16,Calificación!D1083:G1122,4,FALSE)), )","v":0},"5. Innovaciones en el Producto o Procesos",null,null,null,{"$f":"IFERROR(('2.Uso de materias primas'!F42), )","v":0},{"$f":"CONCATENATE('1.Energía,agua,cambio climático'!C15,\"-\",Menú!F26)","v":" -5. Innovaciones en el Producto o Procesos"},{"$f":"IFERROR(J26/(VLOOKUP(K26,Metodos!$E$3:$F$34,2,FALSE)), )","v":0}]
[null,null,"Gestión  de los Residuos",{"$f":"IFERROR((J27), )","v":0},{"$f":"IFERROR((VLOOKUP(G16,Calificación!D1083:G1122,4,FALSE)), )","v":0},"7. Gestión de los Residuos Propios (Sólidos, Líquidos, Gaseosos)",null,null,null,{"$f":"IFERROR(('3.Residuos'!F25), )","v":0},{"$f":"CONCATENATE('1.Energía,agua,cambio climático'!C15,\"-\",Menú!F27)","v":" -7. Gestión de los Residuos Propios (Sólidos, Líquidos, Gaseosos)"},{"$f":"IFERROR(J27/(VLOOKUP(K27,Metodos!$E$3:$F$34,2,FALSE)), )","v":0}]
[null,null,"Responsabilidad Social Empresarial",{"$f":"IFERROR((J28+J29), )","v":0},{"$f":"IFERROR((VLOOKUP(H16,Calificación!D1083:G1122,4,FALSE)), )","v":0},"8. Políticas de Responsabilidad Social y Ambiental",null,null,null,{"$f":"IFERROR(('4. RSE'!F9), )","v":0},{"$f":"CONCATENATE('1.Energía,agua,cambio climático'!C15,\"-\",Menú!F28)","v":" -8. Políticas de Responsabilidad Social y Ambiental"},{"$f":"IFERROR(J28/(VLOOKUP(K28,Metodos!$E$3:$F$34,2,FALSE)), )","v":0}]
[null,null,null,null,null,"9. Seguridad Industrial y Salud Ocupacional",null,null,null,{"$f":"IFERROR(('4. RSE'!F83), )","v":0},{"$f":"CONCATENATE('1.Energía,agua,cambio climático'!C15,\"-\",Menú!F29)","v":" -9. Seguridad Industrial y Salud Ocupacional"},{"$f":"IFERROR(J29/(VLOOKUP(K29,Metodos!$E$3:$F$34,2,FALSE)), )","v":0}]
[null,null,"Total",{"$f":"SUM(D23:D29)","v":0},{"$f":"ROUND(I15,2)","v":0},null,null,null,null,{"$f":"SUM(J23:J29)","v":0}]
[null,null,null,null,{"$f":"CONCATENATE(E6,E30)","v":"0"}]
[]
[null,null,"Huella de carbono e Hídrica","En esta hoja usted registrara los datos solicitados en la Calculadora de Huella de Carbono e Hídrica, en caso de que su organización tenga implementado  trabajo en casa,  home office o wework diligenciar el punto 6. Calculadora Huella- homeOffice."]
[null,null,"Nota: Si usted es proveedor de bienes y servicios por favor solo diligenciar el formulario de Bienes"]
[null,"ESTE DOCUMENTO Y LOS CONTENIDOS EN ÉL INCLUIDOS SE ENCUENTRAN PROTEGIDOS POR LAS NORMAS DE PROPIEDAD INTELECTUAL. LA PONTIFICIA UNIVERSIDAD JAVERIANA SE RESERVA EL DERECHO DE AUTORIZAR O PROHIBIR CUALQUIER USO O EXPLOTACIÓN DISTINTO PARA EL QUE FUERON CREADOS. LO ANTERIOR, SO PENA DE LAS SANCIONES Y ACCIONES ESTABLECIDAS EN LA LEY.\""]
[]
[]
[]
[]
[null,null," VERSIÓN: 2 ",null,null,"    FECHA: Septiembre2023"]

{"sheet":"1.Energía,agua,cambio climático","index":1,"n_rows":93,"n_cols":10,"rows_kept":93,"cut":false,"hidden":false,"merged":[[92,1,96,8],[4,6,4,8],[76,6,76,8],[46,6,46,8],[6,6,6,8],[6,1,6,3],[46,1,46,3],[76,1,76,3],[9,1,9,8],[11,1,11,8],[12,1,12,8]]}
[]
[]
[null,null,null,null,null,null,"Menú",null,"Siguiente Criterio"]
[]
[null,null,null,null,null,"Criterio Sostenible","CONSUMO DE ENERGÍA, AGUA Y CAMBIO CLIMÁTICO"]
[]
[null,"No. ",null,null,null,"Total","EFICIENCIA ENERGÉTICA"]
[]
[null,null,null,null,null,{"$f":"F11+F47+F77","v":0}]
[]
[null,null,null,null,null,{"$f":"F15+F19+F20+F21+F22+F23+F24+F28+F32+F37+F38+F39+F40+F41+F42+F43+F44","v":0}]
[]
[null,"**Seleccione su respuesta de la lista desplegable que se encuentra en los recuadros de color azul"]
[null,null,null,null,null,null,null,"Seleccione la opción"]
[null,"1.1",{"$f":"IF(Menú!$E$6=\"Micro\",\"M\",IF(Menú!$E$6=\"Pequeña\",\"P\",IF(Menú!$E$6=\"Mediana\",\"Me\",IF(Menú!$E$6=\"Grande\",\"G\",\" \" ))))","v":" "},{"$f":"H15","v":0},{"$f":"CONCATENATE(B15,\"-\",C15,\"-\",D15)","v":"1.1- -0"},{"$f":"IFERROR(VLOOKUP(E15,Calificación!$E$2:$F$9250,2,FALSE), 0)","v":0},"¿Utiliza energías renovables ? \n"]
[null,null,null,null,null,null,"Si su respuesta es NO,diríjase a la pregunta 1.4"]
[]
[null,null,null,null,null,null,null,null,"Seleccione la opción"]
[null,"1.2",{"$f":"IF(Menú!$E$6=\"Micro\",\"M\",IF(Menú!$E$6=\"Pequeña\",\"P\",IF(Menú!$E$6=\"Mediana\",\"Me\",IF(Menú!$E$6=\"Grande\",\"G\",\" \" ))))","v":" "},{"$f":"I19","v":0},{"$f":"CONCATENATE(B19,\"-\",C19,\"-\",D19)","v":"1.2- -0"},{"$f":"IFERROR(VLOOKUP(E19,Calificación!$E$2:$F$1020,2,FALSE), 0 )","v":0}," ¿Cuáles de las siguientes energías renovables utiliza?","Fotovoltaica"]
[null,"1.21",{"$f":"IF(Menú!$E$6=\"Micro\",\"M\",IF(Menú!$E$6=\"Pequeña\",\"P\",IF(Menú!$E$6=\"Mediana\",\"Me\",IF(Menú!$E$6=\"Grande\",\"G\",\" \" ))))","v":" "},{"$f":"I20","v":0},"1.21- -0",{"$f":"IFERROR(VLOOKUP(E20,Calificación!$E$2:$F$1020,2,FALSE), 0)","v":0}," Adjunte la información de soporte en el Formato de Evidencia","Eólica"]
[null,"1.22",{"$f":"IF(Menú!$E$6=\"Micro\",\"M\",IF(Menú!$E$6=\"Pequeña\",\"P\",IF(Menú!$E$6=\"Mediana\",\"Me\",IF(Menú!$E$6=\"Grande\",\"G\",\" \" ))))","v":" "},{"$f":"I21","v":0},"1.22- -0",{"$f":"IFERROR(VLOOKUP(E21,Calificación!$E$2:$F$1020,2,FALSE), 0)","v":0},null,"Cinética"]
[null,"1.23",{"$f":"IF(Menú!$E$6=\"Micro\",\"M\",IF(Menú!$E$6=\"Pequeña\",\"P\",IF(Menú!$E$6=\"Mediana\",\"Me\",IF(Menú!$E$6=\"Grande\",\"G\",\" \" ))))","v":" "},0,"1.23- -0",{"$f":"IFERROR(VLOOKUP(E22,Calificación!$E$2:$F$1020,2,FALSE),0)","v":0},null,"Mareomotriz"]
[null,"1.24",{"$f":"IF(Menú!$E$6=\"Micro\",\"M\",IF(Menú!$E$6=\"Pequeña\",\"P\",IF(Menú!$E$6=\"Mediana\",\"Me\",IF(Menú!$E$6=\"Grande\",\"G\",\" \" ))))","v":" "},{"$f":"I23","v":0},"1.24- -0",{"$f":"IFERROR(VLOOKUP(E23,Calificación!$E$2:$F$1020,2,FALSE),0)","v":0},null,"Biomasa"]
[null,"1.25",{"$f":"IF(Menú!$E$6=\"Micro\",\"M\",IF(Menú!$E$6=\"Pequeña\",\"P\",IF(Menú!$E$6=\"Mediana\",\"Me\",IF(Menú!$E$6=\"Grande\",\"G\",\" \" ))))","v":" "},0,"1.25- -0",{"$f":"IFERROR(VLOOKUP(E24,Calificación!$E$2:$F$1020,2,FALSE),0)","v":0},null,"Hidraúlica"]
[]
[]
[null,null,null,null,null,null,null,"Seleccione la opción"]
[null,"1.3",{"$f":"IF(Menú!$E$6=\"Micro\",\"M\",IF(Menú!$E$6=\"Pequeña\",\"P\",IF(Menú!$E$6=\"Mediana\",\"Me\",IF(Menú!$E$6=\"Grande\",\"G\",\" \" ))))","v":" "},{"$f":"H28","v":0},{"$f":"CONCATENATE(B28,\"-\",C28,\"-\",D28)","v":"1.3- -0"},{"$f":"IFERROR(VLOOKUP(E28,Calificación!$E$2:$F$1020,2,FALSE),0)","v":0},"Respecto a su consumo total de energía ¿Qué porcentaje proviene de energías renovables?"]
[null,null,null,null,null,null," Adjunte la información de soporte en el Formato de Evidencia"]
[]
[null,null,null,null,null,null,null,"Seleccione la opción"]
[null,"1.4",{"$f":"IF(Menú!$E$6=\"Micro\",\"M\",IF(Menú!$E$6=\"Pequeña\",\"P\",IF(Menú!$E$6=\"Mediana\",\"Me\",IF(Menú!$E$6=\"Grande\",\"G\",\" \" ))))","v":" "},{"$f":"H32","v":0},{"$f":"CONCATENATE(B32,\"-\",C32,\"-\",D32)","v":"1.4- -0"},{"$f":"IFERROR(VLOOKUP(E32,Calificación!$E$2:$F$1020,2,FALSE),0)","v":0}," ¿Su empresa cuenta con políticas o lineamientos de eficiencia energética?"]
[null,null,null,null,null,null,"Si su respuesta es NO, diríjase a la pregunta 2.1"]
[]
[]
[null,null,null,null,null,null,null,null,"Seleccione la opción"]
[null,"1.5",{"$f":"IF(Menú!$E$6=\"Micro\",\"M\",IF(Menú!$E$6=\"Pequeña\",\"P\",IF(Menú!$E$6=\"Mediana\",\"Me\",IF(Menú!$E$6=\"Grande\",\"G\",\" \" ))))","v":" "},{"$f":"I37","v":0},{"$f":"CONCATENATE(B37,\"-\",C37,\"-\",D37)","v":"1.5- -0"},{"$f":"IFERROR(VLOOKUP(E37,Calificación!$E$2:$F$1020,2,FALSE),0)","v":0}," ¿Cuáles de las siguientes acciones realiza en su empresa? Si su respuesta es \"otra\" especifique ¿Cuál?","Iluminación eficiente (T5 y Led)"]
[null,"1.51",{"$f":"IF(Menú!$E$6=\"Micro\",\"M\",IF(Menú!$E$6=\"Pequeña\",\"P\",IF(Menú!$E$6=\"Mediana\",\"Me\",IF(Menú!$E$6=\"Grande\",\"G\",\" \" ))))","v":" "},{"$f":"I38","v":0},{"$f":"CONCATENATE(B38,\"-\",C38,\"-\",D38)","v":"1.51- -0"},{"$f":"IFERROR(VLOOKUP(E38,Calificación!$E$2:$F$1020,2,FALSE),0)","v":0}," Adjunte la información de soporte en el Formato de Evidencia","Maquinaria operada con motores eléctricos "]
[null,"1.52",{"$f":"IF(Menú!$E$6=\"Micro\",\"M\",IF(Menú!$E$6=\"Pequeña\",\"P\",IF(Menú!$E$6=\"Mediana\",\"Me\",IF(Menú!$E$6=\"Grande\",\"G\",\" \" ))))","v":" "},{"$f":"I39","v":0},{"$f":"CONCATENATE(B39,\"-\",C39,\"-\",D39)","v":"1.52- -0"},{"$f":"IFERROR(VLOOKUP(E39,Calificación!$E$2:$F$1020,2,FALSE),0)","v":0},null,"Flota de vehículos eléctricos"]
[null,"1.53",{"$f":"IF(Menú!$E$6=\"Micro\",\"M\",IF(Menú!$E$6=\"Pequeña\",\"P\",IF(Menú!$E$6=\"Mediana\",\"Me\",IF(Menú!$E$6=\"Grande\",\"G\",\" \" ))))","v":" "},{"$f":"I40","v":0},{"$f":"CONCATENATE(B40,\"-\",C40,\"-\",D40)","v":"1.53- -0"},{"$f":"IFERROR(VLOOKUP(E40,Calificación!$E$2:$F$1020,2,FALSE),0)","v":0},null,"Campañas de eficiencia energética"]
[null,"1.54",{"$f":"IF(Menú!$E$6=\"Micro\",\"M\",IF(Menú!$E$6=\"Pequeña\",\"P\",IF(Menú!$E$6=\"Mediana\",\"Me\",IF(Menú!$E$6=\"Grande\",\"G\",\" \" ))))","v":" "},{"$f":"I41","v":0},{"$f":"CONCATENATE(B41,\"-\",C41,\"-\",D41)","v":"1.54- -0"},{"$f":"IFERROR(VLOOKUP(E41,Calificación!$E$2:$F$1020,2,FALSE),0)","v":0},null,"Sensores de presencia"]
[null,"1.55",{"$f":"IF(Menú!$E$6=\"Micro\",\"M\",IF(Menú!$E$6=\"Pequeña\",\"P\",IF(Menú!$E$6=\"Mediana\",\"Me\",IF(Menú!$E$6=\"Grande\",\"G\",\" \" ))))","v":" "},0,"1.55- -0",{"$f":"IFERROR(VLOOKUP(E42,Calificación!$E$2:$F$1020,2,FALSE),0)","v":0},null,"Sensores luz día "]
[null,"1.56",{"$f":"IF(Menú!$E$6=\"Micro\",\"M\",IF(Menú!$E$6=\"Pequeña\",\"P\",IF(Menú!$E$6=\"Mediana\",\"Me\",IF(Menú!$E$6=\"Grande\",\"G\",\" \" ))))","v":" "},0,"1.56- -0",{"$f":"IFERROR(VLOOKUP(E43,Calificación!$E$2:$F$1020,2,FALSE),0)","v":0},null,"Programación horaria "]
[null,"1.57",{"$f":"IF(Menú!$E$6=\"Micro\",\"M\",IF(Menú!$E$6=\"Pequeña\",\"P\",IF(Menú!$E$6=\"Mediana\",\"Me\",IF(Menú!$E$6=\"Grande\",\"G\",\" \" ))))","v":" "},{"$f":"I44","v":0},{"$f":"CONCATENATE(B44,\"-\",C44,\"-\",D44)","v":"1.57- -0"},{"$f":"IFERROR(VLOOKUP(E44,Calificación!$E$2:$F$1020,2,FALSE),0)","v":0},null,"Otra",null," ¿Cuál?"]
[]
[]
[null,"No. ",null,null,null,{"$f":"F50+F54+F55+F57+F58+F56+F59+F63+F64+F65+F66+F67","v":0},"CAMBIO CLIMÁTICO"]
[]
[null,null,null,null,null,null,null,"Seleccione la opción"]
[null,"2.1",{"$f":"IF(Menú!$E$6=\"Micro\",\"M\",IF(Menú!$E$6=\"Pequeña\",\"P\",IF(Menú!$E$6=\"Mediana\",\"Me\",IF(Menú!$E$6=\"Grande\",\"G\",\" \" ))))","v":" "},{"$f":"H50","v":0},{"$f":"CONCATENATE(B50,\"-\",C50,\"-\",D50)","v":"2.1- -0"},{"$f":"IFERROR(VLOOKUP(E50,Calificación!$E$2:$F$1020,2,FALSE),0)","v":0}," ¿Calcula la huella de carbono en su empresa anualmente?"]
[]
[]
[null,null,null,null,null,null,null,null,"Seleccione la opción"]
[null,"2.2",{"$f":"IF(Menú!$E$6=\"Micro\",\"M\",IF(Menú!$E$6=\"Pequeña\",\"P\",IF(Menú!$E$6=\"Mediana\",\"Me\",IF(Menú!$E$6=\"Grande\",\"G\",\" \" ))))","v":" "},{"$f":"I54","v":0},{"$f":"CONCATENATE(B54,\"-\",C54,\"-\",D54)","v":"2.2- -0"},{"$f":"IFERROR(VLOOKUP(E54,Calificación!$E$2:$F$1020,2,FALSE),0)","v":0},"¿Cuáles de las siguientes acciones de reducción de huella de carbono realiza en su empresa? Si su respuesta  es \"otra\" especifique ¿Cuál?","Disminución en el uso de materias primas"]
[null,"2.21",{"$f":"IF(Menú!$E$6=\"Micro\",\"M\",IF(Menú!$E$6=\"Pequeña\",\"P\",IF(Menú!$E$6=\"Mediana\",\"Me\",IF(Menú!$E$6=\"Grande\",\"G\",\" \" ))))","v":" "},{"$f":"I55","v":0},{"$f":"CONCATENATE(B55,\"-\",C55,\"-\",D55)","v":"2.21- -0"},{"$f":"IFERROR(VLOOKUP(E55,Calificación!$E$2:$F$1020,2,FALSE), 0 )","v":0},"Adjunte la información de soporte en el Formato de Evidencia","Disminución de empaques y embalajes"]
[null,"2.22",{"$f":"IF(Menú!$E$6=\"Micro\",\"M\",IF(Menú!$E$6=\"Pequeña\",\"P\",IF(Menú!$E$6=\"Mediana\",\"Me\",IF(Menú!$E$6=\"Grande\",\"G\",\" \" ))))","v":" "},{"$f":"I56","v":0},"2.22- -0",{"$f":"IFERROR(VLOOKUP(E56,Calificación!$E$2:$F$1020,2,FALSE), 0)","v":0},null,"Ahorro de consumo de agua"]
[null,"2.23",{"$f":"IF(Menú!$E$6=\"Micro\",\"M\",IF(Menú!$E$6=\"Pequeña\",\"P\",IF(Menú!$E$6=\"Mediana\",\"Me\",IF(Menú!$E$6=\"Grande\",\"G\",\" \" ))))","v":" "},{"$f":"I57","v":0},"2.23- -0",{"$f":"IFERROR(VLOOKUP(E57,Calificación!$E$2:$F$1020,2,FALSE), 0)","v":0},null,"Ahorro de consumo de energía"]
[null,"2.24",{"$f":"IF(Menú!$E$6=\"Micro\",\"M\",IF(Menú!$E$6=\"Pequeña\",\"P\",IF(Menú!$E$6=\"Mediana\",\"Me\",IF(Menú!$E$6=\"Grande\",\"G\",\" \" ))))","v":" "},0,"2.24- -0",{"$f":"IFERROR(VLOOKUP(E58,Calificación!$E$2:$F$1020,2,FALSE),0)","v":0},null,"Optimización en procesos de distribución"]
[null,"2.25",{"$f":"IF(Menú!$E$6=\"Micro\",\"M\",IF(Menú!$E$6=\"Pequeña\",\"P\",IF(Menú!$E$6=\"Mediana\",\"Me\",IF(Menú!$E$6=\"Grande\",\"G\",\" \" ))))","v":" "},{"$f":"I59","v":0},"2.25- -0",{"$f":"IFERROR(VLOOKUP(E59,Calificación!$E$2:$F$1020,2,FALSE),0)","v":0},null,"Otra",null," ¿Cuál?"]
[]
[]
[null,null,null,null,null,null,null,null,"Seleccione la opción"]
[null,"2.3",{"$f":"IF(Menú!$E$6=\"Micro\",\"M\",IF(Menú!$E$6=\"Pequeña\",\"P\",IF(Menú!$E$6=\"Mediana\",\"Me\",IF(Menú!$E$6=\"Grande\",\"G\",\" \" ))))","v":" "},{"$f":"I63","v":0},{"$f":"CONCATENATE(B63,\"-\",C63,\"-\",D63)","v":"2.3- -0"},{"$f":"IFERROR(VLOOKUP(E63,Calificación!$E$2:$F$1020,2,FALSE),0)","v":0}," ¿Cuáles de las siguientes acciones de compensación de huella de carbono realiza en su empresa? \n","Siembra de árboles"]
[null,"2.31",{"$f":"IF(Menú!$E$6=\"Micro\",\"M\",IF(Menú!$E$6=\"Pequeña\",\"P\",IF(Menú!$E$6=\"Mediana\",\"Me\",IF(Menú!$E$6=\"Grande\",\"G\",\" \" ))))","v":" "},{"$f":"I64","v":0},{"$f":"CONCATENATE(B64,\"-\",C64,\"-\",D64)","v":"2.31- -0"},{"$f":"IFERROR(VLOOKUP(E64,Calificación!$E$2:$F$1020,2,FALSE),0)","v":0},"Si su respuesta es \"ninguna de las anteriores\" diríjase a la pregunta 3.1","Inyección de carbono en el subsuelo"]
[null,"2.32",{"$f":"IF(Menú!$E$6=\"Micro\",\"M\",IF(Menú!$E$6=\"Pequeña\",\"P\",IF(Menú!$E$6=\"Mediana\",\"Me\",IF(Menú!$E$6=\"Grande\",\"G\",\" \" ))))","v":" "},0,"2.32- -0",{"$f":"IFERROR(VLOOKUP(E65,Calificación!$E$2:$F$1020,2,FALSE),0)","v":0},"Adjunte la información de soporte en el Formato de Evidencia","Elaboración de materias primas a base de carbono"]
[null,"2.33",{"$f":"IF(Menú!$E$6=\"Micro\",\"M\",IF(Menú!$E$6=\"Pequeña\",\"P\",IF(Menú!$E$6=\"Mediana\",\"Me\",IF(Menú!$E$6=\"Grande\",\"G\",\" \" ))))","v":" "},0,"2.33- -0",{"$f":"IFERROR(VLOOKUP(E66,Calificación!$E$2:$F$1020,2,FALSE),0)","v":0},null,"Granjas de carbono"]
[null,"2.34",{"$f":"IF(Menú!$E$6=\"Micro\",\"M\",IF(Menú!$E$6=\"Pequeña\",\"P\",IF(Menú!$E$6=\"Mediana\",\"Me\",IF(Menú!$E$6=\"Grande\",\"G\",\" \" ))))","v":" "},0,"2.34- -0",{"$f":"IFERROR(VLOOKUP(E67,Calificación!$E$2:$F$1020,2,FALSE),0)","v":0},null,"Ninguna de las anteriores"]
[]
[]
[null,null,null,null,null,null,null,"Seleccione la opción"]
[null,"2.4",null,null,null,null,"Teniendo en cuenta la respuesta anterior, ¿Cuántas toneladas de CO2 equivalente compensó el año inmediatamente anterior?",null,"Ton C02/equiv"]
[]
[]
[]
[]
[]
[null,"No. ",null,null,null,{"$f":"F80+F85+F86+F87+F88+F89+F90","v":0},"CONSUMO DE AGUA"]
[]
[null,null,null,null,null,null,null,"Seleccione la opción"]
[null,"3.1",{"$f":"IF(Menú!$E$6=\"Micro\",\"M\",IF(Menú!$E$6=\"Pequeña\",\"P\",IF(Menú!$E$6=\"Mediana\",\"Me\",IF(Menú!$E$6=\"Grande\",\"G\",\" \" ))))","v":" "},{"$f":"H80","v":0},{"$f":"CONCATENATE(B80,\"-\",C80,\"-\",D80)","v":"3.1- -0"},{"$f":"IFERROR(VLOOKUP(E80,Calificación!$E$2:$F$1020,2,FALSE),0)","v":0}," ¿Su empresa cuenta con políticas o lineamientos de reducción en el consumo de agua?\n"]
[null,null,null,null,null,null,"Si su respuesta es NO, diríjase a la pestaña 2. Uso de materias primas"]
[]
[]
[null,null,null,null,null,null,null,null,"Seleccione la opción"]
[null,"3.2",{"$f":"IF(Menú!$E$6=\"Micro\",\"M\",IF(Menú!$E$6=\"Pequeña\",\"P\",IF(Menú!$E$6=\"Mediana\",\"Me\",IF(Menú!$E$6=\"Grande\",\"G\",\" \" ))))","v":" "},{"$f":"I85","v":0},{"$f":"CONCATENATE(B85,\"-\",C85,\"-\",D85)","v":"3.2- -0"},{"$f":"IFERROR(VLOOKUP(E85,Calificación!$E$2:$F$1020,2,FALSE),0)","v":0}," ¿Cuáles de las siguientes acciones realiza en su empresa? Si su respuesta es \"otra\" especifique ¿Cuál?","Implementación de sanitarios y grifos ahorradores de agua"]
[null,"3.21",{"$f":"IF(Menú!$E$6=\"Micro\",\"M\",IF(Menú!$E$6=\"Pequeña\",\"P\",IF(Menú!$E$6=\"Mediana\",\"Me\",IF(Menú!$E$6=\"Grande\",\"G\",\" \" ))))","v":" "},0,"3.21- -0",{"$f":"IFERROR(VLOOKUP(E86,Calificación!$E$2:$F$1020,2,FALSE),0)","v":0},"Adjunte la información de soporte en el Formato de Evidencia","Mantenimiento preventivo"]
[null,"3.22",{"$f":"IF(Menú!$E$6=\"Micro\",\"M\",IF(Menú!$E$6=\"Pequeña\",\"P\",IF(Menú!$E$6=\"Mediana\",\"Me\",IF(Menú!$E$6=\"Grande\",\"G\",\" \" ))))","v":" "},0,"3.22- -0",{"$f":"IFERROR(VLOOKUP(E87,Calificación!$E$2:$F$1020,2,FALSE),0)","v":0},null,"Reutilización de aguas lluvias"]
[null,"3.23",{"$f":"IF(Menú!$E$6=\"Micro\",\"M\",IF(Menú!$E$6=\"Pequeña\",\"P\",IF(Menú!$E$6=\"Mediana\",\"Me\",IF(Menú!$E$6=\"Grande\",\"G\",\" \" ))))","v":" "},0,"3.23- -0",{"$f":"IFERROR(VLOOKUP(E88,Calificación!$E$2:$F$1020,2,FALSE),0)","v":0},null," Innovación tecnológica"]
[null,"3.24",{"$f":"IF(Menú!$E$6=\"Micro\",\"M\",IF(Menú!$E$6=\"Pequeña\",\"P\",IF(Menú!$E$6=\"Mediana\",\"Me\",IF(Menú!$E$6=\"Grande\",\"G\",\" \" ))))","v":" "},0,"3.24- -0",{"$f":"IFERROR(VLOOKUP(E89,Calificación!$E$2:$F$1020,2,FALSE),0)","v":0},null,"Campañas de sensibilización"]
[null,"3.25",{"$f":"IF(Menú!$E$6=\"Micro\",\"M\",IF(Menú!$E$6=\"Pequeña\",\"P\",IF(Menú!$E$6=\"Mediana\",\"Me\",IF(Menú!$E$6=\"Grande\",\"G\",\" \" ))))","v":" "},0,"3.25- -0",{"$f":"IFERROR(VLOOKUP(E90,Calificación!$E$2:$F$1020,2,FALSE),0)","v":0},null,"Otra",null," ¿Cuál?"]
[]
[]
[null,"ESTE DOCUMENTO Y LOS CONTENIDOS EN ÉL INCLUIDOS SE ENCUENTRAN PROTEGIDOS POR LAS NORMAS DE PROPIEDAD INTELECTUAL. LA PONTIFICIA UNIVERSIDAD JAVERIANA SE RESERVA EL DERECHO DE AUTORIZAR O PROHIBIR CUALQUIER USO O EXPLOTACIÓN DISTINTO PARA EL QUE FUERON CREADOS. LO ANTERIOR, SO PENA DE LAS SANCIONES Y ACCIONES ESTABLECIDAS EN LA LEY.\""]

{"sheet":"2.Uso de materias primas","index":2,"n_rows":57,"n_cols":10,"rows_kept":57,"cut":false,"hidden":false,"merged":[[56,1,60,9],[5,1,5,3],[5,6,5,9],[3,6,3,9],[41,6,41,9],[41,1,41,3],[11,1,11,8]]}
[]
[null,null,null,null,null,null,"Menú","Volver criterio anterior","Siguiente Criterio"]
[]
[null,null,null,null,null,"Criterio Sostenible","GESTIÓN EFICIENTE DEL USO MATERIA PRIMA Y MATERIALES"]
[]
[null,"No. ",null,null,null,"Total","EXTRACCIÓN Y PROCEDENCIA DE LOS RECURSOS"]
[]
[null,null,null,null,null,{"$f":"F10+F42","v":0}]
[]
[null,null,null,null,null,{"$f":"+F28+F38+F29+F31+F30+F34+F39+F32+F33+F19+F20+F22+F21+F23+F15","v":0}]
[]
[null,"**Seleccione su respuesta de la lista desplegable que se encuentra en los recuadros de color azul"]
[]
[]
[null,"4.1",{"$f":"IF(Menú!$E$6=\"Micro\",\"M\",IF(Menú!$E$6=\"Pequeña\",\"P\",IF(Menú!$E$6=\"Mediana\",\"Me\",IF(Menú!$E$6=\"Grande\",\"G\",\" \" ))))","v":" "},{"$f":"H15","v":0},{"$f":"CONCATENATE(B15,\"-\",C15,\"-\",D15)","v":"4.1- -0"},{"$f":"IFERROR(VLOOKUP(E15,Calificación!$E$2:$F$1020,2,FALSE),0)","v":0}," ¿Su empresa ha realizado acciones de reemplazo de materia primas derivadas del petróleo?"]
[null,null,null,null,null,null," Adjunte la información de soporte en el Formato de Evidencia"]
[]
[null,null,null,null,null,null,null,null,"Seleccione la opción"]
[null,"4.2",{"$f":"IF(Menú!$E$6=\"Micro\",\"M\",IF(Menú!$E$6=\"Pequeña\",\"P\",IF(Menú!$E$6=\"Mediana\",\"Me\",IF(Menú!$E$6=\"Grande\",\"G\",\" \" ))))","v":" "},{"$f":"I19","v":0},{"$f":"CONCATENATE(B19,\"-\",C19,\"-\",D19)","v":"4.2- -0"},{"$f":"IFERROR(VLOOKUP(E19,Calificación!$E$2:$F$1020,2,FALSE),0)","v":0},"¿Cuáles de las siguientes acciones de reemplazo de materias primas realiza en su empresa? Si su respuesta es \"otra\" especifique ¿Cuál?","Reemplazo de referencias plásticas por insumos biodegradables"]
[null,"4.21",{"$f":"IF(Menú!$E$6=\"Micro\",\"M\",IF(Menú!$E$6=\"Pequeña\",\"P\",IF(Menú!$E$6=\"Mediana\",\"Me\",IF(Menú!$E$6=\"Grande\",\"G\",\" \" ))))","v":" "},{"$f":"I20","v":0},{"$f":"CONCATENATE(B20,\"-\",C20,\"-\",D20)","v":"4.21- -0"},{"$f":"IFERROR(VLOOKUP(E20,Calificación!$E$2:$F$1020,2,FALSE),0)","v":0},"Adjunte la información de soporte en el Formato de Evidencia"," Eliminación y/o disminución de uso de plástico e icopor"]
[null,"4.22",{"$f":"IF(Menú!$E$6=\"Micro\",\"M\",IF(Menú!$E$6=\"Pequeña\",\"P\",IF(Menú!$E$6=\"Mediana\",\"Me\",IF(Menú!$E$6=\"Grande\",\"G\",\" \" ))))","v":" "},{"$f":"I21","v":0},{"$f":"CONCATENATE(B21,\"-\",C21,\"-\",D21)","v":"4.22- -0"},{"$f":"IFERROR(VLOOKUP(E21,Calificación!$E$2:$F$1020,2,FALSE),0)","v":0},null,"Incorporación de bioplásticos"]
[null,"4.23",{"$f":"IF(Menú!$E$6=\"Micro\",\"M\",IF(Menú!$E$6=\"Pequeña\",\"P\",IF(Menú!$E$6=\"Mediana\",\"Me\",IF(Menú!$E$6=\"Grande\",\"G\",\" \" ))))","v":" "},{"$f":"I22","v":0},{"$f":"CONCATENATE(B22,\"-\",C22,\"-\",D22)","v":"4.23- -0"},{"$f":"IFERROR(VLOOKUP(E22,Calificación!$E$2:$F$1020,2,FALSE),0)","v":0},null,"Innovación en materiales"]
[null,"4.24",{"$f":"IF(Menú!$E$6=\"Micro\",\"M\",IF(Menú!$E$6=\"Pequeña\",\"P\",IF(Menú!$E$6=\"Mediana\",\"Me\",IF(Menú!$E$6=\"Grande\",\"G\",\" \" ))))","v":" "},{"$f":"I23","v":0},{"$f":"CONCATENATE(B23,\"-\",C23,\"-\",D23)","v":"4.24- -0"},{"$f":"IFERROR(VLOOKUP(E23,Calificación!$E$2:$F$1020,2,FALSE),0)","v":0},null,"Otra",null," ¿Cuál?"]
[]
[]
[]
[null,null,null,null,null,null,null,null,"Seleccione la opción"]
[null,"4.3",{"$f":"IF(Menú!$E$6=\"Micro\",\"M\",IF(Menú!$E$6=\"Pequeña\",\"P\",IF(Menú!$E$6=\"Mediana\",\"Me\",IF(Menú!$E$6=\"Grande\",\"G\",\" \" ))))","v":" "},{"$f":"I28","v":0},{"$f":"CONCATENATE(B28,\"-\",C28,\"-\",D28)","v":"4.3- -0"},{"$f":"IFERROR(VLOOKUP(E28,Calificación!$E$2:$F$1020,2,FALSE),0)","v":0},"Evita el uso y/o sus productos son libres de:","Asbesto"]
[null,"4.31",{"$f":"IF(Menú!$E$6=\"Micro\",\"M\",IF(Menú!$E$6=\"Pequeña\",\"P\",IF(Menú!$E$6=\"Mediana\",\"Me\",IF(Menú!$E$6=\"Grande\",\"G\",\" \" ))))","v":" "},0,{"$f":"CONCATENATE(B29,\"-\",C29,\"-\",D29)","v":"4.31- -0"},{"$f":"IFERROR(VLOOKUP(E29,Calificación!$E$2:$F$1020,2,FALSE),0)","v":0}," Adjunte la información de soporte en el Formato de Evidencia","Benzeno, Formaldheido, Xileno"]
[null,"4.32",{"$f":"IF(Menú!$E$6=\"Micro\",\"M\",IF(Menú!$E$6=\"Pequeña\",\"P\",IF(Menú!$E$6=\"Mediana\",\"Me\",IF(Menú!$E$6=\"Grande\",\"G\",\" \" ))))","v":" "},0,{"$f":"CONCATENATE(B30,\"-\",C30,\"-\",D30)","v":"4.32- -0"},{"$f":"IFERROR(VLOOKUP(E30,Calificación!$E$2:$F$1020,2,FALSE),0)","v":0},null,"Metales Pesados"]
[null,"4.33",{"$f":"IF(Menú!$E$6=\"Micro\",\"M\",IF(Menú!$E$6=\"Pequeña\",\"P\",IF(Menú!$E$6=\"Mediana\",\"Me\",IF(Menú!$E$6=\"Grande\",\"G\",\" \" ))))","v":" "},0,{"$f":"CONCATENATE(B31,\"-\",C31,\"-\",D31)","v":"4.33- -0"},{"$f":"IFERROR(VLOOKUP(E31,Calificación!$E$2:$F$1020,2,FALSE),0)","v":0},null,"BPA, Bisfenol-A"]
[null,"4.34",{"$f":"IF(Menú!$E$6=\"Micro\",\"M\",IF(Menú!$E$6=\"Pequeña\",\"P\",IF(Menú!$E$6=\"Mediana\",\"Me\",IF(Menú!$E$6=\"Grande\",\"G\",\" \" ))))","v":" "},0,{"$f":"CONCATENATE(B32,\"-\",C32,\"-\",D32)","v":"4.34- -0"},{"$f":"IFERROR(VLOOKUP(E32,Calificación!$E$2:$F$1020,2,FALSE),0)","v":0},null,"Tensoactivos"]
[null,"4.35",{"$f":"IF(Menú!$E$6=\"Micro\",\"M\",IF(Menú!$E$6=\"Pequeña\",\"P\",IF(Menú!$E$6=\"Mediana\",\"Me\",IF(Menú!$E$6=\"Grande\",\"G\",\" \" ))))","v":" "},0,"4.35- -0",{"$f":"IFERROR(VLOOKUP(E33,Calificación!$E$2:$F$1020,2,FALSE),0)","v":0},null,"Cloro"]
[null,"4.36",{"$f":"IF(Menú!$E$6=\"Micro\",\"M\",IF(Menú!$E$6=\"Pequeña\",\"P\",IF(Menú!$E$6=\"Mediana\",\"Me\",IF(Menú!$E$6=\"Grande\",\"G\",\" \" ))))","v":" "},0,"4.36- -0",{"$f":"IFERROR(VLOOKUP(E34,Calificación!$E$2:$F$1020,2,FALSE),0)","v":0},null,"Dioxinas"]
[]
[]
[null,null,null,null,null,null,null,null,"Seleccione la/las opciónes"]
[null,"4.4",{"$f":"IF(Menú!$E$6=\"Micro\",\"M\",IF(Menú!$E$6=\"Pequeña\",\"P\",IF(Menú!$E$6=\"Mediana\",\"Me\",IF(Menú!$E$6=\"Grande\",\"G\",\" \" ))))","v":" "},{"$f":"I38","v":0},{"$f":"CONCATENATE(B38,\"-\",C38,\"-\",D38)","v":"4.4- -0"},{"$f":"IFERROR(VLOOKUP(E38,Calificación!$E$2:$F$1020,2,FALSE),0)","v":0}," El origen de su materia prima y/o materiales es:","Internacional"]
[null,"4.41",{"$f":"IF(Menú!$E$6=\"Micro\",\"M\",IF(Menú!$E$6=\"Pequeña\",\"P\",IF(Menú!$E$6=\"Mediana\",\"Me\",IF(Menú!$E$6=\"Grande\",\"G\",\" \" ))))","v":" "},{"$f":"I39","v":0},{"$f":"CONCATENATE(B39,\"-\",C39,\"-\",D39)","v":"4.41- -0"},{"$f":"IFERROR(VLOOKUP(E39,Calificación!$E$2:$F$1020,2,FALSE),0)","v":0},null,"Nacional"]
[]
[]
[null,"No. ",null,null,null,{"$f":"F45+F51+F52+F53+F54+F55","v":0},"INNOVACIONES EN EL PRODUCTO Y/O PROCESOS"]
[]
[null,null,null,null,null,null,null,"Seleccione la opción"]
[null,"5.1",{"$f":"IF(Menú!$E$6=\"Micro\",\"M\",IF(Menú!$E$6=\"Pequeña\",\"P\",IF(Menú!$E$6=\"Mediana\",\"Me\",IF(Menú!$E$6=\"Grande\",\"G\",\" \" ))))","v":" "},{"$f":"H45","v":0},{"$f":"CONCATENATE(B45,\"-\",C45,\"-\",D45)","v":"5.1- -0"},{"$f":"IFERROR(VLOOKUP(E45,Calificación!$E$2:$F$1020,2,FALSE),0)","v":0},"Su empresa cuenta con políticas y/o lineamientos de innovación en sus procesos"]
[null,null,null,null,null,null,"Si su respuesta es NO, diríjase a la pestaña 3. Residuos"]
[]
[]
[]
[null,null,null,null,null,null,null,null,"Seleccione la opción"]
[null,"5.2",{"$f":"IF(Menú!$E$6=\"Micro\",\"M\",IF(Menú!$E$6=\"Pequeña\",\"P\",IF(Menú!$E$6=\"Mediana\",\"Me\",IF(Menú!$E$6=\"Grande\",\"G\",\" \" ))))","v":" "},{"$f":"I51","v":0},{"$f":"CONCATENATE(B51,\"-\",C51,\"-\",D51)","v":"5.2- -0"},{"$f":"IFERROR(VLOOKUP(E51,Calificación!$E$2:$F$1020,2,FALSE),0)","v":0},"¿Qué tipo de innovaciones tiene implementadas actualmente?","Innovación de Producto"]
[null,"5.21",{"$f":"IF(Menú!$E$6=\"Micro\",\"M\",IF(Menú!$E$6=\"Pequeña\",\"P\",IF(Menú!$E$6=\"Mediana\",\"Me\",IF(Menú!$E$6=\"Grande\",\"G\",\" \" ))))","v":" "},{"$f":"I52","v":0},{"$f":"CONCATENATE(B52,\"-\",C52,\"-\",D52)","v":"5.21- -0"},{"$f":"IFERROR(VLOOKUP(E52,Calificación!$E$2:$F$1020,2,FALSE),0)","v":0}," Adjunte la información de soporte en el Formato de Evidencia","Innovación de Proceso"]
[null,"5.22",{"$f":"IF(Menú!$E$6=\"Micro\",\"M\",IF(Menú!$E$6=\"Pequeña\",\"P\",IF(Menú!$E$6=\"Mediana\",\"Me\",IF(Menú!$E$6=\"Grande\",\"G\",\" \" ))))","v":" "},{"$f":"I53","v":0},"5.22- -0",{"$f":"IFERROR(VLOOKUP(E53,Calificación!$E$2:$F$1020,2,FALSE),0)","v":0}," ","Innovación de Transporte"]
[null,"5.23",{"$f":"IF(Menú!$E$6=\"Micro\",\"M\",IF(Menú!$E$6=\"Pequeña\",\"P\",IF(Menú!$E$6=\"Mediana\",\"Me\",IF(Menú!$E$6=\"Grande\",\"G\",\" \" ))))","v":" "},{"$f":"I54","v":0},"5.23- -0",{"$f":"IFERROR(VLOOKUP(E54,Calificación!$E$2:$F$1020,2,FALSE),0)","v":0},null,"Innovación de Empaque"]
[null,"5.24",{"$f":"IF(Menú!$E$6=\"Micro\",\"M\",IF(Menú!$E$6=\"Pequeña\",\"P\",IF(Menú!$E$6=\"Mediana\",\"Me\",IF(Menú!$E$6=\"Grande\",\"G\",\" \" ))))","v":" "},{"$f":"I55","v":0},"5.24- -0",{"$f":"IFERROR(VLOOKUP(E55,Calificación!$E$2:$F$1020,2,FALSE),0)","v":0},null,"Innovación en Comunicación"]
[]
[null,"ESTE DOCUMENTO Y LOS CONTENIDOS EN ÉL INCLUIDOS SE ENCUENTRAN PROTEGIDOS POR LAS NORMAS DE PROPIEDAD INTELECTUAL. LA PONTIFICIA UNIVERSIDAD JAVERIANA SE RESERVA EL DERECHO DE AUTORIZAR O PROHIBIR CUALQUIER USO O EXPLOTACIÓN DISTINTO PARA EL QUE FUERON CREADOS. LO ANTERIOR, SO PENA DE LAS SANCIONES Y ACCIONES ESTABLECIDAS EN LA LEY.\""]

{"sheet":"3.Residuos","index":3,"n_rows":65,"n_cols":11,"rows_kept":65,"cut":false,"hidden":false,"merged":[[64,1,68,9],[63,6,63,7],[61,6,61,7],[62,6,62,7],[48,6,48,7],[57,6,57,7],[27,6,27,7],[54,6,54,7],[35,6,35,7],[40,6,40,7],[7,1,7,9],[11,6,11,7],[13,6,13,7],[16,6,16,7],[17,6,17,7],[3,6,3,9],[5,1,5,3],[5,6,5,9],[24,1,24,3],[21,6,21,7],[24,6,24,8]]}
[]
[null,null,null,null,null,null,"Menú","Volver criterio anterior","Siguiente Criterio"]
[]
[null,null,null,null,null,"Criterio Sostenible","GESTIÓN DE LOS RESIDUOS"]
[]
[null,"No. ",null,null,null,"Total","REINCORPORACIÓN AL CICLO PRODUCTIVO"]
[]
[null,"**Seleccione su respuesta de la lista desplegable que se encuentra en los recuadros de color azul"]
[]
[null,null,null,null,null,{"$f":"F12+F17+F21","v":0}]
[null,null,null,null,null,null,null,null,"Seleccione la opción"]
[null,"6.1",{"$f":"IF(Menú!$E$6=\"Micro\",\"M\",IF(Menú!$E$6=\"Pequeña\",\"P\",IF(Menú!$E$6=\"Mediana\",\"Me\",IF(Menú!$E$6=\"Grande\",\"G\",\" \" ))))","v":" "},{"$f":"I12","v":0},{"$f":"CONCATENATE(B12,\"-\",C12,\"-\",D12)","v":"6.1- -0"},{"$f":"IFERROR(VLOOKUP(E12,Calificación!$E$2:$F$1020,2,FALSE),0)","v":0},"¿Su empresa incorpora en su ciclo productivo materiales previamente utilizados en la elaboración de otros productos y/o procesos?"]
[null,null,null,null,null,null,null,"Si su respuesta es NO, diríjase a la pregunta 6.3"]
[]
[]
[null,null,null,null,null,null,null,null,"Seleccione la opción"]
[null,"6.2",{"$f":"IF(Menú!$E$6=\"Micro\",\"M\",IF(Menú!$E$6=\"Pequeña\",\"P\",IF(Menú!$E$6=\"Mediana\",\"Me\",IF(Menú!$E$6=\"Grande\",\"G\",\" \" ))))","v":" "},{"$f":"I17","v":0},{"$f":"CONCATENATE(B17,\"-\",C17,\"-\",D17)","v":"6.2- -0"},{"$f":"IFERROR(VLOOKUP(E17,Calificación!$E$2:$F$1020,2,FALSE),0)","v":0},"¿Qué porcentaje de materiales previamente utilizados en la elaboración de otros productos y/o proceso, incorpora en su ciclo productivo?"]
[null,null,null,null,null,null," Adjunte la información de soporte en el Formato de Evidencia"]
[]
[null,null,null,null,null,null,null,null,"Seleccione la opción"]
[null,"6.3",{"$f":"IF(Menú!$E$6=\"Micro\",\"M\",IF(Menú!$E$6=\"Pequeña\",\"P\",IF(Menú!$E$6=\"Mediana\",\"Me\",IF(Menú!$E$6=\"Grande\",\"G\",\" \" ))))","v":" "},{"$f":"I21","v":0},{"$f":"CONCATENATE(B21,\"-\",C21,\"-\",D21)","v":"6.3- -0"},{"$f":"IFERROR(VLOOKUP(E21,Calificación!$E$2:$F$1020,2,FALSE),0)","v":0},null,"¿Su empresa incorpora aguas residuales tratadas provenientes de sus actividades en sus procesos productivos?"]
[null,null,null,null,null,null," Adjunte la información de soporte en el Formato de Evidencia"]
[]
[]
[null,"No. ",null,null,null,{"$f":"F28+F33+F34+F35+F36+F37+F38+F39+F40+F44+F45+F46+F47+F48+F52+F53+F54+F55+F56+F57+F62","v":0},"GESTIÓN DE LOS RESIDUOS PROPIOS (SÓLIDOS, LÍQUIDOS, GASEOSOS) "]
[]
[null,null,null,null,null,null,null,null,"Seleccione la opción"]
[null,"7.1",{"$f":"IF(Menú!$E$6=\"Micro\",\"M\",IF(Menú!$E$6=\"Pequeña\",\"P\",IF(Menú!$E$6=\"Mediana\",\"Me\",IF(Menú!$E$6=\"Grande\",\"G\",\" \" ))))","v":" "},{"$f":"I28","v":0},{"$f":"CONCATENATE(B28,\"-\",C28,\"-\",D28)","v":"7.1- -0"},{"$f":"IFERROR(VLOOKUP(E28,Calificación!$E$2:$F$1020,2,FALSE),0)","v":0},"¿Su empresa cuenta con un plan de gestión integral de los residuos?"]
[]
[]
[]
[null,null,null,null,null,null,null,null,"Seleccione la opción"]
[null,"7.2",{"$f":"IF(Menú!$E$6=\"Micro\",\"M\",IF(Menú!$E$6=\"Pequeña\",\"P\",IF(Menú!$E$6=\"Mediana\",\"Me\",IF(Menú!$E$6=\"Grande\",\"G\",\" \" ))))","v":" "},{"$f":"J33","v":0},{"$f":"CONCATENATE(B33,\"-\",C33,\"-\",D33)","v":"7.2- -0"},{"$f":"IFERROR(VLOOKUP(E33,Calificación!$E$2:$F$1020,2,FALSE),0)","v":0},null,"¿Cuáles acciones de reducción de residuos realiza en su empresa? Si su respuesta es \"otra\" especifique ¿Cuál?","Disminución en el uso de empaques y embalajes"]
[null,"7.21",{"$f":"IF(Menú!$E$6=\"Micro\",\"M\",IF(Menú!$E$6=\"Pequeña\",\"P\",IF(Menú!$E$6=\"Mediana\",\"Me\",IF(Menú!$E$6=\"Grande\",\"G\",\" \" ))))","v":" "},{"$f":"J34","v":0},{"$f":"CONCATENATE(B34,\"-\",C34,\"-\",D34)","v":"7.21- -0"},{"$f":"IFERROR(VLOOKUP(E34,Calificación!$E$2:$F$1020,2,FALSE),0)","v":0},null," Adjunte la información de soporte en el Formato de Evidencia","Disminución en el uso de materias primas"]
[null,"7.22",{"$f":"IF(Menú!$E$6=\"Micro\",\"M\",IF(Menú!$E$6=\"Pequeña\",\"P\",IF(Menú!$E$6=\"Mediana\",\"Me\",IF(Menú!$E$6=\"Grande\",\"G\",\" \" ))))","v":" "},0,"7.22- -0",{"$f":"IFERROR(VLOOKUP(E35,Calificación!$E$2:$F$1020,2,FALSE),0)","v":0},null,null,"Digitalización de documentos"]
[null,"7.23",{"$f":"IF(Menú!$E$6=\"Micro\",\"M\",IF(Menú!$E$6=\"Pequeña\",\"P\",IF(Menú!$E$6=\"Mediana\",\"Me\",IF(Menú!$E$6=\"Grande\",\"G\",\" \" ))))","v":" "},0,"7.23- -0",{"$f":"IFERROR(VLOOKUP(E36,Calificación!$E$2:$F$1020,2,FALSE),0)","v":0},null,null,"Acciones de impresión inteligente"]
[null,"7.24",{"$f":"IF(Menú!$E$6=\"Micro\",\"M\",IF(Menú!$E$6=\"Pequeña\",\"P\",IF(Menú!$E$6=\"Mediana\",\"Me\",IF(Menú!$E$6=\"Grande\",\"G\",\" \" ))))","v":" "},0,"7.24- -0",{"$f":"IFERROR(VLOOKUP(E37,Calificación!$E$2:$F$1020,2,FALSE),0)","v":0},null,null,"Implementación de baterías sanitarias ahorradoras"]
[null,"7.25",{"$f":"IF(Menú!$E$6=\"Micro\",\"M\",IF(Menú!$E$6=\"Pequeña\",\"P\",IF(Menú!$E$6=\"Mediana\",\"Me\",IF(Menú!$E$6=\"Grande\",\"G\",\" \" ))))","v":" "},0,"7.25- -0",{"$f":"IFERROR(VLOOKUP(E38,Calificación!$E$2:$F$1020,2,FALSE),0)","v":0},null,null,"Compactadoras de residuos"]
[null,"7.26",{"$f":"IF(Menú!$E$6=\"Micro\",\"M\",IF(Menú!$E$6=\"Pequeña\",\"P\",IF(Menú!$E$6=\"Mediana\",\"Me\",IF(Menú!$E$6=\"Grande\",\"G\",\" \" ))))","v":" "},0,"7.26- -0",{"$f":"IFERROR(VLOOKUP(E39,Calificación!$E$2:$F$1020,2,FALSE),0)","v":0},null,null,"Aumento ciclo de vida de productos"]
[null,"7.27",{"$f":"IF(Menú!$E$6=\"Micro\",\"M\",IF(Menú!$E$6=\"Pequeña\",\"P\",IF(Menú!$E$6=\"Mediana\",\"Me\",IF(Menú!$E$6=\"Grande\",\"G\",\" \" ))))","v":" "},0,"7.27- -0",{"$f":"IFERROR(VLOOKUP(E40,Calificación!$E$2:$F$1020,2,FALSE),0)","v":0},null,null,"Otra",null," ¿Cuál?"]
[]
[]
[null,null,null,null,null,null,null,null,"Seleccione la opción"]
[null,"7.3",{"$f":"IF(Menú!$E$6=\"Micro\",\"M\",IF(Menú!$E$6=\"Pequeña\",\"P\",IF(Menú!$E$6=\"Mediana\",\"Me\",IF(Menú!$E$6=\"Grande\",\"G\",\" \" ))))","v":" "},{"$f":"J44","v":0},{"$f":"CONCATENATE(B44,\"-\",C44,\"-\",D44)","v":"7.3- -0"},{"$f":"IFERROR(VLOOKUP(E44,Calificación!$E$2:$F$1020,2,FALSE),0)","v":0},null,"¿Cuáles acciones de reutilización de residuos realiza en su empresa? Si su respuesta es \"otra\" especifique ¿Cuál?","Reincorporación de materias primas en sus procesos"]
[null,"7.31",{"$f":"IF(Menú!$E$6=\"Micro\",\"M\",IF(Menú!$E$6=\"Pequeña\",\"P\",IF(Menú!$E$6=\"Mediana\",\"Me\",IF(Menú!$E$6=\"Grande\",\"G\",\" \" ))))","v":" "},{"$f":"J45","v":0},{"$f":"CONCATENATE(B45,\"-\",C45,\"-\",D45)","v":"7.31- -0"},{"$f":"IFERROR(VLOOKUP(E45,Calificación!$E$2:$F$1020,2,FALSE),0)","v":0},null," Adjunte la información de soporte en el Formato de Evidencia","Uso de residuos en nuevos procesos"]
[null,"7.32",{"$f":"IF(Menú!$E$6=\"Micro\",\"M\",IF(Menú!$E$6=\"Pequeña\",\"P\",IF(Menú!$E$6=\"Mediana\",\"Me\",IF(Menú!$E$6=\"Grande\",\"G\",\" \" ))))","v":" "},0,"7.32- -0",{"$f":"IFERROR(VLOOKUP(E46,Calificación!$E$2:$F$1020,2,FALSE),0)","v":0},null,null,"Transformación de residuos en nuevos productos"]
[null,"7.34",{"$f":"IF(Menú!$E$6=\"Micro\",\"M\",IF(Menú!$E$6=\"Pequeña\",\"P\",IF(Menú!$E$6=\"Mediana\",\"Me\",IF(Menú!$E$6=\"Grande\",\"G\",\" \" ))))","v":" "},0,"7.34- -0",{"$f":"IFERROR(VLOOKUP(E47,Calificación!$E$2:$F$1020,2,FALSE),0)","v":0},null,null,"Reutilización de activos fijos, materiales y/o insumos"]
[null,"7.35",{"$f":"IF(Menú!$E$6=\"Micro\",\"M\",IF(Menú!$E$6=\"Pequeña\",\"P\",IF(Menú!$E$6=\"Mediana\",\"Me\",IF(Menú!$E$6=\"Grande\",\"G\",\" \" ))))","v":" "},{"$f":"J48","v":0},{"$f":"CONCATENATE(B48,\"-\",C48,\"-\",D48)","v":"7.35- -0"},{"$f":"IFERROR(VLOOKUP(E48,Calificación!$E$2:$F$1020,2,FALSE),0)","v":0},null,null,"Otra",null," ¿Cuál?"]
[]
[]
[null,null,null,null,null,null,null,null,"Seleccione la opción"]
[null,"7.4",{"$f":"IF(Menú!$E$6=\"Micro\",\"M\",IF(Menú!$E$6=\"Pequeña\",\"P\",IF(Menú!$E$6=\"Mediana\",\"Me\",IF(Menú!$E$6=\"Grande\",\"G\",\" \" ))))","v":" "},{"$f":"J52","v":0},{"$f":"CONCATENATE(B52,\"-\",C52,\"-\",D52)","v":"7.4- -0"},{"$f":"IFERROR(VLOOKUP(E52,Calificación!$E$2:$F$1020,2,FALSE),0)","v":0},null,"¿Cuáles acciones de reciclaje de residuos realiza en su empresa? Si su respuesta es \"otra\" especifique ¿Cuál?","Implementación de código de colores"]
[null,"7.41",{"$f":"IF(Menú!$E$6=\"Micro\",\"M\",IF(Menú!$E$6=\"Pequeña\",\"P\",IF(Menú!$E$6=\"Mediana\",\"Me\",IF(Menú!$E$6=\"Grande\",\"G\",\" \" ))))","v":" "},{"$f":"J53","v":0},{"$f":"CONCATENATE(B53,\"-\",C53,\"-\",D53)","v":"7.41- -0"},{"$f":"IFERROR(VLOOKUP(E53,Calificación!$E$2:$F$1020,2,FALSE),0)","v":0},null," Adjunte la información de soporte en el Formato de Evidencia","Separación en la fuente"]
[null,"7.42",{"$f":"IF(Menú!$E$6=\"Micro\",\"M\",IF(Menú!$E$6=\"Pequeña\",\"P\",IF(Menú!$E$6=\"Mediana\",\"Me\",IF(Menú!$E$6=\"Grande\",\"G\",\" \" ))))","v":" "},0,"7.42- -0",{"$f":"IFERROR(VLOOKUP(E54,Calificación!$E$2:$F$1020,2,FALSE),0)","v":0},null,null,"Instalación de puntos ecológicos"]
[null,"7.43",{"$f":"IF(Menú!$E$6=\"Micro\",\"M\",IF(Menú!$E$6=\"Pequeña\",\"P\",IF(Menú!$E$6=\"Mediana\",\"Me\",IF(Menú!$E$6=\"Grande\",\"G\",\" \" ))))","v":" "},0,"7.43- -0",{"$f":"IFERROR(VLOOKUP(E55,Calificación!$E$2:$F$1020,2,FALSE),0)","v":0},null,null,"Rutas sanitarias"]
[null,"7.44",{"$f":"IF(Menú!$E$6=\"Micro\",\"M\",IF(Menú!$E$6=\"Pequeña\",\"P\",IF(Menú!$E$6=\"Mediana\",\"Me\",IF(Menú!$E$6=\"Grande\",\"G\",\" \" ))))","v":" "},0,"7.44- -0",{"$f":"IFERROR(VLOOKUP(E56,Calificación!$E$2:$F$1020,2,FALSE),0)","v":0},null,null,"Entrega a gestores externos"]
[null,"7.45",{"$f":"IF(Menú!$E$6=\"Micro\",\"M\",IF(Menú!$E$6=\"Pequeña\",\"P\",IF(Menú!$E$6=\"Mediana\",\"Me\",IF(Menú!$E$6=\"Grande\",\"G\",\" \" ))))","v":" "},0,"7.45- -0",{"$f":"IFERROR(VLOOKUP(E57,Calificación!$E$2:$F$1020,2,FALSE),0)","v":0},null,null,"Otra",null," ¿Cuál?"]
[]
[]
[]
[null,null,null,null,null,null,null,null,"Seleccione la opción"]
[null,"7.7",{"$f":"IF(Menú!$E$6=\"Micro\",\"M\",IF(Menú!$E$6=\"Pequeña\",\"P\",IF(Menú!$E$6=\"Mediana\",\"Me\",IF(Menú!$E$6=\"Grande\",\"G\",\" \" ))))","v":" "},{"$f":"I62","v":0},{"$f":"CONCATENATE(B62,\"-\",C62,\"-\",D62)","v":"7.7- -0"},{"$f":"IFERROR(VLOOKUP(E62,Calificación!$E$2:$F$1020,2,FALSE),0)","v":0},"¿Actualmente su organización tiene un proceso de control de emisiones?"]
[null,null,null,null,null,null," Adjunte la información de soporte en el Formato de Evidencia"]
[]
[null,"ESTE DOCUMENTO Y LOS CONTENIDOS EN ÉL INCLUIDOS SE ENCUENTRAN PROTEGIDOS POR LAS NORMAS DE PROPIEDAD INTELECTUAL. LA PONTIFICIA UNIVERSIDAD JAVERIANA SE RESERVA EL DERECHO DE AUTORIZAR O PROHIBIR CUALQUIER USO O EXPLOTACIÓN DISTINTO PARA EL QUE FUERON CREADOS. LO ANTERIOR, SO PENA DE LAS SANCIONES Y ACCIONES ESTABLECIDAS EN LA LEY.\""]

{"sheet":"4. RSE","index":4,"n_rows":88,"n_cols":10,"rows_kept":88,"cut":false,"hidden":false,"merged":[[86,6,86,7],[87,1,89,11],[3,6,3,7],[5,1,5,2],[5,6,5,11],[82,6,82,11],[82,1,82,2],[9,1,9,11],[43,6,43,7],[47,6,47,7],[52,6,52,7],[57,6,57,7]]}
[]
[null,null,null,null,null,null,"Menú","Volver criterio anterior"]
[]
[null,null,null,null,null,"Criterio Sostenible","RESPONSABILIDAD SOCIAL EMPRESARIAL"]
[]
[null,"No.",null,null,null,"Total","POLÍTICAS DE RESPONSABILIDAD SOCIAL Y AMBIENTAL"]
[]
[null,null,null,null,null,{"$f":"F10+F83","v":0}]
[null,null,null,null,null,{"$f":"F13+F14+F15+F16+F20+F21+F22+F23+F27+F28+F29+F30+F31+F35+F36+F37+F38+F39+F43+F47+F57+F52+F62+F63+F64+F65+F66+F71+F72+F73+F77+F78+F79","v":0}]
[null,"**Seleccione su respuesta de la lista desplegable que se encuentra en los recuadros de color azul"]
[]
[null,null,null,null,null,null,null,"Seleccione la opción"]
[null,"8.1",{"$f":"IF(Menú!$E$6=\"Micro\",\"M\",IF(Menú!$E$6=\"Pequeña\",\"P\",IF(Menú!$E$6=\"Mediana\",\"Me\",IF(Menú!$E$6=\"Grande\",\"G\",\" \" ))))","v":" "},{"$f":"I13","v":0},{"$f":"CONCATENATE(B13,\"-\",C13,\"-\",D13)","v":"8.1- -0"},{"$f":"IFERROR(VLOOKUP(E13,Calificación!$E$2:$F$1078,2,FALSE),0)","v":0},"Su organización cuenta con estrategias y/o programa de preservación de flora","Bonos de carbono,"]
[null,"8.11",{"$f":"IF(Menú!$E$6=\"Micro\",\"M\",IF(Menú!$E$6=\"Pequeña\",\"P\",IF(Menú!$E$6=\"Mediana\",\"Me\",IF(Menú!$E$6=\"Grande\",\"G\",\" \" ))))","v":" "},{"$f":"I14","v":0},{"$f":"CONCATENATE(B14,\"-\",C14,\"-\",D14)","v":"8.11- -0"},{"$f":"IFERROR(VLOOKUP(E14,Calificación!$E$2:$F$1078,2,FALSE),0)","v":0},"                                                                 Adjunte la información de soporte en el Formato de Evidencia","Bonos verdes "]
[null,"8.12",{"$f":"IF(Menú!$E$6=\"Micro\",\"M\",IF(Menú!$E$6=\"Pequeña\",\"P\",IF(Menú!$E$6=\"Mediana\",\"Me\",IF(Menú!$E$6=\"Grande\",\"G\",\" \" ))))","v":" "},0,"8.12- -0",{"$f":"IFERROR(VLOOKUP(E15,Calificación!$E$2:$F$1078,2,FALSE),0)","v":0},null,"inversiones en protección de especies amenazadas"]
[null,"8.13",{"$f":"IF(Menú!$E$6=\"Micro\",\"M\",IF(Menú!$E$6=\"Pequeña\",\"P\",IF(Menú!$E$6=\"Mediana\",\"Me\",IF(Menú!$E$6=\"Grande\",\"G\",\" \" ))))","v":" "},0,"8.13- -0",{"$f":"IFERROR(VLOOKUP(E16,Calificación!$E$2:$F$1078,2,FALSE),0)","v":0},null,"Otra ",null," ¿Cuál?"]
[]
[]
[null,null,null,null,null,null,null,"Seleccione la opción"]
[null,"8.2",{"$f":"IF(Menú!$E$6=\"Micro\",\"M\",IF(Menú!$E$6=\"Pequeña\",\"P\",IF(Menú!$E$6=\"Mediana\",\"Me\",IF(Menú!$E$6=\"Grande\",\"G\",\" \" ))))","v":" "},{"$f":"I20","v":0},{"$f":"CONCATENATE(B20,\"-\",C20,\"-\",D20)","v":"8.2- -0"},{"$f":"IFERROR(VLOOKUP(E20,Calificación!$E$2:$F$10201,2,FALSE),0)","v":0},"Su organización cuenta con estrategias y/o programa de preservación de fauna silvestre (u otra)","inversiones en protección de especies amenazadas"]
[null,"8.21",{"$f":"IF(Menú!$E$6=\"Micro\",\"M\",IF(Menú!$E$6=\"Pequeña\",\"P\",IF(Menú!$E$6=\"Mediana\",\"Me\",IF(Menú!$E$6=\"Grande\",\"G\",\" \" ))))","v":" "},{"$f":"I21","v":0},{"$f":"CONCATENATE(B21,\"-\",C21,\"-\",D21)","v":"8.21- -0"},{"$f":"IFERROR(VLOOKUP(E21,Calificación!$E$2:$F$10201,2,FALSE),0)","v":0},"                                                                 Adjunte la información de soporte en el Formato de Evidencia","compensaciones por pérdida de biodiversidad"]
[null,"8.22",{"$f":"IF(Menú!$E$6=\"Micro\",\"M\",IF(Menú!$E$6=\"Pequeña\",\"P\",IF(Menú!$E$6=\"Mediana\",\"Me\",IF(Menú!$E$6=\"Grande\",\"G\",\" \" ))))","v":" "},{"$f":"I22","v":0},"8.22- -0",{"$f":"IFERROR(VLOOKUP(E22,Calificación!$E$2:$F$10201,2,FALSE),0)","v":0},null,"Inversiones en conservación de biodiversidad"]
[null,"8.23",{"$f":"IF(Menú!$E$6=\"Micro\",\"M\",IF(Menú!$E$6=\"Pequeña\",\"P\",IF(Menú!$E$6=\"Mediana\",\"Me\",IF(Menú!$E$6=\"Grande\",\"G\",\" \" ))))","v":" "},{"$f":"I23","v":0},"8.23- -0",{"$f":"IFERROR(VLOOKUP(E23,Calificación!$E$2:$F$10201,2,FALSE),0)","v":0},null,"Otra ",null," ¿Cuál?"]
[]
[]
[null,null,null,null,null,null,null,"Seleccione la opción"]
[null,"8.3",{"$f":"IF(Menú!$E$6=\"Micro\",\"M\",IF(Menú!$E$6=\"Pequeña\",\"P\",IF(Menú!$E$6=\"Mediana\",\"Me\",IF(Menú!$E$6=\"Grande\",\"G\",\" \" ))))","v":" "},{"$f":"I27","v":0},{"$f":"CONCATENATE(B27,\"-\",C27,\"-\",D27)","v":"8.3- -0"},{"$f":"IFERROR(VLOOKUP(E27,Calificación!$E$2:$F$1078,2,FALSE),0)","v":0},"Su organización cuenta con espacios de esparcimiento para sus empleados que fomenten su vida familiar, personal y laboral","Dia libre por cumpleaños "]
[null,"8.31",{"$f":"IF(Menú!$E$6=\"Micro\",\"M\",IF(Menú!$E$6=\"Pequeña\",\"P\",IF(Menú!$E$6=\"Mediana\",\"Me\",IF(Menú!$E$6=\"Grande\",\"G\",\" \" ))))","v":" "},{"$f":"I28","v":0},{"$f":"CONCATENATE(B28,\"-\",C28,\"-\",D28)","v":"8.31- -0"},{"$f":"IFERROR(VLOOKUP(E28,Calificación!$E$2:$F$1078,2,FALSE),0)","v":0},"Adjunte la información de soporte en el Formato de Evidencia, Favor no relacionar los entregado por ley.","Dia de Familia "]
[null,"8.32",{"$f":"IF(Menú!$E$6=\"Micro\",\"M\",IF(Menú!$E$6=\"Pequeña\",\"P\",IF(Menú!$E$6=\"Mediana\",\"Me\",IF(Menú!$E$6=\"Grande\",\"G\",\" \" ))))","v":" "},0,"8.32- -0",{"$f":"IFERROR(VLOOKUP(E29,Calificación!$E$2:$F$1078,2,FALSE),0)","v":0},null,"Convivencias "]
[null,"8.33",{"$f":"IF(Menú!$E$6=\"Micro\",\"M\",IF(Menú!$E$6=\"Pequeña\",\"P\",IF(Menú!$E$6=\"Mediana\",\"Me\",IF(Menú!$E$6=\"Grande\",\"G\",\" \" ))))","v":" "},0,"8.33- -0",{"$f":"IFERROR(VLOOKUP(E30,Calificación!$E$2:$F$1078,2,FALSE),0)","v":0},null,"Eventos Especiales"]
[null,"8.34",{"$f":"IF(Menú!$E$6=\"Micro\",\"M\",IF(Menú!$E$6=\"Pequeña\",\"P\",IF(Menú!$E$6=\"Mediana\",\"Me\",IF(Menú!$E$6=\"Grande\",\"G\",\" \" ))))","v":" "},0,"8.34- -0",{"$f":"IFERROR(VLOOKUP(E31,Calificación!$E$2:$F$1078,2,FALSE),0)","v":0},null,"Otra",null," ¿Cuál?"]
[]
[]
[null,null,null,null,null,null,null,"Seleccione la opción"]
[null,"8.4",{"$f":"IF(Menú!$E$6=\"Micro\",\"M\",IF(Menú!$E$6=\"Pequeña\",\"P\",IF(Menú!$E$6=\"Mediana\",\"Me\",IF(Menú!$E$6=\"Grande\",\"G\",\" \" ))))","v":" "},{"$f":"I35","v":0},{"$f":"CONCATENATE(B35,\"-\",C35,\"-\",D35)","v":"8.4- -0"},{"$f":"IFERROR(VLOOKUP(E35,Calificación!$E$2:$F$1078,2,FALSE),0)","v":0},"¿Cuenta con estrategias en su empresa para apoyar a los empleados en su crecimiento personal y profesional?","Apoyo economico para estudios "]
[null,"8.41",{"$f":"IF(Menú!$E$6=\"Micro\",\"M\",IF(Menú!$E$6=\"Pequeña\",\"P\",IF(Menú!$E$6=\"Mediana\",\"Me\",IF(Menú!$E$6=\"Grande\",\"G\",\" \" ))))","v":" "},{"$f":"I36","v":0},{"$f":"CONCATENATE(B36,\"-\",C36,\"-\",D36)","v":"8.41- -0"},{"$f":"IFERROR(VLOOKUP(E36,Calificación!$E$2:$F$1078,2,FALSE),0)","v":0},"                                                                 Adjunte la información de soporte en el Formato de Evidencia","Plan Carrera"]
[null,"8.42",{"$f":"IF(Menú!$E$6=\"Micro\",\"M\",IF(Menú!$E$6=\"Pequeña\",\"P\",IF(Menú!$E$6=\"Mediana\",\"Me\",IF(Menú!$E$6=\"Grande\",\"G\",\" \" ))))","v":" "},0,"8.42- -0",{"$f":"IFERROR(VLOOKUP(E37,Calificación!$E$2:$F$1078,2,FALSE),0)","v":0},null,"Flexibilidad horaria"]
[null,"8.43",{"$f":"IF(Menú!$E$6=\"Micro\",\"M\",IF(Menú!$E$6=\"Pequeña\",\"P\",IF(Menú!$E$6=\"Mediana\",\"Me\",IF(Menú!$E$6=\"Grande\",\"G\",\" \" ))))","v":" "},0,"8.43- -0",{"$f":"IFERROR(VLOOKUP(E38,Calificación!$E$2:$F$1078,2,FALSE),0)","v":0},null,"Becas Universitarias "]
[null,"8.44",{"$f":"IF(Menú!$E$6=\"Micro\",\"M\",IF(Menú!$E$6=\"Pequeña\",\"P\",IF(Menú!$E$6=\"Mediana\",\"Me\",IF(Menú!$E$6=\"Grande\",\"G\",\" \" ))))","v":" "},0,"8.44- -0",{"$f":"IFERROR(VLOOKUP(E39,Calificación!$E$2:$F$1078,2,FALSE),0)","v":0},null,"Otra ",null," ¿Cuál?"]
[]
[]
[null,null,null,null,null,null,null,"Seleccione la opción"]
[null,"8.5",{"$f":"IF(Menú!$E$6=\"Micro\",\"M\",IF(Menú!$E$6=\"Pequeña\",\"P\",IF(Menú!$E$6=\"Mediana\",\"Me\",IF(Menú!$E$6=\"Grande\",\"G\",\" \" ))))","v":" "},{"$f":"H43","v":0},{"$f":"CONCATENATE(B43,\"-\",C43,\"-\",D43)","v":"8.5- -0"},{"$f":"IFERROR(VLOOKUP(E43,Calificación!$E$2:$F$1078,2,FALSE),0)","v":0},"Su organización cuenta con una política de responsabilidad social empresarial y/o con una línea de proyección social"]
[null,null,null,null,null,null,"                                                                 Adjunte la información de soporte en el Formato de Evidencia"]
[]
[null,null,null,null,null,null,null,"Seleccione la opción"]
[null,"8.6",{"$f":"IF(Menú!$E$6=\"Micro\",\"M\",IF(Menú!$E$6=\"Pequeña\",\"P\",IF(Menú!$E$6=\"Mediana\",\"Me\",IF(Menú!$E$6=\"Grande\",\"G\",\" \" ))))","v":" "},{"$f":"H47","v":0},{"$f":"CONCATENATE(B47,\"-\",C47,\"-\",D47)","v":"8.6- -0"},{"$f":"IFERROR(VLOOKUP(E47,Calificación!$E$2:$F$1078,2,FALSE),0)","v":0}," ¿Cuenta con lineamientos y/o políticas en su empresa que favorecen la vinculación laboral de población vulnerable y/o de especial protección constitucional? Es posible incluir además las acciones que atienden la perspectiva de género y todas aquellas que promueven la justicia, la equidad y/o convivencia pacifica"]
[null,null,null,null,null,null,"                                                                 Adjunte la información de soporte en el Formato de Evidencia"]
[]
[]
[null,null,null,null,null,null,null,"Seleccione la opción"]
[null,"8.7",{"$f":"IF(Menú!$E$6=\"Micro\",\"M\",IF(Menú!$E$6=\"Pequeña\",\"P\",IF(Menú!$E$6=\"Mediana\",\"Me\",IF(Menú!$E$6=\"Grande\",\"G\",\" \" ))))","v":" "},{"$f":"H52","v":0},{"$f":"CONCATENATE(B52,\"-\",C52,\"-\",D52)","v":"8.7- -0"},{"$f":"IFERROR(VLOOKUP(E52,Calificación!$E$2:$F$1078,2,FALSE),0)","v":0},"¿Su organización cuenta con lineamientos y/o políticas de inclusión laboral de personas con movilidad reducida y/o personas con otro tipo de discapacidades?"]
[null,null,null,null,null,null,"                                                                 Adjunte la información de soporte en el Formato de Evidencia"]
[]
[]
[null,null,null,null,null,null,null,"Seleccione la opción"]
[null,"8.8",{"$f":"IF(Menú!$E$6=\"Micro\",\"M\",IF(Menú!$E$6=\"Pequeña\",\"P\",IF(Menú!$E$6=\"Mediana\",\"Me\",IF(Menú!$E$6=\"Grande\",\"G\",\" \" ))))","v":" "},{"$f":"H57","v":0},{"$f":"CONCATENATE(B57,\"-\",C57,\"-\",D57)","v":"8.8- -0"},{"$f":"IFERROR(VLOOKUP(E57,Calificación!$E$2:$F$1078,2,FALSE),0)","v":0}," ¿Su organización apoya, económicamente o mediante voluntariado, causas sociales y/o fundaciones donde se involucre a los empleados?"]
[null,null,null,null,null,null,"                                                                 Adjunte la información de soporte en el Formato de Evidencia"]
[]
[]
[null,null,null,null,null,null,null,"Seleccione la opción"]
[null,"8.9",{"$f":"IF(Menú!$E$6=\"Micro\",\"M\",IF(Menú!$E$6=\"Pequeña\",\"P\",IF(Menú!$E$6=\"Mediana\",\"Me\",IF(Menú!$E$6=\"Grande\",\"G\",\" \" ))))","v":" "},{"$f":"I62","v":0},{"$f":"CONCATENATE(B62,\"-\",C62,\"-\",D62)","v":"8.9- -0"},{"$f":"IFERROR(VLOOKUP(E62,Calificación!$E$2:$F$1078,2,FALSE),0)","v":0},"Su organización cuenta con lineamientos y/o políticas de beneficios adicionales para sus empleados","Prima Extralegal "]
[null,"8.91",{"$f":"IF(Menú!$E$6=\"Micro\",\"M\",IF(Menú!$E$6=\"Pequeña\",\"P\",IF(Menú!$E$6=\"Mediana\",\"Me\",IF(Menú!$E$6=\"Grande\",\"G\",\" \" ))))","v":" "},{"$f":"I63","v":0},{"$f":"CONCATENATE(B63,\"-\",C63,\"-\",D63)","v":"8.91- -0"},{"$f":"IFERROR(VLOOKUP(E63,Calificación!$E$2:$F$1078,2,FALSE),0)","v":0},"   Adjunte la información de soporte en el Formato de Evidencia","Bonificaciónes"]
[null,"8.92",{"$f":"IF(Menú!$E$6=\"Micro\",\"M\",IF(Menú!$E$6=\"Pequeña\",\"P\",IF(Menú!$E$6=\"Mediana\",\"Me\",IF(Menú!$E$6=\"Grande\",\"G\",\" \" ))))","v":" "},0,"8.92- -0",{"$f":"IFERROR(VLOOKUP(E64,Calificación!$E$2:$F$1078,2,FALSE),0)","v":0},null,"Bonos de alimentación "]
[null,"8.93",{"$f":"IF(Menú!$E$6=\"Micro\",\"M\",IF(Menú!$E$6=\"Pequeña\",\"P\",IF(Menú!$E$6=\"Mediana\",\"Me\",IF(Menú!$E$6=\"Grande\",\"G\",\" \" ))))","v":" "},0,"8.93- -0",{"$f":"IFERROR(VLOOKUP(E65,Calificación!$E$2:$F$1078,2,FALSE),0)","v":0},null,"Bonos de Gasolina  "]
[null,"8.94",{"$f":"IF(Menú!$E$6=\"Micro\",\"M\",IF(Menú!$E$6=\"Pequeña\",\"P\",IF(Menú!$E$6=\"Mediana\",\"Me\",IF(Menú!$E$6=\"Grande\",\"G\",\" \" ))))","v":" "},0,"8.94- -0",{"$f":"IFERROR(VLOOKUP(E66,Calificación!$E$2:$F$1078,2,FALSE),0)","v":0},null,"Otro ",null," ¿Cuál?"]
[null,null,null,null,null,null,"                                                              "]
[]
[]
[null,null,null,null,null,null,null,"Seleccione la opción"]
[null,"8.10",{"$f":"IF(Menú!$E$6=\"Micro\",\"M\",IF(Menú!$E$6=\"Pequeña\",\"P\",IF(Menú!$E$6=\"Mediana\",\"Me\",IF(Menú!$E$6=\"Grande\",\"G\",\" \" ))))","v":" "},{"$f":"I71","v":0},{"$f":"CONCATENATE(B71,\"-\",C71,\"-\",D71)","v":"8.10- -0"},{"$f":"IFERROR(VLOOKUP(E71,Calificación!$E$2:$F$1078,2,FALSE),0)","v":0},"¿Cuenta con iniciativas en materia de comunicación organizacional para informar, sensibilizar o influir en los comportamientos favorables en torno a la protección socio ambiental en el ámbito laboral de su empresa?","Correo eletronicos"]
[null,8101,{"$f":"IF(Menú!$E$6=\"Micro\",\"M\",IF(Menú!$E$6=\"Pequeña\",\"P\",IF(Menú!$E$6=\"Mediana\",\"Me\",IF(Menú!$E$6=\"Grande\",\"G\",\" \" ))))","v":" "},{"$f":"I72","v":0},{"$f":"CONCATENATE(B72,\"-\",C72,\"-\",D72)","v":"8101- -0"},{"$f":"IFERROR(VLOOKUP(E72,Calificación!$E$2:$F$1078,2,FALSE),0)","v":0},"                                                                 Adjunte la información de soporte en el Formato de Evidencia","Capacitaciones "]
[null,8102,{"$f":"IF(Menú!$E$6=\"Micro\",\"M\",IF(Menú!$E$6=\"Pequeña\",\"P\",IF(Menú!$E$6=\"Mediana\",\"Me\",IF(Menú!$E$6=\"Grande\",\"G\",\" \" ))))","v":" "},0,"8102- -0",{"$f":"IFERROR(VLOOKUP(E73,Calificación!$E$2:$F$1078,2,FALSE),0)","v":0},null,"Otro ",null," ¿Cuál?"]
[]
[]
[null,null,null,null,null,null,null,"Seleccione la opción"]
[null,"8.111",{"$f":"IF(Menú!$E$6=\"Micro\",\"M\",IF(Menú!$E$6=\"Pequeña\",\"P\",IF(Menú!$E$6=\"Mediana\",\"Me\",IF(Menú!$E$6=\"Grande\",\"G\",\" \" ))))","v":" "},{"$f":"I77","v":0},{"$f":"CONCATENATE(B77,\"-\",C77,\"-\",D77)","v":"8.111- -0"},{"$f":"IFERROR(VLOOKUP(E77,Calificación!$E$2:$F$1078,2,FALSE),0)","v":0},"¿Cuenta con estrategias de marketing para ganar legitimidad y confianza frente a sus clientes en materia de responsabilidad social?","Pagina Web"]
[null,8112,{"$f":"IF(Menú!$E$6=\"Micro\",\"M\",IF(Menú!$E$6=\"Pequeña\",\"P\",IF(Menú!$E$6=\"Mediana\",\"Me\",IF(Menú!$E$6=\"Grande\",\"G\",\" \" ))))","v":" "},{"$f":"I78","v":0},{"$f":"CONCATENATE(B78,\"-\",C78,\"-\",D78)","v":"8112- -0"},{"$f":"IFERROR(VLOOKUP(E78,Calificación!$E$2:$F$1078,2,FALSE),0)","v":0},"                                                                 Adjunte la información de soporte en el Formato de Evidencia","Vallas Publicitarias "]
[null,8113,{"$f":"IF(Menú!$E$6=\"Micro\",\"M\",IF(Menú!$E$6=\"Pequeña\",\"P\",IF(Menú!$E$6=\"Mediana\",\"Me\",IF(Menú!$E$6=\"Grande\",\"G\",\" \" ))))","v":" "},0,"8113- -0",{"$f":"IFERROR(VLOOKUP(E79,Calificación!$E$2:$F$1078,2,FALSE),0)","v":0},null,"Otro ",null," ¿Cuál?"]
[]
[]
[]
[null,"No.",null,null,null,{"$f":"F86","v":0},"SEGURIDAD INDUSTRIAL Y SALUD EN EL TRABAJO"]
[]
[null,null,null,null,null,null,null,"Seleccione la opción"]
[null,"9.1",{"$f":"IF(Menú!$E$6=\"Micro\",\"M\",IF(Menú!$E$6=\"Pequeña\",\"P\",IF(Menú!$E$6=\"Mediana\",\"Me\",IF(Menú!$E$6=\"Grande\",\"G\",\" \" ))))","v":" "},{"$f":"H86","v":0},{"$f":"CONCATENATE(B86,\"-\",C86,\"-\",D86)","v":"9.1- -0"},{"$f":"IFERROR(VLOOKUP(E86,Calificación!$E$2:$F$1020,2,FALSE),0)","v":0}," Su organización cuenta con lineamientos y/o políticas de seguridad industrial y salud ocupacional?"]
[null,null,null,null,null,null,"                                                                 Adjunte la información de soporte en el Formato de Evidencia"]
[null,"ESTE DOCUMENTO Y LOS CONTENIDOS EN ÉL INCLUIDOS SE ENCUENTRAN PROTEGIDOS POR LAS NORMAS DE PROPIEDAD INTELECTUAL. LA PONTIFICIA UNIVERSIDAD JAVERIANA SE RESERVA EL DERECHO DE AUTORIZAR O PROHIBIR CUALQUIER USO O EXPLOTACIÓN DISTINTO PARA EL QUE FUERON CREADOS. LO ANTERIOR, SO PENA DE LAS SANCIONES Y ACCIONES ESTABLECIDAS EN LA LEY."]

{"sheet":"5. Huella de Carbono e Hídrica","index":5,"n_rows":58,"n_cols":14,"rows_kept":58,"cut":false,"hidden":false,"merged":[[5,2,5,13],[7,3,10,13],[11,10,12,13],[71,3,71,5],[57,2,61,5],[30,3,30,9],[11,3,13,3],[11,4,13,4],[11,5,13,5],[11,6,12,9]]}
[]
[]
[null,null,null,"Menú"]
[]
[]
[null,null,"CALCULADORA HUELLA DE CARBONO E HÍDRICA"]
[]
[null,null,null,"La Pontificia Universidad Javeriana consciente de su aporte a la sociedad ha decido crear la herramienta de Calculadora de Huella de Hídrica y Carbono, la cual pone a disposición de los proveedores para que puedan realizar el cálculo de su Huella Hídrica y de Co2 en sus organizaciones. Con esto se tendrá una única forma de medir a nuestros proveedores y lograr ser Carbón Neutro.\n* Para este apartado deberá ingresar la información que considere pertinente y se calcule actualmente en su empresa, los datos se deben ingresar en la columna F que se encuentra resaltada de color amarillo, por favor tener en cuenta las unidades de medias. Con esta información obtendrá los resultados de Huella Hídrica y Co2 de su empresa.\n\n"]
[]
[]
[]
[null,null,null,"ITEM","UNIDAD","CANTIDAD ANUAL","MULTIPLICADOR (*)",null,null,null,"RESULTADOS"]
[]
[null,null,null,null,null,null,"Azul (m3)","Verde (m3)","Gris (m3)","CO2 (ton)","Azul (m3)","Verde (m3)","Gris (m3)","CO2 (ton)"]
[null,null,null,"1.    Energía convencional","kWh",null,15.1,1.7,3,{"$f":"0.2/1000","v":2.0000000000000001E-4},null,{"$f":"+F15*H15","v":0},{"$f":"+I15*F15","v":0},{"$f":"+F15*J15","v":0}]
[null,null,null,"2.    Energía alternativas ","kWh",null,1.5,1.5,1.5,{"$f":"0.04/1000","v":4.0000000000000003E-5},null,{"$f":"+F16*H16","v":0},{"$f":"+I16*F16","v":0},0]
[null,null,null,"3.    Diesel o gasolina soporte energético y movilidad","Galón",null,20.8,1.2,2.5,{"$f":"2.7*3.6","v":9.7200000000000006},{"$f":"+F17*G17","v":0},{"$f":"+F17*H17","v":0},{"$f":"+I17*F17","v":0},0]
[null,null,null,"4.    Gas natural","M3",null,{"$f":"+P18*R18","v":0},{"$f":"+Q18*R18","v":0},250,3.0000000000000001E-3,null,{"$f":"+F18*H18","v":0},0,0]
[null,null,null,"5.    Agua consumida ","M3",null,{"$f":"+P19*R19","v":0},{"$f":"+Q19*R19","v":0},100,2.0000000000000001E-4,{"$f":"+F19*G19","v":0},{"$f":"+F19*H19","v":0},0,0]
[null,null,null,"5.    Agua residual","M3",null,0.9,0.1,1000,{"$f":"(((0.5/1000)*1000*0.6)*25)/1000","v":7.4999999999999997E-3},{"$f":"F20*G20","v":0},{"$f":"F20*H20","v":0},{"$f":"F20*I20","v":0},{"$f":"+F20*J20","v":0}]
[null,null,null,"6.    Productos orgánicos utilizados como materias primas para alimentos","Ton",null,{"$f":"+P21*R21","v":0},0,10,10,{"$f":"+F21*G21","v":0},{"$f":"+F21*H21","v":0},0,{"$f":"+F21*J21","v":0}]
[null,null,null,"7.    Productos orgánicos utilizados como materias primas para otros usos","Ton",null,0,0,2,0.2,null,0,0,0]
[null,null,null,"8.    Metales y aleaciones utilizados con grado de peligrosidad inexistente, ligera o moderada","Ton",null,0,0,5,20,0,0,0,0]
[null,null,null,"9.    Metales pesados utilizados con grado de peligrosidad alto - Ejemplo litio","Kg",null,0,0,2000,15,0,0,0,0]
[null,null,null,"10.  Metales pesados utilizados con grado extremadamente peligrosos - Ejemplo mercurio","Kg",null,0,0,1000,40,0,0,0,0]
[null,null,null,"11.  Productos derivados del petroleo utilizados como materias primas","Ton",null,0,0,250,5,0,0,0,0]
[null,null,null,"12.  Desechos orgánicos generados por alimentos","Ton",null,0,0,20,5,{"$f":"F27*G27","v":0},{"$f":"F27*H27","v":0},{"$f":"+I27*F27","v":0},{"$f":"F27*J27","v":0}]
[null,null,null,"13.  Desechos orgánicos generados por otras materias primas (madera, poda, entre otros)","Ton",null,0,0,2,0.1,{"$f":"+F28*G28","v":0},{"$f":"+F28*H28","v":0},{"$f":"+I28*F28","v":0},{"$f":"+F28*J28","v":0}]
[null,null,null,"14.  Desechos metalicos y aleaciones generados","Ton",null,0,0,10,1,0,0,0,0]
[null,null,null,"15.  Desechos plásticos generados (PET, PVC, Polietileno de alta densidad, entre otros)","Ton",null,0,0,250,10,0,0,0,0]
[null,null,null,"TOTALES (valores absolutos anuales)",null,null,null,null,null,null,{"$f":"SUM(K15:K30)","v":0},{"$f":"SUM(L15:L30)","v":0},{"$f":"SUM(M15:M30)","v":0},{"$f":"SUM(N15:N30)","v":0}]
[]
[]
[]
[null,null,1," Toneladas de CO2 equivalente generadas en el año inmediatmente anterior",{"$f":"N31","v":0},"ton C02/año"]
[null,null,null,"Se debe usar la “Calculadora Huella Hídrica y Carbono (PUJ)”"]
[]
[]
[]
[null,null,2,"Huella hídrica gris anual de su empresa",{"$f":"M31","v":0},"m3"]
[null,null,null,"Se debe usar la “Calculadora Huella Hídrica y Carbono (PUJ)”"]
[]
[]
[]
[null,null,3,"Huella hídrica verde anual de su empresa",{"$f":"L31","v":0},"m3"]
[null,null,null,"Se debe usar la “Calculadora Huella Hídrica y Carbono (PUJ)”"]
[]
[]
[]
[null,null,4,"Huella hídrica azul anual de su empresa",{"$f":"K31","v":0},"m3"]
[null,null,null,"Se debe usar la “Calculadora Huella Hídrica y Carbono (PUJ)”"]
[]
[]
[]
[null,null,5,"Huella hídrica total anual de su empresa",{"$f":"+K31+L31+M31","v":0},"m3"]
[null,null,null,"Se debe usar la “Calculadora Huella Hídrica y Carbono (PUJ)”"]
[]
[null,null,"ESTE DOCUMENTO Y LOS CONTENIDOS EN ÉL INCLUIDOS SE ENCUENTRAN PROTEGIDOS POR LAS NORMAS DE PROPIEDAD INTELECTUAL. LA PONTIFICIA UNIVERSIDAD JAVERIANA SE RESERVA EL DERECHO DE AUTORIZAR O PROHIBIR CUALQUIER USO O EXPLOTACIÓN DISTINTO PARA EL QUE FUERON CREADOS. LO ANTERIOR, SO PENA DE LAS SANCIONES Y ACCIONES ESTABLECIDAS EN LA LEY."]

{"sheet":"6.Calculadora Huella-homeoffice","index":6,"n_rows":24,"n_cols":21,"rows_kept":24,"cut":false,"hidden":false,"merged":[[1,3,1,13],[2,1,2,13],[3,1,3,13],[4,1,4,13],[5,1,5,20],[10,17,10,20],[7,15,7,20],[8,1,8,20],[9,1,9,16],[10,1,11,1],[10,2,11,3],[10,4,11,4],[10,5,11,5],[10,6,11,6],[10,7,11,7],[10,8,11,8],[6,1,7,3],[6,4,7,6],[6,9,6,14],[6,15,6,20],[7,7,7,14],[12,13,16,13],[12,14,16,14],[12,15,16,15],[12,16,16,16],[10,9,11,9],[10,10,11,10],[10,11,11,11],[10,12,11,12],[10,13,10,16],[19,2,19,3],[19,5,19,6],[19,7,19,8],[12,17,16,17],[12,18,16,18],[17,1,17,16],[17,17,17,20],[18,2,18,3],[18,5,18,6],[18,7,18,8],[12,19,16,19],[12,20,16,20],[13,2,13,3],[14,2,14,3],[12,2,12,3],[12,12,16,12],[23,1,23,16],[20,1,20,16],[20,17,20,20],[21,2,21,3],[21,5,21,6],[21,7,21,8],[22,2,22,3],[22,5,22,6],[22,7,22,8]]}
[]
[]
[null,"CALCULADORA DE HUELLA HÍDRICA Y CARBONO ",null,null,null,null,null,null,null,null,null,null,null,null,"2022-07-26"]
[null,"FORMULARIO SOSTENIBILIDAD BIENES Y SERVICIOS",null,null,null,null,null,null,null,null,null,null,null,null,"Dias Laborales",246]
[null,"DIRECTRIZ DE COMPRAS RESPONSABLES Y SOSTENBILES",null,null,null,null,null,null,null,null,null,null,null,null,"X"]
[null,"La Pontificia Universidad Javeriana consciente de su aporte a la sociedad ha decidido crear la herramienta de Calculadora de Huella de Hídrica y Carbono, la cual pone a disposición de los proveedores para que puedan realizar el cálculo de su Huella Hídrica y de Co2 en sus organizaciones. Con esto se tendrá una única forma de medir a nuestros proveedores y lograr ser Carbón Neutro.\nNota: Para la sección de Energía Convencionaldebe seleccionar los recursos que como empleador entrega a sus colaboradores, eligiendo de las listas desplegables de la columna J los ítems 1 y/o 2 según sea el caso. Con esta información obtendrá los resultados de Huella Hídrica y Co2 de su empresa.\nLos campos en amarillos son obligatorios."]
[null,"Proveedor Razón Social",null,null,null,null,null,"Nit:",null,"Fecha Diligenciamiento"]
[null,null,null,null,null,null,null,"N° de empleados "]
[null,"RECURSOS CONSUMIDOS"]
[null,"Energía convencional"]
[null,"Item","Descripción ",null,"Unidad de medida","Consumo/h","Consumo diario Laboral","Total KW ","Consumo anual/ kw Hora ","Uso","Condicional ","Utilizados","Total Energia Convencional","Multiplicadores",null,null,null,"Resultados"]
[null,null,null,null,null,null,null,null,null,null,null,null,null,"Azul (m3)","Verde (m3)","Gris (m3)","CO2 (ton)","Azul (m3)","Verde (m3)","Gris (m3)","CO2 (ton)"]
[null,1,"Computador de escritorio ",null,"w",69,"8",{"$f":"F13*G13","v":552},{"$f":"H13*$P$4/1000","v":135.792},null,{"$f":"IF(J13=\"X\",\"1\",IF(J13=\"\",\"0 \",\" \" ))","v":"0 "},{"$f":"(K13*I13)","v":0},{"$f":"SUM(L13:L17)","v":0},15.1,1.7,3,{"$f":"0.2/1000","v":2.0000000000000001E-4},{"$f":"N13*$M$13","v":0},{"$f":"O13*$M$13","v":0},{"$f":"P13*$M$13","v":0},{"$f":"Q13*$M$13","v":0}]
[null,2,"Computador Portatil",null,"w",34,"8",{"$f":"F14*G14","v":272},66.912000000000006,null,{"$f":"IF(J14=\"X\",\"1\",IF(J14=\"\",\"0 \",\" \" ))","v":"0 "},{"$f":"(K14*I14)","v":0}]
[null,3,"Bombilla  bajo consumo",null,"w",13,"8",104,25.584,null,"0 ",0]
[null,4,"Modem de internet ",null,"w",20,"8",160,39.36,null,"0 ",0]
[null,5,"Celular con cargador",null,"w",15,1,{"$f":"F17*G17","v":15},{"$f":"H17*$P$4/1000","v":3.69},null,"0 ",0]
[null,"Agua consumida",null,null,null,null,null,null,null,null,null,null,null,null,null,null,null,"Resultados"]
[null,"Item","Descripción ",null,"Unidad de medida","Consumo diario Laboral",null,"Consumo anual/ Lt ",null,"Uso","Condicional ","Utilizados","Total agua Consumida ","Azul (m3)","Verde (m3)","Gris (m3)","CO2 (ton)","Azul (m3)","Verde (m3)","Gris (m3)","CO2 (ton)"]
[null,1,"Grifos y Sanitarios ",null,"Lt","30 ",null,{"$f":"F20*P4/1000","v":7.38},null,null,{"$f":"IF(J20=\"X\",\"1\",IF(J20=\"\",\"0 \",\" \" ))","v":"0 "},{"$f":"(K20*H20)","v":0},{"$f":"L20","v":0},0.9,0.1,100,2.0000000000000001E-4,{"$f":"N20*$M$20","v":0},{"$f":"O20*$M$20","v":0},{"$f":"P20*$M$20","v":0},{"$f":"Q20*$M$20","v":0}]
[null,"Residuos",null,null,null,null,null,null,null,null,null,null,null,null,null,null,null,"Resultados"]
[null,"Item","Descripción ",null,"Unidad de medida","Consumo diario Laboral",null,"Consumo anual/ toneladas",null,"Uso","Condicional ","Utilizados","Total Residuos ","Azul (m3)","Verde (m3)","Gris (m3)","CO2 (ton)","Azul (m3)","Verde (m3)","Gris (m3)","CO2 (ton)"]
[null,1,"Cantidad  de residuos ",null,"Gr",500,null,{"$f":"F23*P4/1000000","v":0.123},null,null,{"$f":"IF(J23=\"X\",\"1\",IF(J23=\"\",\"0 \",\" \" ))","v":"0 "},{"$f":"(K23*H23)","v":0},{"$f":"L23","v":0},1.35,0.15,135,7.5,{"$f":"N23*$M$23","v":0},{"$f":"O23*$M$23","v":0},{"$f":"P23*$M$23","v":0},{"$f":"Q23*$M$23","v":0}]
[null,"TOTALES (valores absolutos anuales)",null,null,null,null,null,null,null,null,null,null,null,null,null,null,null,{"$f":"SUM(R13+R20+R23)*(P8)","v":0},{"$f":"SUM(S13+S20+S23)*$P$8","v":0},{"$f":"SUM(T13+T20+T23)*$P$8","v":0},{"$f":"SUM(U13+U20+U23)*$P$8","v":0}]

{"sheet":"Formato de Evidencia","index":7,"n_rows":450,"n_cols":15,"rows_kept":450,"cut":false,"hidden":false,"merged":[[8,2,8,5],[8,6,8,13],[9,2,9,5],[9,6,9,13],[10,2,10,5],[10,6,10,13],[11,2,11,5],[11,6,11,13],[12,2,12,5],[12,9,12,10],[13,2,13,5],[13,6,13,13],[85,2,87,5],[85,6,87,13],[14,2,14,5],[14,6,14,13],[16,2,16,13],[18,2,20,5],[18,6,20,13],[41,2,43,5],[41,6,43,13],[55,2,57,5],[55,6,57,13],[66,2,66,13],[69,2,71,5],[69,6,71,13],[97,2,97,13],[100,2,102,5],[100,6,102,13],[113,2,113,13],[115,2,117,5],[115,6,117,13],[216,2,216,13],[133,2,135,5],[133,6,135,13],[153,2,155,5],[153,6,155,13],[167,2,167,13],[169,2,171,5],[169,6,171,13],[185,2,185,13],[187,2,189,5],[187,6,189,13],[201,2,203,5],[201,6,203,13],[291,2,293,5],[291,6,293,13],[219,2,221,5],[219,6,221,13],[233,2,235,5],[233,6,235,13],[246,2,248,5],[246,6,248,13],[260,2,262,5],[260,6,262,13],[275,2,277,5],[275,6,277,13],[289,2,289,13],[304,2,306,5],[304,6,306,13],[318,2,320,5],[318,6,320,13],[335,2,337,5],[335,6,337,13],[346,2,348,5],[346,6,348,13],[359,2,361,5],[359,6,361,13],[373,2,375,5],[373,6,375,13],[387,2,389,5],[387,6,389,13],[400,2,402,5],[400,6,402,13],[416,2,418,5],[416,6,418,13],[429,2,431,5],[429,6,431,13],[446,2,446,13],[449,2,451,5],[449,6,451,13]]}
[]
[]
[]
[null,null,null,null,null,null,null,null,null,null,null,null,null,null,"FORMATO DE EVIDENCIA"]
[null,null,null,null,null,null,null,null,null,null,null,null,null,null,"FORMULARIO SOSTENIBILIDAD PROVEEDORES"]
[null,null,null,null,null,null,null,null,null,null,"DIRECTRIZ DE COMPRAS RESPONSABLES Y SOSTENIBLES"]
[]
[]
[null,null,"RAZÓN SOCIAL PROVEEDOR"]
[null,null,"NIT"]
[null,null,"CONTACTO"]
[null,null,"CARGO"]
[null,null,"TELÉFONO ",null,"CELULAR",null,null,null,null,"CELULAR"]
[null,null,"CORREO"]
[null,null,"FECHA DILIGENCIAMIENTO"]
[]
[null,null,"EFICIENCIA ENERGÉTICA"]
[]
[null,null,"Pregunta Formulario",null,null,null,"1.2  ¿Cuáles de las siguientes energías renovables utiliza?\n\nJUSTIFICACIÓN DE RESPUESTA (Descripción, fotos, links u otros)"]
[]
[]
[]
[]
[]
[]
[]
[]
[]
[]
[]
[]
[]
[]
[]
[]
[]
[]
[]
[]
[]
[]
[null,null,"Pregunta Formulario",null,null,null,"1.3  Respecto a su consumo total de energía ¿Qué porcentaje proviene de energías renovables?\n\nJUSTIFICACIÓN DE RESPUESTA (Descripción, fotos, links u otros)"]
[]
[]
[]
[]
[]
[]
[]
[]
[]
[]
[]
[]
[]
[null,null,"Pregunta Formulario",null,null,null,"1.5   ¿Cuáles de las siguientes acciones realiza en su empresa? Si su respuesta es \"otra\" especifique ¿Cuál?\nJUSTIFICACIÓN DE RESPUESTA (Descripción, fotos, links u otros)"]
[]
[]
[]
[]
[]
[]
[]
[]
[]
[]
[null,null,"CAMBIO CLIMÁTICO"]
[]
[]
[null,null,"Pregunta Formulario",null,null,null,"2.2   ¿Cuáles de las siguientes acciones de reducción de huella de carbono realiza en su empresa? Si su respuesta  es \"otra\" especifique ¿Cuál?\nJUSTIFICACIÓN DE RESPUESTA (Descripción, fotos, links u otros)"]
[]
[]
[]
[]
[]
[]
[]
[]
[]
[]
[]
[]
[]
[]
[]
[null,null,"Pregunta Formulario",null,null,null,"2.3  ¿Cuáles de las siguientes acciones de compensación de huella de carbono realiza en su empresa? \nSi su respuesta es \"ninguna de las anteriores\" diríjase a la pregunta 3.1\nJUSTIFICACIÓN DE RESPUESTA (Descripción, fotos, links u otros)"]
[]
[]
[]
[]
[]
[]
[]
[]
[]
[]
[]
[null,null,"CONSUMO DE AGUA"]
[]
[]
[null,null,"Pregunta Formulario",null,null,null,"3.2  ¿Cuáles de las siguientes acciones realiza en su empresa? Si su respuesta es \"otra\" especifique ¿Cuál?\nJUSTIFICACIÓN DE RESPUESTA (Descripción, fotos, links u otros)"]
[]
[]
[]
[]
[]
[]
[]
[]
[]
[]
[]
[]
[null,null,"EXTRACCIÓN Y PROCEDENCIA DE LOS RECURSOS"]
[]
[null,null,"Pregunta Formulario",null,null,null,"4.1    ¿Su empresa ha realizado acciones de reemplazo de materia primas derivadas del petróleo?\nJUSTIFICACIÓN DE RESPUESTA (Descripción, fotos, links u otros)"]
[]
[]
[]
[]
[]
[]
[]
[]
[]
[]
[]
[]
[]
[]
[]
[]
[]
[null,null,"Pregunta Formulario",null,null,null,"4.2  ¿Cuáles de las siguientes acciones de reemplazo de materias primas realiza en su empresa? Si su respuesta es \"otra\" especifique ¿Cuál?\nJUSTIFICACIÓN DE RESPUESTA (Descripción, fotos, links u otros)"]
[]
[]
[]
[]
[]
[]
[]
[]
[]
[]
[]
[]
[]
[]
[]
[]
[]
[]
[]
[null,null,"Pregunta Formulario",null,null,null,"4.3  Evita el uso y/o sus productos son libres de: \nJUSTIFICACIÓN DE RESPUESTA (Descripción, fotos, links u otros)"]
[]
[]
[]
[]
[]
[]
[]
[]
[]
[]
[]
[]
[]
[null,null,"INNOVACIONES EN EL PRODUCTO Y/O PROCESOS"]
[]
[null,null,"Pregunta Formulario",null,null,null,"5.2  ¿Qué tipo de innovaciones tiene implementadas actualmente?\nJUSTIFICACIÓN DE RESPUESTA (Descripción, fotos, links u otros)"]
[]
[]
[]
[]
[]
[]
[]
[]
[]
[]
[]
[]
[]
[]
[]
[null,null,"REINCORPORACIÓN AL CICLO PRODUCTIVO"]
[]
[null,null,"Pregunta Formulario",null,null,null,"6.2 ¿Qué porcentaje de materiales previamente utilizados en la elaboración de otros productos y/o proceso, incorpora en su ciclo productivo?\nJUSTIFICACIÓN DE RESPUESTA (Descripción, fotos, links u otros)"]
[]
[]
[]
[]
[]
[]
[]
[]
[]
[]
[]
[]
[]
[null,null,"Pregunta Formulario",null,null,null,"6.3 ¿Su empresa incorpora aguas residuales tratadas provenientes de sus actividades en sus procesos productivos?\nJUSTIFICACIÓN DE RESPUESTA (Descripción, fotos, links u otros)"]
[]
[]
[]
[]
[]
[]
[]
[]
[]
[]
[]
[]
[]
[]
[null,null,"GESTIÓN DE LOS RESIDUOS PROPIOS (SÓLIDOS, LÍQUIDOS, GASEOSOS) "]
[]
[]
[null,null,"Pregunta Formulario",null,null,null,"7.2 ¿Cuáles acciones de reducción de residuos realiza en su empresa? Si su respuesta es \"otra\" especifique ¿Cuál?\nJUSTIFICACIÓN DE RESPUESTA (Descripción, fotos, links u otros)"]
[]
[]
[]
[]
[]
[]
[]
[]
[]
[]
[]
[]
[]
[null,null,"Pregunta Formulario",null,null,null,"7.3 ¿Cuáles acciones de reutilización de residuos realiza en su empresa? Si su respuesta es \"otra\" especifique ¿Cuál?\nJUSTIFICACIÓN DE RESPUESTA (Descripción, fotos, links u otros)"]
[]
[]
[]
[]
[]
[]
[]
[]
[]
[]
[]
[]
[null,null,"Pregunta Formulario",null,null,null,"7.4 ¿Cuáles acciones de reciclaje de residuos realiza en su empresa? Si su respuesta es \"otra\" especifique ¿Cuál?\nJUSTIFICACIÓN DE RESPUESTA (Descripción, fotos, links u otros)"]
[]
[]
[]
[]
[]
[]
[]
[]
[]
[]
[]
[]
[]
[null,null,"Pregunta Formulario",null,null,null,"7.6  ¿Cuáles acciones de manejo de residuos líquidos contaminados con sustancias de interés ambiental y sanitario realiza en su empresa?\nJUSTIFICACIÓN DE RESPUESTA (Descripción, fotos, links u otros)"]
[]
[]
[]
[]
[]
[]
[]
[]
[]
[]
[]
[]
[]
[]
[null,null,"Pregunta Formulario",null,null,null,"7.7 ¿Actualmente su organización tiene un proceso de control de emisiones?\nJUSTIFICACIÓN DE RESPUESTA (Descripción, fotos, links u otros)"]
[]
[]
[]
[]
[]
[]
[]
[]
[]
[]
[]
[]
[]
[null,null,"POLÍTICAS DE RESPONSABILIDAD SOCIAL Y AMBIENTAL"]
[]
[null,null,"Pregunta Formulario",null,null,null,"8.1  Su organización cuenta con estrategias y/o programa de preservación de flora\nJUSTIFICACIÓN DE RESPUESTA (Descripción, fotos, links u otros)"]
[]
[]
[]
[]
[]
[]
[]
[]
[]
[]
[]
[]
[null,null,"Pregunta Formulario",null,null,null,"8.2  Su organización cuenta con estrategias y/o programa de preservación de fauna silvestre (u otra)\nJUSTIFICACIÓN DE RESPUESTA (Descripción, fotos, links u otros)"]
[]
[]
[]
[]
[]
[]
[]
[]
[]
[]
[]
[]
[]
[null,null,"Pregunta Formulario",null,null,null,"8.3  Su organización cuenta con espacios de esparcimiento para sus empleados que fomenten su vida familiar, personal y laboral\nJUSTIFICACIÓN DE RESPUESTA (Descripción, fotos, links u otros)"]
[]
[]
[]
[]
[]
[]
[]
[]
[]
[]
[]
[]
[]
[]
[]
[]
[null,null,"Pregunta Formulario",null,null,null,"8.4  ¿Cuenta con estrategias en su empresa para apoyar a los empleados en su crecimiento personal y profesional?\nJUSTIFICACIÓN DE RESPUESTA (Descripción, fotos, links u otros)"]
[]
[]
[]
[]
[]
[]
[]
[]
[]
[]
[null,null,"Pregunta Formulario",null,null,null,"8.5  ¿Su organización cuenta con una política de responsabilidad social empresarial y/o con una línea de proyección social\nJUSTIFICACIÓN DE RESPUESTA (Descripción, fotos, links u otros)"]
[]
[]
[]
[]
[]
[]
[]
[]
[]
[]
[]
[]
[null,null,"Pregunta Formulario",null,null,null," 8.6 ¿Cuenta con lineamientos y/o políticas en su empresa que favorecen la vinculación laboral de población vulnerable y/o de especial protección constitucional? Es posible incluir además las acciones que atienden la perspectiva de género y todas aquellas que promueven la justicia, la equidad y/o convivencia pacifica\nJUSTIFICACIÓN DE RESPUESTA (Descripción, fotos, links u otros)"]
[]
[]
[]
[]
[]
[]
[]
[]
[]
[]
[]
[]
[]
[null,null,"Pregunta Formulario",null,null,null,"8.7  ¿Su organización cuenta con lineamientos y/o políticas de inclusión laboral de personas con movilidad reducida y/o personas con otro tipo de discapacidades?\nJUSTIFICACIÓN DE RESPUESTA (Descripción, fotos, links u otros)"]
[]
[]
[]
[]
[]
[]
[]
[]
[]
[]
[]
[]
[]
[null,null,"Pregunta Formulario",null,null,null,"8.8   ¿Su organización apoya, económicamente o mediante voluntariado, causas sociales y/o fundaciones donde se involucre a los empleados?\nJUSTIFICACIÓN DE RESPUESTA (Descripción, fotos, links u otros)"]
[]
[]
[]
[]
[]
[]
[]
[]
[]
[]
[]
[]
[null,null,"Pregunta Formulario",null,null,null,"8.9   Su organización cuenta con lineamientos y/o políticas de beneficios adicionales para sus empleados\nJUSTIFICACIÓN DE RESPUESTA (Descripción, fotos, links u otros)"]
[]
[]
[]
[]
[]
[]
[]
[]
[]
[]
[]
[]
[]
[]
[]
[null,null,"Pregunta Formulario",null,null,null,"8.10  ¿Cuenta con iniciativas en materia de comunicación organizacional para informar, sensibilizar o influir en los comportamientos favorables en torno a la protección socio ambiental en el ámbito laboral de su empresa?\nJUSTIFICACIÓN DE RESPUESTA (Descripción, fotos, links u otros)"]
[]
[]
[]
[]
[]
[]
[]
[]
[]
[]
[]
[]
[null,null,"Pregunta Formulario",null,null,null,"8.11 ¿Cuenta con estrategias de marketing para ganar legitimidad y confianza frente a sus clientes en materia de responsabilidad social?\nJUSTIFICACIÓN DE RESPUESTA (Descripción, fotos, links u otros)"]
[]
[]
[]
[]
[]
[]
[]
[]
[]
[]
[]
[]
[]
[]
[]
[]
[null,null,"SEGURIDAD INDUSTRIAL Y SALUD EN EL TRABAJO"]
[]
[]
[null,null,"Pregunta Formulario",null,null,null,"9.1  Su organización cuenta con lineamientos y/o políticas de seguridad industrial y salud ocupacional?\nJUSTIFICACIÓN DE RESPUESTA (Descripción, fotos, links u otros)"]

{"sheet":"Clasificación","index":8,"n_rows":4,"n_cols":2,"rows_kept":4,"cut":false,"hidden":false,"merged":[[3,1,6,14]]}
[]
[null,"Menú"]
[]
[null,"Ministerio de Comercio, Industria y Turismo expidió Decreto 957 de 2019, a través del cual se implementará una nueva clasificación del tamaño de las empresas con base en los ingresos por actividades ordinarias anuales, generando un cambio en la clasificación anterior que se establecía en sus activos o número de empleados."]

{"sheet":"Preguntas","index":9,"n_rows":159,"n_cols":17,"rows_kept":159,"cut":false,"hidden":true,"merged":[[31,6,32,6],[50,2,51,2],[50,3,51,3],[50,4,51,4],[50,5,51,5],[50,6,51,6],[47,6,48,6],[42,6,46,6],[35,6,41,6],[31,2,32,2],[31,3,32,3],[31,4,32,4],[31,5,32,5],[33,6,34,6],[49,6,49,12],[3,1,4,7],[3,8,4,11],[153,6,153,12],[154,1,155,1],[154,5,155,5],[154,4,155,4],[154,3,155,3],[154,2,155,2],[154,6,155,6],[154,12,155,12],[147,6,149,6],[147,12,149,12],[150,1,152,1],[150,5,152,5],[150,4,152,4],[150,3,152,3],[150,2,152,2],[150,6,152,6],[150,12,152,12],[147,1,149,1],[22,6,28,6],[52,1,58,1],[52,2,58,2],[52,5,58,5],[147,5,149,5],[147,4,149,4],[147,3,149,3],[147,2,149,2],[140,6,141,6],[140,12,141,12],[142,1,146,1],[142,5,146,5],[142,4,146,4],[142,3,146,3],[142,2,146,2],[142,6,146,6],[142,12,146,12],[140,1,141,1],[140,5,141,5],[140,4,141,4],[140,3,141,3],[140,2,141,2],[136,6,137,6],[136,12,137,12],[138,1,139,1],[138,5,139,5],[138,4,139,4],[138,3,139,3],[138,2,139,2],[138,6,139,6],[138,12,139,12],[136,1,137,1],[136,5,137,5],[136,4,137,4],[136,3,137,3],[136,2,137,2],[129,6,133,6],[129,12,133,12],[134,1,135,1],[134,5,135,5],[134,4,135,4],[134,3,135,3],[134,2,135,2],[134,6,135,6],[134,12,135,12],[129,1,133,1],[129,5,133,5],[129,4,133,4],[129,3,133,3],[129,2,133,2],[120,6,123,6],[120,12,123,12],[124,1,128,1],[124,5,128,5],[124,4,128,4],[124,3,128,3],[124,2,128,2],[124,6,128,6],[124,12,128,12],[120,1,123,1],[120,5,123,5],[120,4,123,4],[120,3,123,3],[120,2,123,2],[112,1,113,7],[112,8,113,11],[115,6,115,12],[116,1,119,1],[116,5,119,5],[116,4,119,4],[116,3,119,3],[116,2,119,2],[116,6,119,6],[116,12,119,12],[97,3,101,3],[87,12,88,12],[87,5,88,5],[87,4,88,4],[87,3,88,3],[108,16,110,16],[87,16,88,16],[89,3,96,3],[97,4,101,4],[108,5,110,5],[108,6,110,6],[108,12,110,12],[102,4,107,4],[102,3,107,3],[89,4,96,4],[89,16,96,16],[97,16,101,16],[108,4,110,4],[108,3,110,3],[76,16,77,16],[102,16,107,16],[76,12,77,12],[102,5,107,5],[89,6,96,6],[97,6,101,6],[102,6,107,6],[89,5,96,5],[97,5,101,5],[78,12,83,12],[89,12,96,12],[97,12,101,12],[102,12,107,12],[86,6,86,12],[87,6,88,6],[84,12,85,12],[76,6,77,6],[84,6,85,6],[108,1,110,1],[89,1,96,1],[97,1,101,1],[102,1,107,1],[87,1,88,1],[97,2,101,2],[87,2,88,2],[89,2,96,2],[102,2,107,2],[108,2,110,2],[72,8,73,11],[72,1,73,7],[75,6,75,12],[63,6,64,6],[62,6,62,12],[76,5,77,5],[76,4,77,4],[76,3,77,3],[76,2,77,2],[76,1,77,1],[84,1,85,1],[78,1,83,1],[84,5,85,5],[84,4,85,4],[84,3,85,3],[84,2,85,2],[78,8,78,11],[78,6,83,6],[78,5,83,5],[78,4,83,4],[78,3,83,3],[78,2,83,2],[30,6,30,12],[6,6,6,12],[63,5,64,5],[65,6,69,6],[65,5,69,5],[65,1,69,1],[63,1,64,1],[65,12,69,12],[63,4,64,4],[63,3,64,3],[63,2,64,2],[65,4,69,4],[65,3,69,3],[65,2,69,2],[63,12,64,12],[60,8,61,11],[60,1,61,7],[31,12,32,12],[20,6,21,6],[15,6,19,6],[9,6,14,6],[52,4,58,4],[52,3,58,3],[52,6,58,6]]}
[]
[null,null,null,null,null,"Menu"]
[]
[null,"CONSUMO DE ENERGIA, AGUA Y CAMBIO CLIMATICO",null,null,null,null,null,null,"Puntuación"]
[]
[null,"No.","Micro","Pequeña","Mediana","Grande","Criterio","Respuesta","Micro","Pequeña","Mediana","Grande","Evidencia "]
[null,1,{"$f":"+C8+C10+C16+C21+C23","v":185},{"$f":"+D8+D10+D16+D21+D23","v":330},{"$f":"+E8+E10+E16+E21+E23","v":475},{"$f":"+F8+F10+F16+F21+F23","v":620},"EFICIENCIA ENERGÉTICA"]
[null,1.1000000000000001,{"$f":"I8","v":25},50,75,100,"¿Utiliza energías renovables NO convencionales? ","SI",25,50,75,100,"NO"]
[null,null,null,null,null,null,null,"NO",0,0,0,0]
[null,1.2,30,60,90,120," ¿Cuáles de las siguientes energías renovables NO convencionales utiliza?","Fotovoltaica",5,10,15,20,"x"]
[null,null,null,null,null,null,null,"Eolica",5,10,15,20]
[null,null,null,null,null,null,null,"Cinetica",5,10,15,20]
[null,null,null,null,null,null,null,"Mareomotriz",5,10,15,20]
[null,null,null,null,null,null,null,"Biomasa",5,10,15,20]
[null,null,null,null,null,null,null,"Hidraulica ",5,10,15,20]
[null,1.3,{"$f":"I20","v":25},{"$f":"J20","v":50},{"$f":"K20","v":75},100,"Respecto a su consumo total de energía ¿Qué porcentaje proviene de energías renovables NO convencionales?","< 1%",0,0,0,0,"NO"]
[null,null,null,null,null,null,null,"1 - 25%",10,15,20,25]
[null,null,null,null,null,null,null,"25 - 50%",15,20,30,50]
[null,null,null,null,null,null,null,"50 - 75%",20,35,55,75]
[null,null,null,null,null,null,null,"> 75%",25,50,75,100]
[null,1.4,{"$f":"I21","v":25},{"$f":"J21","v":50},{"$f":"K21","v":75},100," ¿Su empresa cuenta con políticas o lineamientos de eficiencia energética?","SI",25,50,75,100,"SI"]
[null,null,null,null,null,null,null,"NO",0,0,0,0]
[null,1.5,80,120,160,200,"Señale cuales de los siguientes lineamientos tiene implementados: **","Iluminación eficiente (T5 y Led)",10,15,20,25,"x"]
[null,null,null,null,null,null,null,"Maquinaria operada con motores eléctricos ",10,15,20,25]
[null,null,null,null,null,null,null,"Flota de vehículos eléctricos",10,15,20,25]
[null,null,null,null,null,null,null,"Campañas de eficiencia energética",10,15,20,25]
[null,null,null,null,null,null,null,"Sensores de presencia",10,15,20,25]
[null,null,null,null,null,null,null,"Sensores luz día ",10,15,20,25]
[null,null,null,null,null,null,null,"Programación horaria ",10,15,20,25]
[null,null,null,null,null,null,null,"Otra",10,15,20,25]
[null,2,{"$f":"C32+C48+C43+C36","v":145},{"$f":"D32+D48+D43+D36","v":290},{"$f":"E32+E48+E43+E36","v":435},{"$f":"F32+F48+F43+F36","v":604},"CAMBIO CLIMÁTICO "]
[null,2.1,{"$f":"I32","v":25},{"$f":"J32","v":50},{"$f":"K32","v":75},{"$f":"L32","v":100}," ¿Calcula la huella de carbono en su empresa anualmente?","SI",25,50,75,100,"NO"]
[null,null,null,null,null,null,null,"NO",0,0,0,0]
[null,2.1,null,null,null,null," ¿Cuantas toneladas de CO2 equivalente genera anualmente?",null,null,null,null,null,"NO"]
[null,null,null,null,null,null,null,"No Sabe. Justifique su respuesta"]
[null,2.2000000000000002,60,120,180,252,"¿Cuáles de las siguientes acciones de reducción de huella de carbono realiza en su empresa? Si su respuesta  es \"otra\" especifique ¿Cuál?","Disminución en el uso de materias primas",10,20,30,42,"SI"]
[null,null,null,null,null,null,null,"Disminución de empaques y embalajes",10,20,30,42]
[null,null,null,null,null,null,null,"Ahorro de consumo de agua",10,20,30,42]
[null,null,null,null,null,null,null,"Ahorro de consumo de energía",10,20,30,42]
[null,null,null,null,null,null,null,"Optimización en procesos de distribución",10,20,30,42]
[null,null,null,null,null,null,null,"Otra",10,20,30,42]
[null,null,null,null,null,null,null,"NO",0,0,0,0]
[null,2.2999999999999998,60,120,180,252,"¿Cuáles de las siguientes acciones de compensación de huella de carbono realiza en su empresa? ","Siembra de árboles",15,30,45,63,"SI"]
[null,null,null,null,null,null,null,"Inyección de carbono en el subsuelo",15,30,45,63]
[null,null,null,null,null,null,null,"Elaboración de materias primas a base de carbono",15,30,45,63]
[null,null,null,null,null,null,null,"Granjas de carbono",15,30,45,63]
[null,null,null,null,null,null,null,"Ninguna de las anteriores",0,0,0,0]
[null,2.4,null,null,null,null,"Teniendo en cuenta la respuesta anterior, ¿Cuántas toneladas de CO2 equivalente compensó el año inmediatamente anterior?",null,null,null,null,null,"NO"]
[null,null,null,null,null,null,null,"No Sabe. Justifique su respuesta"]
[null,3,{"$f":"+C51+C53","v":85},{"$f":"+D51+D53","v":170},255,352,"CONSUMO DE AGUA"]
[null,3.1,{"$f":"I51","v":25},{"$f":"J51","v":50},{"$f":"K51","v":75},{"$f":"L51","v":100}," ¿Calcula la huella hidrica de la organización anualmente?","SI",25,50,75,100,"NO"]
[null,null,null,null,null,null,null,"NO",0,0,0,0]
[null,3.2,60,120,180,252,"Cual es su huella gris anual","Implementación de sanitarios y grifos ahorradores de agua",10,20,30,42,"NO"]
[null,null,null,null,null,null,null,"Mantenimiento preventivo",10,20,30,42]
[null,null,null,null,null,null,null,"Reutilización de aguas lluvias",10,20,30,42]
[null,null,null,null,null,null,null," Innovación tecnológica",10,20,30,42]
[null,null,null,null,null,null,null,"Campañas de sensibilización",10,20,30,42]
[null,null,null,null,null,null,null,"Otra",10,20,30,42]
[null,null,null,null,null,null,null,"NO",0,0,0,0]
[]
[null,"GESTION EFICIENTE DEL USO MATERIA PRIMA Y MATERIALES",null,null,null,null,null,null,"Puntuación"]
[]
[null,5,{"$f":"C64+C66","v":50},{"$f":"D64+D66","v":100},{"$f":"E64+E66","v":150},{"$f":"F64+F66","v":200},"INNOVACIONES EN EL PRODUCTO Y/O PROCESOS"]
[null,5.0999999999999996,{"$f":"I64","v":25},{"$f":"J64","v":50},{"$f":"K64","v":75},100,"Su organización cuenta con politicas y/o lineamientos de innovación en sus procesos","SI",25,50,75,100,"NO"]
[null,null,null,null,null,null,null,"NO",0,0,0,0]
[null,5.2,25,50,75,100,"¿Qué tipo de innovaciones tiene implementadas actualmente y cuáles ha realizado en los últimos 2 años?","Innovación de Producto",5,10,15,20,"SI"]
[null,null,null,null,null,null,null,"Innovación de Proceso",5,10,15,20]
[null,null,null,null,null,null,null,"Innovación de Transporte",5,10,15,20]
[null,null,null,null,null,null,null,"Innovación de Empaque",5,10,15,20]
[null,null,null,null,null,null,null,"Innovación en Comunicación",5,10,15,20]
[]
[]
[null,"GESTION DE LOS RESIDUOS",null,null,null,null,null,null,"Puntuación"]
[]
[null,"No.","Micro","Pequeña","Mediana","Grande","Criterio","Respuesta","Micro","Pequeña","Mediana","Grande","Evidencia "]
[null,6,null,null,null,null,"REINCORPORACIÓN AL CICLO PRODUCTIVO",null,null,null,null,null,null,null,null,null,"Estandares GRI"]
[null,6.1,25,50,75,100,"¿Su empresa incorpora en su ciclo productivo materiales previamente utilizados en la elaboración de otros productos y/o procesos?","SI",25,50,75,100,"NO",null,null,null,"301-3 Productos Reutilizados y materiales de envasado"]
[null,null,null,null,null,null,null,"NO",0,0,0,0]
[null,6.2,{"$f":"I84","v":25},{"$f":"J84","v":50},{"$f":"K84","v":75},100,"¿Qué porcentaje de materiales previamente utilizados en la elaboración de otros productos y/o proceso, incorpora en su ciclo productivo?","Inicio de la cadena",null,null,null,null,"NO"]
[null,null,null,null,null,null,null,"< 1%",0,0,0,0]
[null,null,null,null,null,null,null,"1 - 25%",10,15,20,25,null,"** No aplica para servicios"]
[null,null,null,null,null,null,null,"25 - 50%",15,20,30,50]
[null,null,null,null,null,null,null,"50 - 75%",20,35,55,75]
[null,null,null,null,null,null,null,"> 75%",25,50,75,100]
[null,6.3,25,50,75,100,"¿Su empresa incorpora aguas residuales provenientes de sus actividades en sus procesos productivos?","SI",25,50,75,100,"SI","***"]
[null,null,null,null,null,null,null,"NO",0,0,0,0]
[null,7,{"$f":"C88+C90+C98+C103+C109","v":145},{"$f":"D88+D90+D98+D103+D109","v":290},{"$f":"E88+E90+E98+E103+E109","v":435},{"$f":"F88+F90+F98+F103+F109","v":580},"GESTION DE LOS RESIDUOS PROPIOS (SOLIDOS, LIQUIDOS, GASEOSOS) "]
[null,7.1,{"$f":"I88","v":25},{"$f":"J88","v":50},{"$f":"K88","v":75},100,"¿Su empresa cuenta con un plan de gestión integral de los residuos?","SI ",25,50,75,100,"NO"]
[null,null,null,null,null,null,null,"NO",0,0,0,0]
[null,7.2,40,80,120,160,"¿Cuáles acciones de reducción de residos realiza en su empresa? Si su respuesta es \"otra\" especifique ¿Cuál?","Disminución en el uso de empaques y embalajes",5,10,15,20,"SI",null,null,null,"306-2 Residuos por tipo y metodo de eliminación "]
[null,null,null,null,null,null,null,"Disminución en el uso de materias prima",5,10,15,20]
[null,null,null,null,null,null,null,"Digitalización de documentos",5,10,15,20]
[null,null,null,null,null,null,null,"Acciones de impresión inteligente",5,10,15,20]
[null,null,null,null,null,null,null,"Implementación de baterias sanitarias ahorradoras",5,10,15,20]
[null,null,null,null,null,null,null,"Compactadoras de residuos",5,10,15,20]
[null,null,null,null,null,null,null,"Aumento ciclo de vida de productos",5,10,15,20]
[null,null,null,null,null,null,null,"Otra",5,10,15,20]
[null,7.3,{"$f":"SUM(I98:I102)","v":25},{"$f":"SUM(J98:J102)","v":50},{"$f":"SUM(K98:K102)","v":75},{"$f":"SUM(L98:L102)","v":100},"¿Cuáles acciones de reutilización de residos realiza en su empresa? Si su respuesta es \"otra\" especifique ¿Cuál?","Reincorporación de materias primas en sus procesos",5,10,15,20,"SI",null,null,null,"306-2 Residuos por tipo y metodo de eliminación "]
[null,null,null,null,null,null,null,"Uso de residuos en nuevos procesos",5,10,15,20]
[null,null,null,null,null,null,null,"Transformación de residuos en nuevos productos",5,10,15,20]
[null,null,null,null,null,null,null,"Reutilización de activos fijos, materiales y/o insumos",5,10,15,20]
[null,null,null,null,null,null,null,"Otra",5,10,15,20]
[null,7.4,{"$f":"SUM(I103:I108)","v":30},{"$f":"SUM(J103:J108)","v":60},{"$f":"SUM(K103:K108)","v":90},120,"¿Cuáles acciones de reciclaje de residos realiza en su empresa? Si su respuesta es \"otra\" especifique ¿Cuál?","Implementación de codigo de colores",5,10,15,20,"SI",null,null,null,"301-2 Insumos Reciclados y 306-2 Residuos por tipo y metodo de eliminación "]
[null,null,null,null,null,null,null,"Separación en la fuente",5,10,15,20]
[null,null,null,null,null,null,null,"Instalación de puntos ecológicos",5,10,15,20]
[null,null,null,null,null,null,null,"Rutas sanitarias",5,10,15,20]
[null,null,null,null,null,null,null,"Entrega a gestores externos",5,10,15,20]
[null,null,null,null,null,null,null,"Otra",5,10,15,20]
[null,7.7,{"$f":"I109","v":25},{"$f":"J109","v":50},{"$f":"K109","v":75},100,"¿Actualmente su organización tiene un proceso de control de emisiones?","SI ¿Cuáles?",25,50,75,100,"SI",null,null,null,"305-4 Intensidad de las emisiones GEI, 305-6 Emisiones de sustancias que agotan la capa de ozono, 305-7 NO, SO y otras emisiones significativas del aire y 305-5 Reducción de las emisiones de GEI"]
[null,null,null,null,null,null,null,"NO",0,0,0,0]
[null,null,null,null,null,null,null,"No aplica",0,0,0,0]
[]
[null,"RESPONSABILIDAD SOCIAL EMPRESARIAL",null,null,null,null,null,null,"Puntuación"]
[]
[null,"No.","Micro","Pequeña","Mediana","Grande","Criterio","Respuesta","Micro","Pequeña","Mediana","Grande","Evidencia "]
[null,8,{"$f":"C125+C117+C130+C135+C137+C139+C141+C143+C121+C148+C151","v":275},{"$f":"D125+D117+D130+D135+D137+D139+D141+D143+D121+D148+D151","v":550},{"$f":"E125+E117+E130+E135+E137+E139+E141+E143+E121+E148+E151","v":825},{"$f":"F125+F117+F130+F135+F137+F139+F141+F143+F121+F148+F151","v":1100},"POLITICAS DE RESPONSABILIDAD SOCIAL Y AMBIENTAL"]
[null,8.1,{"$f":"SUM(I117:I120)","v":25},{"$f":"SUM(J117:J120)","v":50},{"$f":"SUM(K117:K120)","v":75},{"$f":"SUM(L117:L120)","v":100},"Su organización cuenta con estrategias y/o programa de preservación de flora","Bonos de carbono,",6.25,12.5,18.75,25,"SI"]
[null,null,null,null,null,null,null,"Bonos verdes ",6.25,12.5,18.75,25]
[null,null,null,null,null,null,null,"inversiones en protección de especies amenazadas",6.25,12.5,18.75,25]
[null,null,null,null,null,null,null,"Otra ",6.25,12.5,18.75,25]
[null,8.1999999999999993,{"$f":"SUM(I121:I124)","v":25},{"$f":"SUM(J121:J124)","v":50},{"$f":"SUM(K121:K124)","v":75},{"$f":"SUM(L121:L124)","v":100},"Su organización cuenta con estrategias y/o programa de preservación de fauna","inversiones en protección de especies amenazadas",6.25,12.5,18.75,25,"SI"]
[null,null,null,null,null,null,null,"compensaciones por pérdida de biodiversidad",6.25,12.5,18.75,25]
[null,null,null,null,null,null,null,"Inversiones en conservación de biodiversidad",6.25,12.5,18.75,25]
[null,null,null,null,null,null,null,"Otra ",6.25,12.5,18.75,25]
[null,8.3000000000000007,{"$f":"SUM(I125:I129)","v":25},{"$f":"SUM(J125:J129)","v":50},{"$f":"SUM(K125:K129)","v":75},{"$f":"SUM(L125:L129)","v":100},"Su organización cuenta con espacios de esparcimiento para sus empleados que fomenten su vida familiar, personal y laboral","Dia libre por cumpleaños ",5,10,15,20,"SI"]
[null,null,null,null,null,null,null,"Dia de Familia ",5,10,15,20]
[null,null,null,null,null,null,null,"Convivencias ",5,10,15,20]
[null,null,null,null,null,null,null,"Eventos Especiales",5,10,15,20]
[null,null,null,null,null,null,null,"Otra",5,10,15,20]
[null,8.4,{"$f":"SUM(I130:I134)","v":25},{"$f":"SUM(J130:J134)","v":50},{"$f":"SUM(K130:K134)","v":75},{"$f":"SUM(L130:L134)","v":100},"¿Con cuáles estrategias cuenta su empresa para apoyar a los empleados en su crecimiento personal y profesional?","Apoyo economico para estudios ",5,10,15,20,"SI"]
[null,null,null,null,null,null,null,"Plan Carrera",5,10,15,20]
[null,null,null,null,null,null,null,"Flexibilidad horaria",5,10,15,20]
[null,null,null,null,null,null,null,"Becas Universitarias ",5,10,15,20]
[null,null,null,null,null,null,null,"Otra ",5,10,15,20]
[null,8.5,{"$f":"I135","v":25},{"$f":"J135","v":50},{"$f":"K135","v":75},100,"Su organización cuenta con una política de responsabilidad social empresarial","Si",25,50,75,100,"SI"]
[null,null,null,null,null,null,null,"No",0,0,0,0]
[null,8.6,{"$f":"I137","v":25},{"$f":"J137","v":50},{"$f":"K137","v":75},100,"¿Cuenta con lineamientos y/o políticas en su empresa favorecen la vinculación laboral a población vulnerable y/o especial protección constitucional?","Si ¿Cuáles?",25,50,75,100,"SI"]
[null,null,null,null,null,null,null,"No",0,0,0,0]
[null,8.6999999999999993,{"$f":"I139","v":25},{"$f":"J139","v":50},{"$f":"K139","v":75},100,"¿Su organización cuenta con lineamientos y/o políticas de inclusión laboral de personas con movilidad reducida y/o personas con otro tipo de discapacidades?","Si ¿Cuáles?",25,50,75,100,"SI"]
[null,null,null,null,null,null,null,"No",0,0,0,0]
[null,8.8000000000000007,{"$f":"I141","v":25},{"$f":"J141","v":50},{"$f":"K141","v":75},100,"¿Su organización apoya causas sociales y/o fundaciones económicamente o mediante voluntariado donde se involucre a los empleados?","Si ¿Cuáles?",25,50,75,100,"SI"]
[null,null,null,null,null,null,null,"No",0,0,0,0]
[null,8.9,{"$f":"SUM(I143:I147)","v":25},{"$f":"SUM(J143:J147)","v":50},{"$f":"SUM(K143:K147)","v":75},{"$f":"SUM(L143:L147)","v":100},"Su organización cuenta con lineamientos y/o políticas de beneficios adicionales para sus empleados","Prima Extralegal ",5,10,15,20,"SI"]
[null,null,null,null,null,null,null,"Bonificaciónes",5,10,15,20]
[null,null,null,null,null,null,null,"Bonos de alimentación ",5,10,15,20]
[null,null,null,null,null,null,null,"Bonos de Gasolina  ",5,10,15,20]
[null,null,null,null,null,null,null,"Otro ",5,10,15,20]
[null,"8.10",{"$f":"SUM(I148:I150)","v":25},{"$f":"SUM(J148:J150)","v":50.019999999999996},{"$f":"SUM(K148:K150)","v":75},100,"¿Cuenta con iniciativas en materia de comunicación organizacional para informar, sensibilizar o influir en los comportamientos favorables en torno a la protección ambiental en el ámbito laboral de su empresa?","Correo eletronicos",8.33,16.7,25,33.33,"SI"]
[null,null,null,null,null,null,null,"Capacitaciones ",8.33,16.66,25,33.299999999999997]
[null,null,null,null,null,null,null,"Otro ",8.34,16.66,25,33.299999999999997]
[null,"8.11",{"$f":"SUM(I151:I153)","v":25},{"$f":"SUM(J151:J153)","v":49.980000000000004},{"$f":"SUM(K151:K153)","v":75},100,"¿Cuenta con estrategias de marketing para ganar legitimidad y confianza frente a sus clientes en materia de responsabilidad social?","Pagina Web",8.33,16.66,25,33.340000000000003,"SI"]
[null,null,null,null,null,null,null,"Vallas Publicitarias ",8.33,16.66,25,33.33]
[null,null,null,null,null,null,null,"Otro ",8.34,16.66,25,33.299999999999997]
[null,9,{"$f":"C155","v":25},{"$f":"D155","v":50},{"$f":"E155","v":75},{"$f":"F155","v":100},"SEGURIDAD INDUSTRIAL Y SALUD EN EL TRABAJO"]
[null,9.1,{"$f":"I155","v":25},{"$f":"J155","v":50},{"$f":"K155","v":75},100," Su organización cuenta con lineamientos y/o políticas de seguridad industrial y salud ocupacional?","Si ¿Cuáles?",25,50,75,100,"NO"]
[null,null,null,null,null,null,null,"No",0,0,0,0]
[]
[null,null,"Micro","Pequeña","Mediana","Grande"]
[null,"total ",{"$f":"C154+C116+C87+C76+C63+C50+C31+C7","v":910},{"$f":"D154+D116+D87+D76+D63+D50+D31+D7","v":1780},{"$f":"E154+E116+E87+E76+E63+E50+E31+E7","v":2650},{"$f":"F154+F116+F87+F76+F63+F50+F31+F7","v":3556}]

{"sheet":"Categoria","index":10,"n_rows":418,"n_cols":12,"rows_kept":418,"cut":false,"hidden":true,"merged":[[11,1,11,2],[11,7,11,8],[2,2,2,5],[1,2,1,5],[2,8,2,11],[1,8,1,11],[10,1,10,2],[9,7,9,8],[9,1,9,2],[10,7,10,8]]}
[]
[null,null,"Proveedores Bienes",null,null,null,null,null,"Proveedores Servicios"]
[null,null,"Categorias de Sostenibilidad",null,null,null,null,null,"Categorias de Sostenibilidad"]
[null,null,"Grande","Mediana","Pequeña","Micro",null,null,"Grande","Mediana","Pequeña","Micro"]
[null,"Bronce","0 - 396","0 - 289","0 - 195","0 - 99",null,"Bronce","0 - 342","0 - 250","0 - 168","0 - 86"]
[null,"Plata","397 - 732","289 - 537","196 - 360","100 - 182",null,"Plata","343 - 632","259 - 462","169 - 310","87 - 158"]
[null,"Oro ","733- 890","539 - 654","361 - 438","183 - 222",null,"Oro ","632- 769","463 - 561","311 - 377","159 - 192"]
[null,"Platino","891 - 989","655 - 725","439 - 486","223 - 247",null,"Platino","770 - 854","562 - 623","378 - 418","192 - 213"]
[]
[null,"Preguntas No Aplica",null,3,null,null,null,"Preguntas No Aplica",null,9]
[null,"Total Preguntas",null,48,null,null,null,"Total Preguntas",null,39]
[null,"Preguntas Puntaje",null,40,null,null,null,"Preguntas Puntaje",null,32]
[]
[null,null,"Tipo de Empresa","Porcentaje","Clave","Categoria"]
[null,null,"Micro",0,{"$f":"CONCATENATE(C15,D15)","v":"Micro0"},"Bronce"]
[null,null,"Micro",0.01,{"$f":"CONCATENATE(C16,D16)","v":"Micro0,01"},"Bronce"]
[null,null,"Micro",0.02,{"$f":"CONCATENATE(C17,D17)","v":"Micro0,02"},"Bronce"]
[null,null,"Micro",0.03,"Micro0,03","Bronce"]
[null,null,"Micro",0.04,"Micro0,04","Bronce"]
[null,null,"Micro",0.05,"Micro0,05","Bronce"]
[null,null,"Micro",0.06,"Micro0,06","Bronce"]
[null,null,"Micro",7.0000000000000007E-2,"Micro0,07","Bronce"]
[null,null,"Micro",0.08,"Micro0,08","Bronce"]
[null,null,"Micro",0.09,"Micro0,09","Bronce"]
[null,null,"Micro",0.1,"Micro0,1","Bronce"]
[null,null,"Micro",0.11,"Micro0,11","Bronce"]
[null,null,"Micro",0.12,"Micro0,12","Bronce"]
[null,null,"Micro",0.13,"Micro0,13","Bronce"]
[null,null,"Micro",0.14000000000000001,"Micro0,14","Bronce"]
[null,null,"Micro",0.15,"Micro0,15","Bronce"]
[null,null,"Micro",0.16,"Micro0,16","Bronce"]
[null,null,"Micro",0.17,"Micro0,17","Bronce"]
[null,null,"Micro",0.18,"Micro0,18","Bronce"]
[null,null,"Micro",0.19,"Micro0,19","Bronce"]
[null,null,"Micro",0.2,"Micro0,2","Bronce"]
[null,null,"Micro",0.21,"Micro0,21","Bronce"]
[null,null,"Micro",0.22,"Micro0,22","Bronce"]
[null,null,"Micro",0.23,"Micro0,23","Bronce"]
[null,null,"Micro",0.24,"Micro0,24","Bronce"]
[null,null,"Micro",0.25,"Micro0,25","Bronce"]
[null,null,"Micro",0.26,"Micro0,26","Bronce"]
[null,null,"Micro",0.27,"Micro0,27","Bronce"]
[null,null,"Micro",0.28000000000000003,"Micro0,28","Bronce"]
[null,null,"Micro",0.28999999999999998,"Micro0,29","Bronce"]
[null,null,"Micro",0.3,"Micro0,3","Bronce"]
[null,null,"Micro",0.31,"Micro0,31","Bronce"]
[null,null,"Micro",0.32,"Micro0,32","Bronce"]
[null,null,"Micro",0.33,"Micro0,33","Bronce"]
[null,null,"Micro",0.34,"Micro0,34","Bronce"]
[null,null,"Micro",0.35,"Micro0,35","Bronce"]
[null,null,"Micro",0.36,"Micro0,36","Bronce"]
[null,null,"Micro",0.37,"Micro0,37","Bronce"]
[null,null,"Micro",0.38,"Micro0,38","Bronce"]
[null,null,"Micro",0.39,"Micro0,39","Bronce"]
[null,null,"Micro",0.4,"Micro0,4","Bronce"]
[null,null,"Micro",0.41,"Micro0,41","Plata"]
[null,null,"Micro",0.42,"Micro0,42","Plata"]
[null,null,"Micro",0.43,"Micro0,43","Plata"]
[null,null,"Micro",0.44,"Micro0,44","Plata"]
[null,null,"Micro",0.45,"Micro0,45","Plata"]
[null,null,"Micro",0.46,"Micro0,46","Plata"]
[null,null,"Micro",0.47,"Micro0,47","Plata"]
[null,null,"Micro",0.48,"Micro0,48","Plata"]
[null,null,"Micro",0.49,"Micro0,49","Plata"]
[null,null,"Micro",0.5,"Micro0,5","Plata"]
[null,null,"Micro",0.51,"Micro0,51","Plata"]
[null,null,"Micro",0.52,"Micro0,52","Plata"]
[null,null,"Micro",0.53,"Micro0,53","Plata"]
[null,null,"Micro",0.54,"Micro0,54","Plata"]
[null,null,"Micro",0.55000000000000004,"Micro0,55","Plata"]
[null,null,"Micro",0.56000000000000005,"Micro0,56","Plata"]
[null,null,"Micro",0.56999999999999995,"Micro0,57","Plata"]
[null,null,"Micro",0.57999999999999996,"Micro0,58","Plata"]
[null,null,"Micro",0.59,"Micro0,59","Plata"]
[null,null,"Micro",0.6,"Micro0,6","Plata"]
[null,null,"Micro",0.61,"Micro0,61","Plata"]
[null,null,"Micro",0.62,"Micro0,62","Plata"]
[null,null,"Micro",0.63,"Micro0,63","Plata"]
[null,null,"Micro",0.64,"Micro0,64","Plata"]
[null,null,"Micro",0.65,"Micro0,65","Plata"]
[null,null,"Micro",0.66,{"$f":"CONCATENATE(C81,D81)","v":"Micro0,66"},"Plata"]
[null,null,"Micro",0.67,"Micro0,67","Plata"]
[null,null,"Micro",0.68,"Micro0,68","Plata"]
[null,null,"Micro",0.69,"Micro0,69","Plata"]
[null,null,"Micro",0.7,"Micro0,7","Plata"]
[null,null,"Micro",0.71,"Micro0,71","Plata"]
[null,null,"Micro",0.72,"Micro0,72","Plata"]
[null,null,"Micro",0.73,"Micro0,73","Plata"]
[null,null,"Micro",0.74,"Micro0,74","Plata"]
[null,null,"Micro",0.75,"Micro0,75","Oro"]
[null,null,"Micro",0.76,"Micro0,76","Oro"]
[null,null,"Micro",0.77,"Micro0,77","Oro"]
[null,null,"Micro",0.78,"Micro0,78","Oro"]
[null,null,"Micro",0.79,"Micro0,79","Oro"]
[null,null,"Micro",0.8,"Micro0,8","Oro"]
[null,null,"Micro",0.81,"Micro0,81","Oro"]
[null,null,"Micro",0.82,"Micro0,82","Oro"]
[null,null,"Micro",0.83,"Micro0,83","Oro"]
[null,null,"Micro",0.84,"Micro0,84","Oro"]
[null,null,"Micro",0.85,"Micro0,85","Oro"]
[null,null,"Micro",0.86,"Micro0,86","Oro"]
[null,null,"Micro",0.87,"Micro0,87","Oro"]
[null,null,"Micro",0.88,"Micro0,88","Oro"]
[null,null,"Micro",0.89,"Micro0,89","Oro"]
[null,null,"Micro",0.9,"Micro0,9","Oro"]
[null,null,"Micro",0.91,"Micro0,91","Platino"]
[null,null,"Micro",0.92,"Micro0,92","Platino"]
[null,null,"Micro",0.93,"Micro0,93","Platino"]
[null,null,"Micro",0.94,"Micro0,94","Platino"]
[null,null,"Micro",0.95,"Micro0,95","Platino"]
[null,null,"Micro",0.96,"Micro0,96","Platino"]
[null,null,"Micro",0.97,"Micro0,97","Platino"]
[null,null,"Micro",0.98,"Micro0,98","Platino"]
[null,null,"Micro",0.99,"Micro0,99","Platino"]
[null,null,"Micro",1,"Micro1","Platino"]
[null,null,"Pequeña",0,"Pequeña0","Bronce"]
[null,null,"Pequeña",0.01,"Pequeña0,01","Bronce"]
[null,null,"Pequeña",0.02,"Pequeña0,02","Bronce"]
[null,null,"Pequeña",0.03,"Pequeña0,03","Bronce"]
[null,null,"Pequeña",0.04,"Pequeña0,04","Bronce"]
[null,null,"Pequeña",0.05,"Pequeña0,05","Bronce"]
[null,null,"Pequeña",0.06,"Pequeña0,06","Bronce"]
[null,null,"Pequeña",7.0000000000000007E-2,"Pequeña0,07","Bronce"]
[null,null,"Pequeña",0.08,"Pequeña0,08","Bronce"]
[null,null,"Pequeña",0.09,"Pequeña0,09","Bronce"]
[null,null,"Pequeña",0.1,"Pequeña0,1","Bronce"]
[null,null,"Pequeña",0.11,"Pequeña0,11","Bronce"]
[null,null,"Pequeña",0.12,"Pequeña0,12","Bronce"]
[null,null,"Pequeña",0.13,"Pequeña0,13","Bronce"]
[null,null,"Pequeña",0.14000000000000001,"Pequeña0,14","Bronce"]
[null,null,"Pequeña",0.15,"Pequeña0,15","Bronce"]
[null,null,"Pequeña",0.16,"Pequeña0,16","Bronce"]
[null,null,"Pequeña",0.17,"Pequeña0,17","Bronce"]
[null,null,"Pequeña",0.18,"Pequeña0,18","Bronce"]
[null,null,"Pequeña",0.19,"Pequeña0,19","Bronce"]
[null,null,"Pequeña",0.2,"Pequeña0,2","Bronce"]
[null,null,"Pequeña",0.21,"Pequeña0,21","Bronce"]
[null,null,"Pequeña",0.22,"Pequeña0,22","Bronce"]
[null,null,"Pequeña",0.23,"Pequeña0,23","Bronce"]
[null,null,"Pequeña",0.24,"Pequeña0,24","Bronce"]
[null,null,"Pequeña",0.25,"Pequeña0,25","Bronce"]
[null,null,"Pequeña",0.26,"Pequeña0,26","Bronce"]
[null,null,"Pequeña",0.27,"Pequeña0,27","Bronce"]
[null,null,"Pequeña",0.28000000000000003,"Pequeña0,28","Bronce"]
[null,null,"Pequeña",0.28999999999999998,"Pequeña0,29","Bronce"]
[null,null,"Pequeña",0.3,{"$f":"CONCATENATE(C146,D146)","v":"Pequeña0,3"},"Bronce"]
[null,null,"Pequeña",0.31,"Pequeña0,31","Bronce"]
[null,null,"Pequeña",0.32,"Pequeña0,32","Bronce"]
[null,null,"Pequeña",0.33,"Pequeña0,33","Bronce"]
[null,null,"Pequeña",0.34,"Pequeña0,34","Bronce"]
[null,null,"Pequeña",0.35,"Pequeña0,35","Bronce"]
[null,null,"Pequeña",0.36,"Pequeña0,36","Bronce"]
[null,null,"Pequeña",0.37,"Pequeña0,37","Bronce"]
[null,null,"Pequeña",0.38,"Pequeña0,38","Bronce"]
[null,null,"Pequeña",0.39,"Pequeña0,39","Bronce"]
[null,null,"Pequeña",0.4,"Pequeña0,4","Bronce"]
[null,null,"Pequeña",0.41,"Pequeña0,41","Plata"]
[null,null,"Pequeña",0.42,"Pequeña0,42","Plata"]
[null,null,"Pequeña",0.43,"Pequeña0,43","Plata"]
[null,null,"Pequeña",0.44,"Pequeña0,44","Plata"]
[null,null,"Pequeña",0.45,"Pequeña0,45","Plata"]
[null,null,"Pequeña",0.46,"Pequeña0,46","Plata"]
[null,null,"Pequeña",0.47,"Pequeña0,47","Plata"]
[null,null,"Pequeña",0.48,"Pequeña0,48","Plata"]
[null,null,"Pequeña",0.49,"Pequeña0,49","Plata"]
[null,null,"Pequeña",0.5,"Pequeña0,5","Plata"]
[null,null,"Pequeña",0.51,"Pequeña0,51","Plata"]
[null,null,"Pequeña",0.52,"Pequeña0,52","Plata"]
[null,null,"Pequeña",0.53,"Pequeña0,53","Plata"]
[null,null,"Pequeña",0.54,"Pequeña0,54","Plata"]
[null,null,"Pequeña",0.55000000000000004,"Pequeña0,55","Plata"]
[null,null,"Pequeña",0.56000000000000005,"Pequeña0,56","Plata"]
[null,null,"Pequeña",0.56999999999999995,"Pequeña0,57","Plata"]
[null,null,"Pequeña",0.57999999999999996,"Pequeña0,58","Plata"]
[null,null,"Pequeña",0.59,"Pequeña0,59","Plata"]
[null,null,"Pequeña",0.6,"Pequeña0,6","Plata"]
[null,null,"Pequeña",0.61,"Pequeña0,61","Plata"]
[null,null,"Pequeña",0.62,"Pequeña0,62","Plata"]
[null,null,"Pequeña",0.63,"Pequeña0,63","Plata"]
[null,null,"Pequeña",0.64,"Pequeña0,64","Plata"]
[null,null,"Pequeña",0.65,"Pequeña0,65","Plata"]
[null,null,"Pequeña",0.66,"Pequeña0,66","Plata"]
[null,null,"Pequeña",0.67,"Pequeña0,67","Plata"]
[null,null,"Pequeña",0.68,"Pequeña0,68","Plata"]
[null,null,"Pequeña",0.69,"Pequeña0,69","Plata"]
[null,null,"Pequeña",0.7,"Pequeña0,7","Plata"]
[null,null,"Pequeña",0.71,"Pequeña0,71","Plata"]
[null,null,"Pequeña",0.72,"Pequeña0,72","Plata"]
[null,null,"Pequeña",0.73,"Pequeña0,73","Plata"]
[null,null,"Pequeña",0.74,"Pequeña0,74","Plata"]
[null,null,"Pequeña",0.75,"Pequeña0,75","Oro"]
[null,null,"Pequeña",0.76,"Pequeña0,76","Oro"]
[null,null,"Pequeña",0.77,"Pequeña0,77","Oro"]
[null,null,"Pequeña",0.78,"Pequeña0,78","Oro"]
[null,null,"Pequeña",0.79,"Pequeña0,79","Oro"]
[null,null,"Pequeña",0.8,"Pequeña0,8","Oro"]
[null,null,"Pequeña",0.81,"Pequeña0,81","Oro"]
[null,null,"Pequeña",0.82,"Pequeña0,82","Oro"]
[null,null,"Pequeña",0.83,"Pequeña0,83","Oro"]
[null,null,"Pequeña",0.84,"Pequeña0,84","Oro"]
[null,null,"Pequeña",0.85,"Pequeña0,85","Oro"]
[null,null,"Pequeña",0.86,"Pequeña0,86","Oro"]
[null,null,"Pequeña",0.87,"Pequeña0,87","Oro"]
[null,null,"Pequeña",0.88,"Pequeña0,88","Oro"]
[null,null,"Pequeña",0.89,"Pequeña0,89","Oro"]
[null,null,"Pequeña",0.9,"Pequeña0,9","Oro"]
[null,null,"Pequeña",0.91,"Pequeña0,91","Platino"]
[null,null,"Pequeña",0.92,"Pequeña0,92","Platino"]
[null,null,"Pequeña",0.93,"Pequeña0,93","Platino"]
[null,null,"Pequeña",0.94,{"$f":"CONCATENATE(C210,D210)","v":"Pequeña0,94"},"Platino"]
[null,null,"Pequeña",0.95,"Pequeña0,95","Platino"]
[null,null,"Pequeña",0.96,"Pequeña0,96","Platino"]
[null,null,"Pequeña",0.97,"Pequeña0,97","Platino"]
[null,null,"Pequeña",0.98,"Pequeña0,98","Platino"]
[null,null,"Pequeña",0.99,"Pequeña0,99","Platino"]
[null,null,"Pequeña",1,"Pequeña1","Platino"]
[null,null,"Mediana",0,"Mediana0","Bronce"]
[null,null,"Mediana",0.01,"Mediana0,01","Bronce"]
[null,null,"Mediana",0.02,"Mediana0,02","Bronce"]
[null,null,"Mediana",0.03,"Mediana0,03","Bronce"]
[null,null,"Mediana",0.04,"Mediana0,04","Bronce"]
[null,null,"Mediana",0.05,"Mediana0,05","Bronce"]
[null,null,"Mediana",0.06,"Mediana0,06","Bronce"]
[null,null,"Mediana",7.0000000000000007E-2,"Mediana0,07","Bronce"]
[null,null,"Mediana",0.08,"Mediana0,08","Bronce"]
[null,null,"Mediana",0.09,"Mediana0,09","Bronce"]
[null,null,"Mediana",0.1,"Mediana0,1","Bronce"]
[null,null,"Mediana",0.11,"Mediana0,11","Bronce"]
[null,null,"Mediana",0.12,"Mediana0,12","Bronce"]
[null,null,"Mediana",0.13,"Mediana0,13","Bronce"]
[null,null,"Mediana",0.14000000000000001,"Mediana0,14","Bronce"]
[null,null,"Mediana",0.15,"Mediana0,15","Bronce"]
[null,null,"Mediana",0.16,"Mediana0,16","Bronce"]
[null,null,"Mediana",0.17,"Mediana0,17","Bronce"]
[null,null,"Mediana",0.18,"Mediana0,18","Bronce"]
[null,null,"Mediana",0.19,"Mediana0,19","Bronce"]
[null,null,"Mediana",0.2,"Mediana0,2","Bronce"]
[null,null,"Mediana",0.21,"Mediana0,21","Bronce"]
[null,null,"Mediana",0.22,"Mediana0,22","Bronce"]
[null,null,"Mediana",0.23,"Mediana0,23","Bronce"]
[null,null,"Mediana",0.24,"Mediana0,24","Bronce"]
[null,null,"Mediana",0.25,"Mediana0,25","Bronce"]
[null,null,"Mediana",0.26,"Mediana0,26","Bronce"]
[null,null,"Mediana",0.27,"Mediana0,27","Bronce"]
[null,null,"Mediana",0.28000000000000003,"Mediana0,28","Bronce"]
[null,null,"Mediana",0.28999999999999998,"Mediana0,29","Bronce"]
[null,null,"Mediana",0.3,"Mediana0,3","Bronce"]
[null,null,"Mediana",0.31,"Mediana0,31","Bronce"]
[null,null,"Mediana",0.32,"Mediana0,32","Bronce"]
[null,null,"Mediana",0.33,"Mediana0,33","Bronce"]
[null,null,"Mediana",0.34,"Mediana0,34","Bronce"]
[null,null,"Mediana",0.35,"Mediana0,35","Bronce"]
[null,null,"Mediana",0.36,"Mediana0,36","Bronce"]
[null,null,"Mediana",0.37,"Mediana0,37","Bronce"]
[null,null,"Mediana",0.38,"Mediana0,38","Bronce"]
[null,null,"Mediana",0.39,"Mediana0,39","Bronce"]
[null,null,"Mediana",0.4,"Mediana0,4","Bronce"]
[null,null,"Mediana",0.41,"Mediana0,41","Plata"]
[null,null,"Mediana",0.42,"Mediana0,42","Plata"]
[null,null,"Mediana",0.43,"Mediana0,43","Plata"]
[null,null,"Mediana",0.44,"Mediana0,44","Plata"]
[null,null,"Mediana",0.45,"Mediana0,45","Plata"]
[null,null,"Mediana",0.46,"Mediana0,46","Plata"]
[null,null,"Mediana",0.47,"Mediana0,47","Plata"]
[null,null,"Mediana",0.48,"Mediana0,48","Plata"]
[null,null,"Mediana",0.49,"Mediana0,49","Plata"]
[null,null,"Mediana",0.5,"Mediana0,5","Plata"]
[null,null,"Mediana",0.51,"Mediana0,51","Plata"]
[null,null,"Mediana",0.52,"Mediana0,52","Plata"]
[null,null,"Mediana",0.53,"Mediana0,53","Plata"]
[null,null,"Mediana",0.54,"Mediana0,54","Plata"]
[null,null,"Mediana",0.55000000000000004,"Mediana0,55","Plata"]
[null,null,"Mediana",0.56000000000000005,"Mediana0,56","Plata"]
[null,null,"Mediana",0.56999999999999995,"Mediana0,57","Plata"]
[null,null,"Mediana",0.57999999999999996,{"$f":"CONCATENATE(C275,D275)","v":"Mediana0,58"},"Plata"]
[null,null,"Mediana",0.59,"Mediana0,59","Plata"]
[null,null,"Mediana",0.6,"Mediana0,6","Plata"]
[null,null,"Mediana",0.61,"Mediana0,61","Plata"]
[null,null,"Mediana",0.62,"Mediana0,62","Plata"]
[null,null,"Mediana",0.63,"Mediana0,63","Plata"]
[null,null,"Mediana",0.64,"Mediana0,64","Plata"]
[null,null,"Mediana",0.65,"Mediana0,65","Plata"]
[null,null,"Mediana",0.66,"Mediana0,66","Plata"]
[null,null,"Mediana",0.67,"Mediana0,67","Plata"]
[null,null,"Mediana",0.68,"Mediana0,68","Plata"]
[null,null,"Mediana",0.69,"Mediana0,69","Plata"]
[null,null,"Mediana",0.7,"Mediana0,7","Plata"]
[null,null,"Mediana",0.71,"Mediana0,71","Plata"]
[null,null,"Mediana",0.72,"Mediana0,72","Plata"]
[null,null,"Mediana",0.73,"Mediana0,73","Plata"]
[null,null,"Mediana",0.74,"Mediana0,74","Plata"]
[null,null,"Mediana",0.75,"Mediana0,75","Oro"]
[null,null,"Mediana",0.76,"Mediana0,76","Oro"]
[null,null,"Mediana",0.77,"Mediana0,77","Oro"]
[null,null,"Mediana",0.78,"Mediana0,78","Oro"]
[null,null,"Mediana",0.79,"Mediana0,79","Oro"]
[null,null,"Mediana",0.8,"Mediana0,8","Oro"]
[null,null,"Mediana",0.81,"Mediana0,81","Oro"]
[null,null,"Mediana",0.82,"Mediana0,82","Oro"]
[null,null,"Mediana",0.83,"Mediana0,83","Oro"]
[null,null,"Mediana",0.84,"Mediana0,84","Oro"]
[null,null,"Mediana",0.85,"Mediana0,85","Oro"]
[null,null,"Mediana",0.86,"Mediana0,86","Oro"]
[null,null,"Mediana",0.87,"Mediana0,87","Oro"]
[null,null,"Mediana",0.88,"Mediana0,88","Oro"]
[null,null,"Mediana",0.89,"Mediana0,89","Oro"]
[null,null,"Mediana",0.9,"Mediana0,9","Oro"]
[null,null,"Mediana",0.91,"Mediana0,91","Platino"]
[null,null,"Mediana",0.92,"Mediana0,92","Platino"]
[null,null,"Mediana",0.93,"Mediana0,93","Platino"]
[null,null,"Mediana",0.94,"Mediana0,94","Platino"]
[null,null,"Mediana",0.95,"Mediana0,95","Platino"]
[null,null,"Mediana",0.96,"Mediana0,96","Platino"]
[null,null,"Mediana",0.97,"Mediana0,97","Platino"]
[null,null,"Mediana",0.98,"Mediana0,98","Platino"]
[null,null,"Mediana",0.99,"Mediana0,99","Platino"]
[null,null,"Mediana",1,"Mediana1","Platino"]
[null,null,"Grande",0,"Grande0","Bronce"]
[null,null,"Grande",0.01,"Grande0,01","Bronce"]
[null,null,"Grande",0.02,"Grande0,02","Bronce"]
[null,null,"Grande",0.03,"Grande0,03","Bronce"]
[null,null,"Grande",0.04,"Grande0,04","Bronce"]
[null,null,"Grande",0.05,"Grande0,05","Bronce"]
[null,null,"Grande",0.06,"Grande0,06","Bronce"]
[null,null,"Grande",7.0000000000000007E-2,"Grande0,07","Bronce"]
[null,null,"Grande",0.08,"Grande0,08","Bronce"]
[null,null,"Grande",0.09,"Grande0,09","Bronce"]
[null,null,"Grande",0.1,"Grande0,1","Bronce"]
[null,null,"Grande",0.11,"Grande0,11","Bronce"]
[null,null,"Grande",0.12,"Grande0,12","Bronce"]
[null,null,"Grande",0.13,"Grande0,13","Bronce"]
[null,null,"Grande",0.14000000000000001,"Grande0,14","Bronce"]
[null,null,"Grande",0.15,"Grande0,15","Bronce"]
[null,null,"Grande",0.16,"Grande0,16","Bronce"]
[null,null,"Grande",0.17,"Grande0,17","Bronce"]
[null,null,"Grande",0.18,"Grande0,18","Bronce"]
[null,null,"Grande",0.19,"Grande0,19","Bronce"]
[null,null,"Grande",0.2,"Grande0,2","Bronce"]
[null,null,"Grande",0.21,"Grande0,21","Bronce"]
[null,null,"Grande",0.22,{"$f":"CONCATENATE(C340,D340)","v":"Grande0,22"},"Bronce"]
[null,null,"Grande",0.23,"Grande0,23","Bronce"]
[null,null,"Grande",0.24,"Grande0,24","Bronce"]
[null,null,"Grande",0.25,"Grande0,25","Bronce"]
[null,null,"Grande",0.26,"Grande0,26","Bronce"]
[null,null,"Grande",0.27,"Grande0,27","Bronce"]
[null,null,"Grande",0.28000000000000003,"Grande0,28","Bronce"]
[null,null,"Grande",0.28999999999999998,"Grande0,29","Bronce"]
[null,null,"Grande",0.3,"Grande0,3","Bronce"]
[null,null,"Grande",0.31,"Grande0,31","Bronce"]
[null,null,"Grande",0.32,"Grande0,32","Bronce"]
[null,null,"Grande",0.33,"Grande0,33","Bronce"]
[null,null,"Grande",0.34,"Grande0,34","Bronce"]
[null,null,"Grande",0.35,"Grande0,35","Bronce"]
[null,null,"Grande",0.36,"Grande0,36","Bronce"]
[null,null,"Grande",0.37,"Grande0,37","Bronce"]
[null,null,"Grande",0.38,"Grande0,38","Bronce"]
[null,null,"Grande",0.39,"Grande0,39","Bronce"]
[null,null,"Grande",0.4,"Grande0,4","Bronce"]
[null,null,"Grande",0.41,"Grande0,41","Plata"]
[null,null,"Grande",0.42,"Grande0,42","Plata"]
[null,null,"Grande",0.43,"Grande0,43","Plata"]
[null,null,"Grande",0.44,"Grande0,44","Plata"]
[null,null,"Grande",0.45,"Grande0,45","Plata"]
[null,null,"Grande",0.46,"Grande0,46","Plata"]
[null,null,"Grande",0.47,"Grande0,47","Plata"]
[null,null,"Grande",0.48,"Grande0,48","Plata"]
[null,null,"Grande",0.49,"Grande0,49","Plata"]
[null,null,"Grande",0.5,"Grande0,5","Plata"]
[null,null,"Grande",0.51,"Grande0,51","Plata"]
[null,null,"Grande",0.52,"Grande0,52","Plata"]
[null,null,"Grande",0.53,"Grande0,53","Plata"]
[null,null,"Grande",0.54,"Grande0,54","Plata"]
[null,null,"Grande",0.55000000000000004,"Grande0,55","Plata"]
[null,null,"Grande",0.56000000000000005,"Grande0,56","Plata"]
[null,null,"Grande",0.56999999999999995,"Grande0,57","Plata"]
[null,null,"Grande",0.57999999999999996,"Grande0,58","Plata"]
[null,null,"Grande",0.59,"Grande0,59","Plata"]
[null,null,"Grande",0.6,{"$f":"CONCATENATE(C378,D378)","v":"Grande0,6"},"Plata"]
[null,null,"Grande",0.61,{"$f":"CONCATENATE(C379,D379)","v":"Grande0,61"},"Plata"]
[null,null,"Grande",0.62,"Grande0,62","Plata"]
[null,null,"Grande",0.63,"Grande0,63","Plata"]
[null,null,"Grande",0.64,"Grande0,64","Plata"]
[null,null,"Grande",0.65,"Grande0,65","Plata"]
[null,null,"Grande",0.66,"Grande0,66","Plata"]
[null,null,"Grande",0.67,"Grande0,67","Plata"]
[null,null,"Grande",0.68,"Grande0,68","Plata"]
[null,null,"Grande",0.69,"Grande0,69","Plata"]
[null,null,"Grande",0.7,"Grande0,7","Plata"]
[null,null,"Grande",0.71,"Grande0,71","Plata"]
[null,null,"Grande",0.72,"Grande0,72","Plata"]
[null,null,"Grande",0.73,"Grande0,73","Plata"]
[null,null,"Grande",0.74,"Grande0,74","Plata"]
[null,null,"Grande",0.75,"Grande0,75","Oro"]
[null,null,"Grande",0.76,"Grande0,76","Oro"]
[null,null,"Grande",0.77,"Grande0,77","Oro"]
[null,null,"Grande",0.78,"Grande0,78","Oro"]
[null,null,"Grande",0.79,"Grande0,79","Oro"]
[null,null,"Grande",0.8,"Grande0,8","Oro"]
[null,null,"Grande",0.81,"Grande0,81","Oro"]
[null,null,"Grande",0.82,"Grande0,82","Oro"]
[null,null,"Grande",0.83,"Grande0,83","Oro"]
[null,null,"Grande",0.84,"Grande0,84","Oro"]
[null,null,"Grande",0.85,"Grande0,85","Oro"]
[null,null,"Grande",0.86,{"$f":"CONCATENATE(C404,D404)","v":"Grande0,86"},"Oro"]
[null,null,"Grande",0.87,"Grande0,87","Oro"]
[null,null,"Grande",0.88,"Grande0,88","Oro"]
[null,null,"Grande",0.89,"Grande0,89","Oro"]
[null,null,"Grande",0.9,"Grande0,9","Oro"]
[null,null,"Grande",0.91,"Grande0,91","Platino"]
[null,null,"Grande",0.92,"Grande0,92","Platino"]
[null,null,"Grande",0.93,"Grande0,93","Platino"]
[null,null,"Grande",0.94,"Grande0,94","Platino"]
[null,null,"Grande",0.95,"Grande0,95","Platino"]
[null,null,"Grande",0.96,"Grande0,96","Platino"]
[null,null,"Grande",0.97,"Grande0,97","Platino"]
[null,null,"Grande",0.98,"Grande0,98","Platino"]
[null,null,"Grande",0.99,"Grande0,99","Platino"]
[null,null,"Grande",1,"Grande1","Platino"]

{"sheet":"Metodos","index":11,"n_rows":34,"n_cols":6,"rows_kept":34,"cut":false,"hidden":true,"merged":[]}
[]
[null,"Tipo de Empresa","Codigo","Metodo de Verificación","Codificación","Puntaje"]
[null,"Micro","M","1. Eficiencia Energética",{"$f":"CONCATENATE(C3,\"-\",D3)","v":"M-1. Eficiencia Energética"},{"$f":"Preguntas!C7","v":185}]
[null,"Micro","M","2. Cambio Climático ",{"$f":"CONCATENATE(C4,\"-\",D4)","v":"M-2. Cambio Climático "},{"$f":"Preguntas!C31","v":145}]
[null,"Micro","M","3. Consumo de agua ","M-3. Consumo de agua ",{"$f":"Preguntas!C50","v":85}]
[null,"Micro","M","5. Innovaciones en el Producto o Procesos","M-5. Innovaciones en el Producto o Procesos",{"$f":"Preguntas!C63","v":50}]
[null,"Micro","M","6. Reincorporación al Ciclo Productivo","M-6. Reincorporación al Ciclo Productivo",{"$f":"Preguntas!C76","v":0}]
[null,"Micro","M","7. Gestión de los Residuos Propios (Sólidos, Líquidos, Gaseosos)","M-7. Gestión de los Residuos Propios (Sólidos, Líquidos, Gaseosos)",{"$f":"Preguntas!C87","v":145}]
[null,"Micro","M","8. Políticas de Responsabilidad Social y Ambiental","M-8. Políticas de Responsabilidad Social y Ambiental",{"$f":"Preguntas!C116","v":275}]
[null,"Micro","M","9. Seguridad Industrial y Salud Ocupacional","M-9. Seguridad Industrial y Salud Ocupacional",{"$f":"Preguntas!C154","v":25}]
[null,"Pequeña","P","1. Eficiencia Energética",{"$f":"CONCATENATE(C11,\"-\",D11)","v":"P-1. Eficiencia Energética"},{"$f":"Preguntas!D7","v":330}]
[null,"Pequeña","P","2. Cambio Climático ",{"$f":"CONCATENATE(C12,\"-\",D12)","v":"P-2. Cambio Climático "},{"$f":"Preguntas!D31","v":290}]
[null,"Pequeña","P","3. Consumo de agua ","P-3. Consumo de agua ",{"$f":"Preguntas!D50","v":170}]
[null,"Pequeña","P","5. Innovaciones en el Producto o Procesos","P-5. Innovaciones en el Producto o Procesos",{"$f":"Preguntas!D63","v":100}]
[null,"Pequeña","P","6. Reincorporación al Ciclo Productivo","P-6. Reincorporación al Ciclo Productivo",{"$f":"Preguntas!D76","v":0}]
[null,"Pequeña","P","7. Gestión de los Residuos Propios (Sólidos, Líquidos, Gaseosos)","P-7. Gestión de los Residuos Propios (Sólidos, Líquidos, Gaseosos)",{"$f":"Preguntas!D87","v":290}]
[null,"Pequeña","P","8. Políticas de Responsabilidad Social y Ambiental","P-8. Políticas de Responsabilidad Social y Ambiental",{"$f":"Preguntas!D116","v":550}]
[null,"Pequeña","P","9. Seguridad Industrial y Salud Ocupacional","P-9. Seguridad Industrial y Salud Ocupacional",{"$f":"Preguntas!D154","v":50}]
[null,"Mediana","Me","1. Eficiencia Energética","Me-1. Eficiencia Energética",{"$f":"Preguntas!E7","v":475}]
[null,"Mediana","Me","2. Cambio Climático ","Me-2. Cambio Climático ",{"$f":"Preguntas!E31","v":435}]
[null,"Mediana","Me","3. Consumo de agua ","Me-3. Consumo de agua ",{"$f":"Preguntas!E50","v":255}]
[null,"Mediana","Me","5. Innovaciones en el Producto o Procesos","Me-5. Innovaciones en el Producto o Procesos",{"$f":"Preguntas!E63","v":150}]
[null,"Mediana","Me","6. Reincorporación al Ciclo Productivo","Me-6. Reincorporación al Ciclo Productivo",{"$f":"Preguntas!E76","v":0}]
[null,"Mediana","Me","7. Gestión de los Residuos Propios (Sólidos, Líquidos, Gaseosos)","Me-7. Gestión de los Residuos Propios (Sólidos, Líquidos, Gaseosos)",{"$f":"Preguntas!E87","v":435}]
[null,"Mediana","Me","8. Políticas de Responsabilidad Social y Ambiental","Me-8. Políticas de Responsabilidad Social y Ambiental",{"$f":"Preguntas!E116","v":825}]
[null,"Mediana","Me","9. Seguridad Industrial y Salud Ocupacional","Me-9. Seguridad Industrial y Salud Ocupacional",{"$f":"Preguntas!E154","v":75}]
[null,"Grande","G","1. Eficiencia Energética","G-1. Eficiencia Energética",{"$f":"Preguntas!F7","v":620}]
[null,"Grande","G","2. Cambio Climático ","G-2. Cambio Climático ",{"$f":"Preguntas!F31","v":604}]
[null,"Grande","G","3. Consumo de agua ","G-3. Consumo de agua ",{"$f":"Preguntas!F50","v":352}]
[null,"Grande","G","5. Innovaciones en el Producto o Procesos","G-5. Innovaciones en el Producto o Procesos",{"$f":"Preguntas!F63","v":200}]
[null,"Grande","G","6. Reincorporación al Ciclo Productivo","G-6. Reincorporación al Ciclo Productivo",{"$f":"Preguntas!F76","v":0}]
[null,"Grande","G","7. Gestión de los Residuos Propios (Sólidos, Líquidos, Gaseosos)","G-7. Gestión de los Residuos Propios (Sólidos, Líquidos, Gaseosos)",{"$f":"Preguntas!F87","v":580}]
[null,"Grande","G","8. Políticas de Responsabilidad Social y Ambiental","G-8. Políticas de Responsabilidad Social y Ambiental",{"$f":"Preguntas!F116","v":1100}]
[null,"Grande","G","9. Seguridad Industrial y Salud Ocupacional","G-9. Seguridad Industrial y Salud Ocupacional",{"$f":"Preguntas!F154","v":100}]

{"sheet":"Calificación","index":12,"n_rows":1122,"n_cols":7,"rows_kept":1122,"cut":false,"hidden":true,"merged":[]}
[]
[null,"Número Pregunta","Tipo de Empresa","Respuesta","Clave","Calificación"]
[null,"1.1","M","SI",{"$f":"CONCATENATE(B3,\"-\",C3,\"-\",D3)","v":"1.1-M-SI"},25]
[null,"1.1","M","NO",{"$f":"CONCATENATE(B4,\"-\",C4,\"-\",D4)","v":"1.1-M-NO"},0]
[null,"1.2","M","X","1.2-M-X",5]
[null,"1.2","M",null,"1.2-M-",0]
[null,"1.21","M","X","1.21-M-X",5]
[null,"1.21","M",null,"1.21-M-",0]
[null,"1.22","M","X","1.22-M-X",5]
[null,"1.22","M",null,"1.22-M-",0]
[null,"1.23","M","X","1.23-M-X",5]
[null,"1.23","M",null,"1.23-M-",0]
[null,"1.24","M","X","1.24-M-X",5]
[null,"1.24","M",null,"1.24-M-",0]
[null,"1.25","M","X","1.25-M-X",5]
[null,"1.25","M",null,"1.25-M-",0]
[null,"1.3","M","< 1%","1.3-M-< 1%",0]
[null,"1.3","M","1 - 25%","1.3-M-1 - 25%",10]
[null,"1.3","M","25 - 50%","1.3-M-25 - 50%",15]
[null,"1.3","M","50 - 75%","1.3-M-50 - 75%",20]
[null,"1.3","M","> 75%","1.3-M-> 75%",25]
[null,"1.4","M","SI","1.4-M-SI",25]
[null,"1.4","M","NO","1.4-M-NO",0]
[null,"1.5","M","X","1.5-M-X",10]
[null,"1.5","M",null,"1.5-M-",0]
[null,"1.51","M","X","1.51-M-X",10]
[null,"1.51","M",null,"1.51-M-",0]
[null,"1.52","M","X","1.52-M-X",10]
[null,"1.52","M",null,"1.52-M-",0]
[null,"1.53","M","X","1.53-M-X",10]
[null,"1.53","M",null,"1.53-M-",0]
[null,"1.54","M","X","1.54-M-X",10]
[null,"1.54","M",null,"1.54-M-",0]
[null,"1.55","M","X","1.55-M-X",10]
[null,"1.55","M",null,"1.55-M-",0]
[null,"1.56","M","X","1.56-M-X",10]
[null,"1.56","M",null,"1.56-M-",0]
[null,"1.57","M","X","1.57-M-X",10]
[null,"1.57","M",null,"1.57-M-",0]
[null,"2.1","M","SI","2.1-M-SI",25]
[null,"2.1","M","NO","2.1-M-NO",0]
[null,"2.2","M","X","2.2-M-X",10]
[null,"2.2","M",null,"2.2-M-",0]
[null,"2.21","M","X","2.21-M-X",10]
[null,"2.21","M",null,"2.21-M-",0]
[null,"2.22","M","X","2.22-M-X",10]
[null,"2.22","M",null,"2.22-M-",0]
[null,"2.23","M","X","2.23-M-X",10]
[null,"2.23","M",null,"2.23-M-",0]
[null,"2.24","M","X","2.24-M-X",10]
[null,"2.24","M",null,"2.24-M-",0]
[null,"2.25","M","X","2.25-M-X",10]
[null,"2.25","M",null,"2.25-M-",0]
[null,"2.31","M","X","2.31-M-X",15]
[null,"2.31","M",null,"2.31-M-",0]
[null,"2.32","M","X","2.32-M-X",15]
[null,"2.32","M",null,"2.32-M-",0]
[null,"2.33","M","X","2.33-M-X",15]
[null,"2.33","M",null,"2.33-M-",0]
[null,"2.34","M","X","2.34-M-X",0]
[null,"2.34","M",null,"2.34-M-",0]
[null,"2.3","M","X","2.3-M-X",15]
[null,"2.3","M",null,"2.3-M-",0]
[null,"3.1","M","SI","3.1-M-SI",25]
[null,"3.1","M","NO","3.1-M-NO",0]
[null,"3.2","M","X","3.2-M-X",10]
[null,"3.2","M",null,"3.2-M-",0]
[null,"3.21","M","X",{"$f":"CONCATENATE(B68,\"-\",C68,\"-\",D68)","v":"3.21-M-X"},10]
[null,"3.21","M",null,"3.21-M-",0]
[null,"3.22","M","X","3.22-M-X",10]
[null,"3.22","M",null,"3.22-M-",0]
[null,"3.23","M","X","3.23-M-X",10]
[null,"3.23","M",null,"3.23-M-",0]
[null,"3.24","M","X","3.24-M-X",10]
[null,"3.24","M",null,"3.24-M-",0]
[null,"3.25","M","X","3.25-M-X",10]
[null,"3.25","M",null,"3.25-M-",0]
[null,"4.1","M","SI","4.1-M-SI",25]
[null,"4.1","M","NO","4.1-M-NO",0]
[null,"4.2","M","X","4.2-M-X",5]
[null,"4.2","M",null,"4.2-M-",0]
[null,"4.21","M","X","4.21-M-X",5]
[null,"4.21","M",null,"4.21-M-",0]
[null,"4.22","M","X","4.22-M-X",5]
[null,"4.22","M",null,"4.22-M-",0]
[null,"4.23","M","X","4.23-M-X",5]
[null,"4.23","M",null,"4.23-M-",0]
[null,"4.24","M","X","4.24-M-X",5]
[null,"4.24","M",null,"4.24-M-",0]
[null,"4.3","M","X","4.3-M-X",5]
[null,"4.3","M",null,"4.3-M-",0]
[null,"4.31","M","X","4.31-M-X",5]
[null,"4.31","M",null,"4.31-M-",0]
[null,"4.32","M","X","4.32-M-X",5]
[null,"4.32","M",null,"4.32-M-",0]
[null,"4.33","M","X","4.33-M-X",5]
[null,"4.33","M",null,"4.33-M-",0]
[null,"4.34","M","X","4.34-M-X",5]
[null,"4.34","M",null,"4.34-M-",0]
[null,"4.35","M","X","4.35-M-X",5]
[null,"4.35","M",null,"4.35-M-",0]
[null,"4.36","M","X","4.36-M-X",5]
[null,"4.36","M",null,"4.36-M-",0]
[null,"4.4","M","X","4.4-M-X",5]
[null,"4.4","M",null,"4.4-M-",0]
[null,"4.41","M","X","4.41-M-X",20]
[null,"4.41","M",null,"4.41-M-",0]
[null,"5.1","M","SI","5.1-M-SI",25]
[null,"5.1","M","NO","5.1-M-NO",0]
[null,"5.2","M","X","5.2-M-X",5]
[null,"5.2","M",null,"5.2-M-",0]
[null,"5.21","M","X","5.21-M-X",5]
[null,"5.21","M",null,"5.21-M-",0]
[null,"5.22","M","X","5.22-M-X",5]
[null,"5.22","M",null,"5.22-M-",0]
[null,"5.23","M","X","5.23-M-X",5]
[null,"5.23","M",null,"5.23-M-",0]
[null,"5.24","M","X","5.24-M-X",5]
[null,"5.24","M",null,"5.24-M-",0]
[null,"6.1","M","SI","6.1-M-SI",25]
[null,"6.1","M","NO","6.1-M-NO",0]
[null,"6.2","M","< 1%","6.2-M-< 1%",0]
[null,"6.2","M","1 - 25%","6.2-M-1 - 25%",10]
[null,"6.2","M","25 - 50%","6.2-M-25 - 50%",15]
[null,"6.2","M","50 - 75%","6.2-M-50 - 75%",20]
[null,"6.2","M","> 75%","6.2-M-> 75%",25]
[null,"6.3","M","SI","6.3-M-SI",25]
[null,"6.3","M","NO","6.3-M-NO",0]
[null,"6.5","M","< 1%","6.5-M-< 1%",0]
[null,"6.5","M","1 - 25%","6.5-M-1 - 25%",10]
[null,"6.5","M","25 - 50%","6.5-M-25 - 50%",10]
[null,"6.5","M","50 - 75%",{"$f":"CONCATENATE(B132,\"-\",C132,\"-\",D132)","v":"6.5-M-50 - 75%"},15]
[null,"6.5","M","> 75%","6.5-M-> 75%",25]
[null,"7.1","M","SI","7.1-M-SI",25]
[null,"7.1","M","NO","7.1-M-NO",0]
[null,"7.2","M","X","7.2-M-X",5]
[null,"7.2","M",null,"7.2-M-",0]
[null,"7.21","M","X","7.21-M-X",5]
[null,"7.21","M",null,"7.21-M-",0]
[null,"7.22","M","X","7.22-M-X",5]
[null,"7.22","M",null,"7.22-M-",0]
[null,"7.23","M","X","7.23-M-X",5]
[null,"7.23","M",null,"7.23-M-",0]
[null,"7.24","M","X","7.24-M-X",5]
[null,"7.24","M",null,"7.24-M-",0]
[null,"7.25","M","X","7.25-M-X",5]
[null,"7.25","M",null,"7.25-M-",0]
[null,"7.26","M","X","7.26-M-X",5]
[null,"7.26","M",null,"7.26-M-",0]
[null,"7.27","M","X","7.27-M-X",5]
[null,"7.27","M",null,"7.27-M-",0]
[null,"7.3","M","X","7.3-M-X",5]
[null,"7.3","M",null,"7.3-M-",0]
[null,"7.31","M","X","7.31-M-X",5]
[null,"7.31","M",null,"7.31-M-",0]
[null,"7.32","M","X","7.32-M-X",5]
[null,"7.32","M",null,"7.32-M-",0]
[null,"7.33","M","X","7.33-M-X",5]
[null,"7.33","M",null,"7.33-M-",0]
[null,"7.34","M","X","7.34-M-X",5]
[null,"7.34","M",null,"7.34-M-",0]
[null,"7.35","M","X","7.35-M-X",5]
[null,"7.35","M",null,"7.35-M-",0]
[null,"7.4","M","X","7.4-M-X",5]
[null,"7.4","M",null,"7.4-M-",0]
[null,"7.41","M","X","7.41-M-X",5]
[null,"7.41","M",null,"7.41-M-",0]
[null,"7.42","M","X","7.42-M-X",5]
[null,"7.42","M",null,"7.42-M-",0]
[null,"7.43","M","X","7.43-M-X",5]
[null,"7.43","M",null,"7.43-M-",0]
[null,"7.44","M","X","7.44-M-X",5]
[null,"7.44","M",null,"7.44-M-",0]
[null,"7.45","M","X","7.45-M-X",5]
[null,"7.45","M",null,"7.45-M-",0]
[null,"7.5","M","SI ","7.5-M-SI ",25]
[null,"7.5","M","NO","7.5-M-NO",0]
[null,"7.5","M","NO APLICA","7.5-M-NO APLICA",0]
[null,"7.6","M","X","7.6-M-X",5]
[null,"7.6","M",null,"7.6-M-",0]
[null,"7.61","M","X","7.61-M-X",5]
[null,"7.61","M",null,"7.61-M-",0]
[null,"7.62","M","X","7.62-M-X",5]
[null,"7.62","M",null,"7.62-M-",0]
[null,"7.63","M","X","7.63-M-X",5]
[null,"7.63","M",null,"7.63-M-",0]
[null,"7.64","M","X","7.64-M-X",5]
[null,"7.64","M",null,"7.64-M-",0]
[null,"7.7","M","SI ","7.7-M-SI ",25]
[null,"7.7","M","NO ","7.7-M-NO ",0]
[null,"7.7","M","NO APLICA","7.7-M-NO APLICA",0]
[null,"8.2","M","X","8.2-M-X",6.25]
[null,"8.2","M",null,{"$f":"CONCATENATE(B193,\"-\",C193,\"-\",D193)","v":"8.2-M-"},0]
[null,"8.21","M","X","8.21-M-X",6.25]
[null,"8.21","M",null,{"$f":"CONCATENATE(B195,\"-\",C195,\"-\",D195)","v":"8.21-M-"},0]
[null,"8.22","M","X","8.22-M-X",6.25]
[null,"8.22","M",null,"8.22-M-",0]
[null,"8.23","M","X","8.23-M-X",6.25]
[null,"8.23","M",null,"8.23-M-",0]
[null,"8.2","p","X","8.2-p-X",12.5]
[null,"8.2","p",null,"8.2-p-",0]
[null,"8.21","p","X","8.21-p-X",12.5]
[null,"8.21","p",null,{"$f":"CONCATENATE(B203,\"-\",C203,\"-\",D203)","v":"8.21-p-"},0]
[null,"8.22","p","X","8.22-p-X",12.5]
[null,"8.22","p",null,"8.22-p-",0]
[null,"8.23","p","X","8.23-p-X",12.5]
[null,"8.23","p",null,"8.23-p-",0]
[null,"8.2","Me","X","8.2-Me-X",18.75]
[null,"8.2","Me",null,"8.2-Me-",0]
[null,"8.21","Me","X","8.21-Me-X",18.75]
[null,"8.21","Me",null,{"$f":"CONCATENATE(B211,\"-\",C211,\"-\",D211)","v":"8.21-Me-"},0]
[null,"8.22","Me","X","8.22-Me-X",18.75]
[null,"8.22","Me",null,"8.22-Me-",0]
[null,"8.23","Me","X","8.23-Me-X",18.75]
[null,"8.23","Me",null,"8.23-Me-",0]
[null,"8.2","G","X","8.2-G-X",25]
[null,"8.2","G",null,"8.2-G-",0]
[null,"8.21","G","X","8.21-G-X",25]
[null,"8.21","G",null,{"$f":"CONCATENATE(B219,\"-\",C219,\"-\",D219)","v":"8.21-G-"},0]
[null,"8.22","G","X","8.22-G-X",25]
[null,"8.22","G",null,"8.22-G-",0]
[null,"8.23","G","X","8.23-G-X",25]
[null,"8.23","G",null,"8.23-G-",0]
[null,"8.3","M","X",{"$f":"CONCATENATE(B224,\"-\",C224,\"-\",D224)","v":"8.3-M-X"},5]
[null,"8.3","M",null,"8.3-M-",0]
[null,"8.31","M","X","8.31-M-X",5]
[null,"8.31","M",null,"8.31-M-",0]
[null,"8.32","M","X","8.32-M-X",5]
[null,"8.32","M",null,"8.32-M-",0]
[null,"8.33","M","X","8.33-M-X",5]
[null,"8.33","M",null,"8.33-M-",0]
[null,"8.34","M","X","8.34-M-X",5]
[null,"8.34","M",null,"8.34-M-",0]
[null,"8.4","M","X","8.4-M-X",5]
[null,"8.4","M",null,"8.4-M-",0]
[null,"8.41","M","X","8.41-M-X",5]
[null,"8.41","M",null,"8.41-M-",0]
[null,"8.42","M","X","8.42-M-X",5]
[null,"8.42","M",null,"8.42-M-",0]
[null,"8.43","M","X","8.43-M-X",5]
[null,"8.43","M",null,"8.43-M-",0]
[null,"8.44","M","X","8.44-M-X",5]
[null,"8.44","M",null,"8.44-M-",0]
[null,"8.5","M","SI","8.5-M-SI",25]
[null,"8.5","M","NO","8.5-M-NO",0]
[null,"8.6","M","SI","8.6-M-SI",25]
[null,"8.6","M","NO","8.6-M-NO",0]
[null,"8.7","M","SI","8.7-M-SI",25]
[null,"8.7","M","NO","8.7-M-NO",0]
[null,"8.8","M","SI","8.8-M-SI",25]
[null,"8.8","M","NO","8.8-M-NO",0]
[null,"8.9","M","X","8.9-M-X",5]
[null,"8.9","M",null,"8.9-M-",0]
[null,"8.91","M","X","8.91-M-X",5]
[null,"8.91","M",null,"8.91-M-",0]
[null,"8.92","M","X","8.92-M-X",5]
[null,"8.92","M",null,"8.92-M-",0]
[null,"8.93","M","X","8.93-M-X",5]
[null,"8.93","M",null,"8.93-M-",0]
[null,"8.94","M","X","8.94-M-X",5]
[null,"8.94","M",null,"8.94-M-",0]
[null,"8.1","M",null,"8.1-M-",0]
[null,"8.1","M","X",{"$f":"CONCATENATE(B263,\"-\",C263,\"-\",D263)","v":"8.1-M-X"},6.25]
[null,"8.11","M","X","8.11-M-X",6.25]
[null,"8.11","M",null,{"$f":"CONCATENATE(B265,\"-\",C265,\"-\",D265)","v":"8.11-M-"},0]
[null,"8.12","M","X",{"$f":"CONCATENATE(B266,\"-\",C266,\"-\",D266)","v":"8.12-M-X"},6.25]
[null,"8.12","M",null,{"$f":"CONCATENATE(B267,\"-\",C267,\"-\",D267)","v":"8.12-M-"},0]
[null,"8.13","M","X",{"$f":"CONCATENATE(B268,\"-\",C268,\"-\",D268)","v":"8.13-M-X"},6.25]
[null,"8.13","M",null,{"$f":"CONCATENATE(B269,\"-\",C269,\"-\",D269)","v":"8.13-M-"},0]
[null,"9.1","M","SI","9.1-M-SI",25]
[null,"9.1","M","NO","9.1-M-NO",0]
[null,"1.1","P","SI","1.1-P-SI",50]
[null,"1.1","P","NO","1.1-P-NO",0]
[null,"1.2","P","X","1.2-P-X",10]
[null,"1.2","P",null,"1.2-P-",0]
[null,"1.21","P","X","1.21-P-X",10]
[null,"1.21","P",null,"1.21-P-",0]
[null,"1.22","P","X","1.22-P-X",10]
[null,"1.22","P",null,"1.22-P-",0]
[null,"1.23","P","X","1.23-P-X",10]
[null,"1.23","P",null,"1.23-P-",0]
[null,"1.24","P","X","1.24-P-X",10]
[null,"1.24","P",null,"1.24-P-",0]
[null,"1.25","P","X","1.25-P-X",10]
[null,"1.25","P",null,"1.25-P-",0]
[null,"1.3","P","< 1%","1.3-P-< 1%",0]
[null,"1.3","P","1 - 25%","1.3-P-1 - 25%",15]
[null,"1.3","P","25 - 50%","1.3-P-25 - 50%",20]
[null,"1.3","P","50 - 75%","1.3-P-50 - 75%",35]
[null,"1.3","P","> 75%","1.3-P-> 75%",50]
[null,"1.4","P","SI","1.4-P-SI",50]
[null,"1.4","P","NO","1.4-P-NO",0]
[null,"1.5","P","X","1.5-P-X",15]
[null,"1.5","P",null,"1.5-P-",0]
[null,"1.51","P","X","1.51-P-X",15]
[null,"1.51","P",null,"1.51-P-",0]
[null,"1.52","P","X","1.52-P-X",15]
[null,"1.52","P",null,"1.52-P-",0]
[null,"1.53","P","X","1.53-P-X",15]
[null,"1.53","P",null,"1.53-P-",0]
[null,"1.54","P","X","1.54-P-X",15]
[null,"1.54","P",null,"1.54-P-",0]
[null,"1.55","P","X","1.55-P-X",15]
[null,"1.55","P",null,"1.55-P-",0]
[null,"1.56","P","X","1.56-P-X",15]
[null,"1.56","P",null,"1.56-P-",0]
[null,"1.57","P","X","1.57-P-X",15]
[null,"1.57","P",null,"1.57-P-",0]
[null,"2.1","P","SI","2.1-P-SI",50]
[null,"2.1","P","NO","2.1-P-NO",0]
[null,"2.2","P","X","2.2-P-X",20]
[null,"2.2","P",null,"2.2-P-",0]
[null,"2.21","P","X","2.21-P-X",20]
[null,"2.21","P",null,"2.21-P-",0]
[null,"2.22","P","X",{"$f":"CONCATENATE(B315,\"-\",C315,\"-\",D315)","v":"2.22-P-X"},20]
[null,"2.22","P",null,"2.22-P-",0]
[null,"2.23","P","X","2.23-P-X",20]
[null,"2.23","P",null,"2.23-P-",0]
[null,"2.24","P","X","2.24-P-X",20]
[null,"2.24","P",null,"2.24-P-",0]
[null,"2.25","P","X","2.25-P-X",20]
[null,"2.25","P",null,"2.25-P-",0]
[null,"2.3","P","X","2.3-P-X",30]
[null,"2.3","P",null,"2.3-P-",0]
[null,"2.31","P","X","2.31-P-X",30]
[null,"2.31","P",null,"2.31-P-",0]
[null,"2.32","P","X","2.32-P-X",30]
[null,"2.32","P",null,"2.32-P-",0]
[null,"2.33","P","X","2.33-P-X",30]
[null,"2.33","P",null,"2.33-P-",0]
[null,"2.34","P","X","2.34-P-X",0]
[null,"2.34","P",null,"2.34-P-",0]
[null,"3.1","P","SI","3.1-P-SI",50]
[null,"3.1","P","NO","3.1-P-NO",0]
[null,"3.2","P","X","3.2-P-X",20]
[null,"3.2","P",null,"3.2-P-",0]
[null,"3.21","P","X","3.21-P-X",20]
[null,"3.21","P",null,"3.21-P-",0]
[null,"3.22","P","X","3.22-P-X",20]
[null,"3.22","P",null,"3.22-P-",0]
[null,"3.23","P","X","3.23-P-X",20]
[null,"3.23","P",null,"3.23-P-",0]
[null,"3.24","P","X","3.24-P-X",20]
[null,"3.24","P",null,"3.24-P-",0]
[null,"3.25","P","X","3.25-P-X",20]
[null,"3.25","P",null,"3.25-P-",0]
[null,"4.1","P","SI","4.1-P-SI",50]
[null,"4.1","P","NO","4.1-P-NO",0]
[null,"4.2","P","X","4.2-P-X",10]
[null,"4.2","P",null,"4.2-P-",0]
[null,"4.21","P","X","4.21-P-X",10]
[null,"4.21","P",null,"4.21-P-",0]
[null,"4.22","P","X","4.22-P-X",10]
[null,"4.22","P",null,"4.22-P-",0]
[null,"4.23","P","X","4.23-P-X",10]
[null,"4.23","P",null,"4.23-P-",0]
[null,"4.24","P","X","4.24-P-X",10]
[null,"4.24","P",null,"4.24-P-",0]
[null,"4.3","P","X","4.3-P-X",10]
[null,"4.3","P",null,"4.3-P-",0]
[null,"4.31","P","X","4.31-P-X",10]
[null,"4.31","P",null,"4.31-P-",0]
[null,"4.32","P","X","4.32-P-X",10]
[null,"4.32","P",null,"4.32-P-",0]
[null,"4.33","P","X","4.33-P-X",10]
[null,"4.33","P",null,"4.33-P-",0]
[null,"4.34","P","X","4.34-P-X",10]
[null,"4.34","P",null,"4.34-P-",0]
[null,"4.35","P","X","4.35-P-X",10]
[null,"4.35","P",null,"4.35-P-",0]
[null,"4.36","P","X","4.36-P-X",10]
[null,"4.36","P",null,"4.36-P-",0]
[null,"4.4","P","X","4.4-P-X",10]
[null,"4.4","P",null,"4.4-P-",0]
[null,"4.41","P","X","4.41-P-X",40]
[null,"4.41","P",null,"4.41-P-",0]
[null,"5.1","P","SI","5.1-P-SI",50]
[null,"5.1","P","NO","5.1-P-NO",0]
[null,"5.2","P","X",{"$f":"CONCATENATE(B379,\"-\",C379,\"-\",D379)","v":"5.2-P-X"},10]
[null,"5.2","P",null,"5.2-P-",0]
[null,"5.21","P","X","5.21-P-X",10]
[null,"5.21","P",null,"5.21-P-",0]
[null,"5.22","P","X","5.22-P-X",10]
[null,"5.22","P",null,"5.22-P-",0]
[null,"5.23","P","X","5.23-P-X",10]
[null,"5.23","P",null,"5.23-P-",0]
[null,"5.24","P","X","5.24-P-X",10]
[null,"5.24","P",null,"5.24-P-",0]
[null,"6.1","P","SI","6.1-P-SI",50]
[null,"6.1","P","NO","6.1-P-NO",0]
[null,"6.2","P","< 1%","6.2-P-< 1%",0]
[null,"6.2","P","1 - 25%","6.2-P-1 - 25%",15]
[null,"6.2","P","25 - 50%","6.2-P-25 - 50%",20]
[null,"6.2","P","50 - 75%","6.2-P-50 - 75%",35]
[null,"6.2","P","> 75%","6.2-P-> 75%",50]
[null,"6.3","P","SI","6.3-P-SI",50]
[null,"6.3","P","NO","6.3-P-NO",0]
[null,"6.5","P","< 1%","6.5-P-< 1%",0]
[null,"6.5","P","1 - 25%","6.5-P-1 - 25%",15]
[null,"6.5","P","25 - 50%","6.5-P-25 - 50%",20]
[null,"6.5","P","50 - 75%","6.5-P-50 - 75%",35]
[null,"6.5","P","> 75%","6.5-P-> 75%",50]
[null,"7.1","P","SI","7.1-P-SI",50]
[null,"7.1","P","NO","7.1-P-NO",0]
[null,"7.2","P","X","7.2-P-X",10]
[null,"7.2","P",null,"7.2-P-",0]
[null,"7.21","P","X","7.21-P-X",10]
[null,"7.21","P",null,"7.21-P-",0]
[null,"7.22","P","X","7.22-P-X",10]
[null,"7.22","P",null,"7.22-P-",0]
[null,"7.23","P","X","7.23-P-X",10]
[null,"7.23","P",null,"7.23-P-",0]
[null,"7.24","P","X","7.24-P-X",10]
[null,"7.24","P",null,"7.24-P-",0]
[null,"7.25","P","X","7.25-P-X",10]
[null,"7.25","P",null,"7.25-P-",0]
[null,"7.26","P","X","7.26-P-X",10]
[null,"7.26","P",null,"7.26-P-",0]
[null,"7.3","P","X","7.3-P-X",10]
[null,"7.3","P",null,"7.3-P-",0]
[null,"7.31","P","X","7.31-P-X",10]
[null,"7.31","P",null,"7.31-P-",0]
[null,"7.32","P","X","7.32-P-X",10]
[null,"7.32","P",null,"7.32-P-",0]
[null,"7.33","P","X","7.33-P-X",10]
[null,"7.33","P",null,"7.33-P-",0]
[null,"7.34","P","X","7.34-P-X",10]
[null,"7.34","P",null,"7.34-P-",0]
[null,"7.35","P","X","7.35-P-X",10]
[null,"7.35","P",null,"7.35-P-",0]
[null,"7.4","P","X","7.4-P-X",10]
[null,"7.4","P",null,"7.4-P-",0]
[null,"7.41","P","X","7.41-P-X",10]
[null,"7.41","P",null,"7.41-P-",0]
[null,"7.42","P","X","7.42-P-X",10]
[null,"7.42","P",null,"7.42-P-",0]
[null,"7.43","P","X","7.43-P-X",10]
[null,"7.43","P",null,"7.43-P-",0]
[null,"7.44","P","X","7.44-P-X",10]
[null,"7.44","P",null,"7.44-P-",0]
[null,"7.45","P","X","7.45-P-X",10]
[null,"7.45","P",null,"7.45-P-",0]
[null,"7.5","P","SI ",{"$f":"CONCATENATE(B443,\"-\",C443,\"-\",D443)","v":"7.5-P-SI "},50]
[null,"7.5","P","NO","7.5-P-NO",0]
[null,"7.5","P","NO APLICA","7.5-P-NO APLICA",0]
[null,"7.6","P","X","7.6-P-X",10]
[null,"7.6","P",null,"7.6-P-",0]
[null,"7.61","P","X","7.61-P-X",10]
[null,"7.61","P",null,"7.61-P-",0]
[null,"7.62","P","X","7.62-P-X",10]
[null,"7.62","P",null,"7.62-P-",0]
[null,"7.63","P","X","7.63-P-X",10]
[null,"7.63","P",null,"7.63-P-",0]
[null,"7.64","P","X","7.64-P-X",10]
[null,"7.64","P",null,"7.64-P-",0]
[null,"7.7","P","SI ","7.7-P-SI ",50]
[null,"7.7","P","NO ","7.7-P-NO ",0]
[null,"7.7","P","NO APLICA","7.7-P-NO APLICA",0]
[null,"7.7","P","NO ","7.7-P-NO ",0]
[null,"7.7","P","NO APLICA","7.7-P-NO APLICA",0]
[null,"8.1","P","SI","8.1-P-SI",50]
[null,"8.1","P","NO",{"$f":"CONCATENATE(B462,\"-\",C462,\"-\",D462)","v":"8.1-P-NO"},0]
[null,"8.1","Me","SI",{"$f":"CONCATENATE(B463,\"-\",C463,\"-\",D463)","v":"8.1-Me-SI"},75]
[null,"8.1","Me","NO","8.1-Me-NO",0]
[null,"8.1","G","SI","8.1-G-SI",100]
[null,"8.1","G","NO","8.1-G-NO",0]
[null,"8.10","P","SI","8.10-P-SI",50]
[null,"8.10","P","NO","8.10-P-NO",0]
[null,"8.11","P","SI","8.11-P-SI",50]
[null,"8.11","P","NO","8.11-P-NO",0]
[null,"8.3","P","X","8.3-P-X",10]
[null,"8.3","P",null,"8.3-P-",0]
[null,"8.31","P","X","8.31-P-X",10]
[null,"8.31","P",null,"8.31-P-",0]
[null,"8.32","P","X","8.32-P-X",10]
[null,"8.32","P",null,"8.32-P-",0]
[null,"8.33","P","X","8.33-P-X",10]
[null,"8.33","P",null,"8.33-P-",0]
[null,"8.34","P","X","8.34-P-X",10]
[null,"8.34","P",null,"8.34-P-",0]
[null,"8.4","P","X","8.4-P-X",10]
[null,"8.4","P",null,"8.4-P-",0]
[null,"8.41","P","X","8.41-P-X",10]
[null,"8.41","P",null,"8.41-P-",0]
[null,"8.42","P","X","8.42-P-X",10]
[null,"8.42","P",null,"8.42-P-",0]
[null,"8.43","P","X","8.43-P-X",10]
[null,"8.43","P",null,"8.43-P-",0]
[null,"8.44","P","X","8.44-P-X",10]
[null,"8.44","P",null,"8.44-P-",0]
[null,"8.5","P","SI","8.5-P-SI",50]
[null,"8.5","P","NO","8.5-P-NO",0]
[null,"8.6","P","SI","8.6-P-SI",50]
[null,"8.6","P","NO","8.6-P-NO",0]
[null,"8.7","P","SI","8.7-P-SI",50]
[null,"8.7","P","NO","8.7-P-NO",0]
[null,"8.8","P","SI","8.8-P-SI",50]
[null,"8.8","P","NO","8.8-P-NO",0]
[null,"8.9","P","X","8.9-P-X",10]
[null,"8.9","P",null,"8.9-P-",0]
[null,"8.91","P","X","8.91-P-X",10]
[null,"8.91","P",null,"8.91-P-",0]
[null,"8.92","P","X","8.92-P-X",10]
[null,"8.92","P",null,"8.92-P-",0]
[null,"8.93","P","X","8.93-P-X",10]
[null,"8.93","P",null,"8.93-P-",0]
[null,"8.94","P","X","8.94-P-X",10]
[null,"8.94","P",null,"8.94-P-",0]
[null,"9.1","P","SI","9.1-P-SI",50]
[null,"9.1","P","NO","9.1-P-NO",0]
[null,"9.3","P","Totalmente","9.3-P-Totalmente",50]
[null,"9.3","P","No","9.3-P-No",0]
[null,"1.1","Me","SI","1.1-Me-SI",75]
[null,"1.1","Me","NO","1.1-Me-NO",0]
[null,"1.2","Me","X","1.2-Me-X",15]
[null,"1.2","Me",null,"1.2-Me-",0]
[null,"1.21","Me","X","1.21-Me-X",15]
[null,"1.21","Me",null,"1.21-Me-",0]
[null,"1.22","Me","X","1.22-Me-X",15]
[null,"1.22","Me",null,"1.22-Me-",0]
[null,"1.23","Me","X","1.23-Me-X",15]
[null,"1.23","Me",null,{"$f":"CONCATENATE(B522,\"-\",C522,\"-\",D522)","v":"1.23-Me-"},0]
[null,"1.24","Me","X","1.24-Me-X",15]
[null,"1.24","Me",null,"1.24-Me-",0]
[null,"1.25","Me","X","1.25-Me-X",15]
[null,"1.25","Me",null,"1.25-Me-",0]
[null,"1.3","Me","< 1%","1.3-Me-< 1%",0]
[null,"1.3","Me","1 - 25%","1.3-Me-1 - 25%",20]
[null,"1.3","Me","25 - 50%","1.3-Me-25 - 50%",30]
[null,"1.3","Me","50 - 75%","1.3-Me-50 - 75%",55]
[null,"1.3","Me","> 75%","1.3-Me-> 75%",75]
[null,"1.4","Me","SI","1.4-Me-SI",75]
[null,"1.4","Me","NO","1.4-Me-NO",0]
[null,"1.5","Me","X","1.5-Me-X",20]
[null,"1.5","Me",null,"1.5-Me-",0]
[null,"1.51","Me","X","1.51-Me-X",20]
[null,"1.51","Me",null,"1.51-Me-",0]
[null,"1.52","Me","X","1.52-Me-X",20]
[null,"1.52","Me",null,"1.52-Me-",0]
[null,"1.53","Me","X","1.53-Me-X",20]
[null,"1.53","Me",null,"1.53-Me-",0]
[null,"1.54","Me","X","1.54-Me-X",20]
[null,"1.54","Me",null,"1.54-Me-",0]
[null,"1.55","Me","X","1.55-Me-X",20]
[null,"1.55","Me",null,"1.55-Me-",0]
[null,"1.56","Me","X","1.56-Me-X",20]
[null,"1.56","Me",null,"1.56-Me-",0]
[null,"1.57","Me","X","1.57-Me-X",20]
[null,"1.57","Me",null,"1.57-Me-",0]
[null,"2.1","Me","SI","2.1-Me-SI",75]
[null,"2.1","Me","NO","2.1-Me-NO",0]
[null,"2.2","Me","X","2.2-Me-X",30]
[null,"2.2","Me",null,"2.2-Me-",0]
[null,"2.21","Me","X","2.21-Me-X",30]
[null,"2.21","Me",null,"2.21-Me-",0]
[null,"2.22","Me","X","2.22-Me-X",30]
[null,"2.22","Me",null,"2.22-Me-",0]
[null,"2.23","Me","X","2.23-Me-X",30]
[null,"2.23","Me",null,"2.23-Me-",0]
[null,"2.24","Me","X","2.24-Me-X",30]
[null,"2.24","Me",null,"2.24-Me-",0]
[null,"2.25","Me","X","2.25-Me-X",30]
[null,"2.25","Me",null,"2.25-Me-",0]
[null,"2.3","Me","X","2.3-Me-X",45]
[null,"2.3","Me",null,"2.3-Me-",0]
[null,"2.31","Me","X","2.31-Me-X",45]
[null,"2.31","Me",null,"2.31-Me-",0]
[null,"2.32","Me","X","2.32-Me-X",45]
[null,"2.32","Me",null,"2.32-Me-",0]
[null,"2.33","Me","X","2.33-Me-X",45]
[null,"2.33","Me",null,"2.33-Me-",0]
[null,"2.34","Me","X","2.34-Me-X",0]
[null,"2.34","Me",null,"2.34-Me-",0]
[null,"3.1","Me","SI","3.1-Me-SI",75]
[null,"3.1","Me","NO","3.1-Me-NO",0]
[null,"3.2","Me","X","3.2-Me-X",30]
[null,"3.2","Me",null,"3.2-Me-",0]
[null,"3.21","Me","X","3.21-Me-X",30]
[null,"3.21","Me",null,"3.21-Me-",0]
[null,"3.22","Me","X","3.22-Me-X",30]
[null,"3.22","Me",null,"3.22-Me-",0]
[null,"3.23","Me","X","3.23-Me-X",30]
[null,"3.23","Me",null,"3.23-Me-",0]
[null,"3.24","Me","X","3.24-Me-X",30]
[null,"3.24","Me",null,"3.24-Me-",0]
[null,"3.25","Me","X",{"$f":"CONCATENATE(B586,\"-\",C586,\"-\",D586)","v":"3.25-Me-X"},30]
[null,"3.25","Me",null,"3.25-Me-",0]
[null,"4.1","Me","SI","4.1-Me-SI",75]
[null,"4.1","Me","NO","4.1-Me-NO",0]
[null,"4.2","Me","X","4.2-Me-X",15]
[null,"4.2","Me",null,"4.2-Me-",0]
[null,"4.21","Me","X","4.21-Me-X",15]
[null,"4.21","Me",null,"4.21-Me-",0]
[null,"4.22","Me","X","4.22-Me-X",15]
[null,"4.22","Me",null,"4.22-Me-",0]
[null,"4.23","Me","X","4.23-Me-X",15]
[null,"4.23","Me",null,"4.23-Me-",0]
[null,"4.24","Me","X","4.24-Me-X",15]
[null,"4.24","Me",null,"4.24-Me-",0]
[null,"4.3","Me","X","4.3-Me-X",15]
[null,"4.3","Me",null,"4.3-Me-",0]
[null,"4.31","Me","X","4.31-Me-X",15]
[null,"4.31","Me",null,"4.31-Me-",0]
[null,"4.32","Me","X","4.32-Me-X",15]
[null,"4.32","Me",null,"4.32-Me-",0]
[null,"4.33","Me","X","4.33-Me-X",15]
[null,"4.33","Me",null,"4.33-Me-",0]
[null,"4.34","Me","X","4.34-Me-X",15]
[null,"4.34","Me",null,"4.34-Me-",0]
[null,"4.35","Me","X","4.35-Me-X",15]
[null,"4.35","Me",null,"4.35-Me-",0]
[null,"4.36","Me","X","4.36-Me-X",15]
[null,"4.36","Me",null,"4.36-Me-",0]
[null,"4.4","Me","X","4.4-Me-X",15]
[null,"4.4","Me",null,"4.4-Me-",0]
[null,"4.41","Me","X","4.41-Me-X",60]
[null,"4.41","Me",null,"4.41-Me-",0]
[null,"5.1","Me","SI","5.1-Me-SI",75]
[null,"5.1","Me","NO","5.1-Me-NO",0]
[null,"5.2","Me","X","5.2-Me-X",15]
[null,"5.2","Me",null,"5.2-Me-",0]
[null,"5.21","Me","X","5.21-Me-X",15]
[null,"5.21","Me",null,"5.21-Me-",0]
[null,"5.22","Me","X","5.22-Me-X",15]
[null,"5.22","Me",null,"5.22-Me-",0]
[null,"5.23","Me","X","5.23-Me-X",15]
[null,"5.23","Me",null,"5.23-Me-",0]
[null,"5.24","Me","X","5.24-Me-X",15]
[null,"5.24","Me",null,"5.24-Me-",0]
[null,"6.1","Me","SI","6.1-Me-SI",75]
[null,"6.1","Me","NO","6.1-Me-NO",0]
[null,"6.2","Me","< 1%","6.2-Me-< 1%",0]
[null,"6.2","Me","1 - 25%","6.2-Me-1 - 25%",20]
[null,"6.2","Me","25 - 50%","6.2-Me-25 - 50%",30]
[null,"6.2","Me","50 - 75%","6.2-Me-50 - 75%",55]
[null,"6.2","Me","> 75%","6.2-Me-> 75%",75]
[null,"6.3","Me","SI","6.3-Me-SI",75]
[null,"6.3","Me","NO","6.3-Me-NO",0]
[null,"6.5","Me","< 1%","6.5-Me-< 1%",0]
[null,"6.5","Me","1 - 25%","6.5-Me-1 - 25%",20]
[null,"6.5","Me","25 - 50%","6.5-Me-25 - 50%",30]
[null,"6.5","Me","50 - 75%","6.5-Me-50 - 75%",55]
[null,"6.5","Me","> 75%","6.5-Me-> 75%",75]
[null,"7.1","Me","SI","7.1-Me-SI",75]
[null,"7.1","Me","NO","7.1-Me-NO",0]
[null,"7.2","Me","X","7.2-Me-X",15]
[null,"7.2","Me",null,"7.2-Me-",0]
[null,"7.21","Me","X","7.21-Me-X",15]
[null,"7.21","Me",null,"7.21-Me-",0]
[null,"7.21","Me",null,{"$f":"CONCATENATE(B650,\"-\",C650,\"-\",D650)","v":"7.21-Me-"},0]
[null,"7.22","Me","X","7.22-Me-X",15]
[null,"7.22","Me",null,"7.22-Me-",0]
[null,"7.22","Me","X","7.22-Me-X",15]
[null,"7.22","Me",null,"7.22-Me-",0]
[null,"7.23","Me","X","7.23-Me-X",15]
[null,"7.23","Me",null,"7.23-Me-",0]
[null,"7.23","Me","X","7.23-Me-X",15]
[null,"7.23","Me",null,"7.23-Me-",0]
[null,"7.24","Me","X","7.24-Me-X",15]
[null,"7.24","Me",null,"7.24-Me-",0]
[null,"7.24","Me","X","7.24-Me-X",15]
[null,"7.24","Me",null,"7.24-Me-",0]
[null,"7.25","Me","X","7.25-Me-X",15]
[null,"7.25","Me",null,"7.25-Me-",0]
[null,"7.25","Me","X","7.25-Me-X",15]
[null,"7.25","Me",null,"7.25-Me-",0]
[null,"7.26","Me","X","7.26-Me-X",15]
[null,"7.26","Me",null,"7.26-Me-",0]
[null,"7.26","Me","X","7.26-Me-X",15]
[null,"7.26","Me",null,"7.26-Me-",0]
[null,"7.3","Me","X","7.3-Me-X",15]
[null,"7.3","Me",null,"7.3-Me-",0]
[null,"7.31","Me","X","7.31-Me-X",15]
[null,"7.31","Me",null,"7.31-Me-",0]
[null,"7.32","Me","X","7.32-Me-X",15]
[null,"7.32","Me",null,"7.32-Me-",0]
[null,"7.33","Me","X","7.33-Me-X",15]
[null,"7.33","Me",null,"7.33-Me-",0]
[null,"7.34","Me","X","7.34-Me-X",15]
[null,"7.34","Me",null,"7.34-Me-",0]
[null,"7.35","Me","X","7.35-Me-X",15]
[null,"7.35","Me",null,"7.35-Me-",0]
[null,"7.4","Me","X","7.4-Me-X",15]
[null,"7.4","Me",null,"7.4-Me-",0]
[null,"7.41","Me","X","7.41-Me-X",15]
[null,"7.41","Me",null,"7.41-Me-",0]
[null,"7.42","Me","X","7.42-Me-X",15]
[null,"7.42","Me",null,"7.42-Me-",0]
[null,"7.43","Me","X","7.43-Me-X",15]
[null,"7.43","Me",null,"7.43-Me-",0]
[null,"7.44","Me","X","7.44-Me-X",15]
[null,"7.44","Me",null,"7.44-Me-",0]
[null,"7.45","Me","X","7.45-Me-X",15]
[null,"7.45","Me",null,"7.45-Me-",0]
[null,"7.5","Me","SI ","7.5-Me-SI ",75]
[null,"7.5","Me","NO","7.5-Me-NO",0]
[null,"7.5","Me","NO APLICA","7.5-Me-NO APLICA",0]
[null,"7.6","Me","X","7.6-Me-X",15]
[null,"7.6","Me",null,"7.6-Me-",0]
[null,"7.61","Me","X","7.61-Me-X",15]
[null,"7.61","Me",null,"7.61-Me-",0]
[null,"7.62","Me","X","7.62-Me-X",15]
[null,"7.62","Me",null,"7.62-Me-",0]
[null,"7.63","Me","X","7.63-Me-X",15]
[null,"7.63","Me",null,"7.63-Me-",0]
[null,"7.64","Me","X","7.64-Me-X",15]
[null,"7.64","Me",null,"7.64-Me-",0]
[null,"7.7","Me","SI ","7.7-Me-SI ",75]
[null,"7.7","Me","NO ","7.7-Me-NO ",0]
[null,"7.7","Me","NO APLICA","7.7-Me-NO APLICA",0]
[null,"8.1","Me","SI","8.1-Me-SI",75]
[null,"8.1","Me","NO","8.1-Me-NO",0]
[null,"8.11","Me","SI","8.11-Me-SI",75]
[null,"8.11","Me","NO",{"$f":"CONCATENATE(B714,\"-\",C714,\"-\",D714)","v":"8.11-Me-NO"},0]
[null,"8.3","Me","X",{"$f":"CONCATENATE(B715,\"-\",C715,\"-\",D715)","v":"8.3-Me-X"},15]
[null,"8.3","Me",null,{"$f":"CONCATENATE(B716,\"-\",C716,\"-\",D716)","v":"8.3-Me-"},0]
[null,"8.31","Me","X","8.31-Me-X",15]
[null,"8.31","Me",null,"8.31-Me-",0]
[null,"8.32","Me","X","8.32-Me-X",15]
[null,"8.32","Me",null,"8.32-Me-",0]
[null,"8.33","Me","X","8.33-Me-X",15]
[null,"8.33","Me",null,"8.33-Me-",0]
[null,"8.34","Me","X","8.34-Me-X",15]
[null,"8.34","Me",null,{"$f":"CONCATENATE(B724,\"-\",C724,\"-\",D724)","v":"8.34-Me-"},0]
[null,"8.4","Me","X","8.4-Me-X",15]
[null,"8.4","Me",null,"8.4-Me-",0]
[null,"8.41","Me","X","8.41-Me-X",15]
[null,"8.41","Me",null,"8.41-Me-",0]
[null,"8.42","Me","X","8.42-Me-X",15]
[null,"8.42","Me",null,"8.42-Me-",0]
[null,"8.43","Me","X","8.43-Me-X",15]
[null,"8.43","Me",null,"8.43-Me-",0]
[null,"8.44","Me","X","8.44-Me-X",15]
[null,"8.44","Me",null,"8.44-Me-",0]
[null,"8.5","Me","SI","8.5-Me-SI",75]
[null,"8.5","Me","NO","8.5-Me-NO",0]
[null,"8.6","Me","SI","8.6-Me-SI",75]
[null,"8.6","Me","NO","8.6-Me-NO",0]
[null,"8.7","Me","SI","8.7-Me-SI",75]
[null,"8.7","Me","NO","8.7-Me-NO",0]
[null,"8.8","Me","SI","8.8-Me-SI",75]
[null,"8.8","Me","NO","8.8-Me-NO",0]
[null,"8.9","Me","X","8.9-Me-X",15]
[null,"8.9","Me",null,"8.9-Me-",0]
[null,"8.91","Me","X","8.91-Me-X",15]
[null,"8.91","Me",null,"8.91-Me-",0]
[null,"8.92","Me","X","8.92-Me-X",15]
[null,"8.92","Me",null,"8.92-Me-",0]
[null,"8.93","Me","X","8.93-Me-X",15]
[null,"8.93","Me",null,"8.93-Me-",0]
[null,"8.94","Me","X","8.94-Me-X",15]
[null,"8.94","Me",null,"8.94-Me-",0]
[null,"9.1","Me","SI","9.1-Me-SI",75]
[null,"9.1","Me","NO","9.1-Me-NO",0]
[null,"9.3","Me","Totalmente","9.3-Me-Totalmente",75]
[null,"9.3","Me","No","9.3-Me-No",0]
[null,"1.1","G","SI","1.1-G-SI",100]
[null,"1.1","G","NO","1.1-G-NO",0]
[null,"1.2","G","X","1.2-G-X",20]
[null,"1.2","G",null,"1.2-G-",0]
[null,"1.21","G","X","1.21-G-X",20]
[null,"1.21","G",null,"1.21-G-",0]
[null,"1.22","G","X","1.22-G-X",20]
[null,"1.22","G",null,"1.22-G-",0]
[null,"1.23","G","X","1.23-G-X",20]
[null,"1.23","G",null,"1.23-G-",0]
[null,"1.24","G","X","1.24-G-X",20]
[null,"1.24","G",null,"1.24-G-",0]
[null,"1.25","G","X","1.25-G-X",20]
[null,"1.25","G",null,"1.25-G-",0]
[null,"1.3","G","< 1%","1.3-G-< 1%",0]
[null,"1.3","G","1 - 25%","1.3-G-1 - 25%",25]
[null,"1.3","G","25 - 50%","1.3-G-25 - 50%",50]
[null,"1.3","G","50 - 75%","1.3-G-50 - 75%",75]
[null,"1.3","G","> 75%","1.3-G-> 75%",100]
[null,"1.4","G","SI","1.4-G-SI",100]
[null,"1.4","G","NO","1.4-G-NO",0]
[null,"1.5","G","X","1.5-G-X",25]
[null,"1.5","G",null,"1.5-G-",0]
[null,"1.51","G","X","1.51-G-X",25]
[null,"1.51","G",null,"1.51-G-",0]
[null,"1.52","G","X","1.52-G-X",25]
[null,"1.52","G",null,"1.52-G-",0]
[null,"1.53","G","X","1.53-G-X",25]
[null,"1.53","G",null,"1.53-G-",0]
[null,"1.54","G","X","1.54-G-X",25]
[null,"1.54","G",null,"1.54-G-",0]
[null,"1.55","G","X","1.55-G-X",25]
[null,"1.55","G",null,{"$f":"CONCATENATE(B789,\"-\",C789,\"-\",D789)","v":"1.55-G-"},0]
[null,"1.56","G","X","1.56-G-X",25]
[null,"1.56","G",null,"1.56-G-",0]
[null,"1.57","G","X","1.57-G-X",25]
[null,"1.57","G",null,"1.57-G-",0]
[null,"2.1","G","SI","2.1-G-SI",100]
[null,"2.1","G","NO","2.1-G-NO",0]
[null,"2.2","G","X","2.2-G-X",42]
[null,"2.2","G",null,"2.2-G-",0]
[null,"2.21","G","X","2.21-G-X",42]
[null,"2.21","G",null,"2.21-G-",0]
[null,"2.22","G","X","2.22-G-X",42]
[null,"2.22","G",null,"2.22-G-",0]
[null,"2.23","G","X","2.23-G-X",42]
[null,"2.23","G",null,"2.23-G-",0]
[null,"2.24","G","X","2.24-G-X",42]
[null,"2.24","G",null,"2.24-G-",0]
[null,"2.25","G","X","2.25-G-X",42]
[null,"2.25","G",null,"2.25-G-",0]
[null,"2.3","G","X","2.3-G-X",63]
[null,"2.3","G",null,"2.3-G-",0]
[null,"2.31","G","X","2.31-G-X",63]
[null,"2.31","G",null,"2.31-G-",0]
[null,"2.32","G","X","2.32-G-X",63]
[null,"2.32","G",null,"2.32-G-",0]
[null,"2.33","G","X","2.33-G-X",63]
[null,"2.33","G",null,"2.33-G-",0]
[null,"2.34","G","X","2.34-G-X",0]
[null,"2.34","G",null,"2.34-G-",0]
[null,"3.1","G","SI","3.1-G-SI",100]
[null,"3.1","G","NO","3.1-G-NO",0]
[null,"3.2","G","X","3.2-G-X",42]
[null,"3.2","G",null,"3.2-G-",0]
[null,"3.21","G","X","3.21-G-X",42]
[null,"3.21","G",null,"3.21-G-",0]
[null,"3.22","G","X","3.22-G-X",42]
[null,"3.22","G",null,"3.22-G-",0]
[null,"3.23","G","X","3.23-G-X",42]
[null,"3.23","G",null,"3.23-G-",0]
[null,"3.24","G","X","3.24-G-X",42]
[null,"3.24","G",null,"3.24-G-",0]
[null,"3.25","G","X","3.25-G-X",42]
[null,"3.25","G",null,"3.25-G-",0]
[null,"4.1","G","SI","4.1-G-SI",100]
[null,"4.1","G","NO","4.1-G-NO",0]
[null,"4.2","G","X","4.2-G-X",20]
[null,"4.2","G",null,"4.2-G-",0]
[null,"4.21","G","X","4.21-G-X",20]
[null,"4.21","G",null,"4.21-G-",0]
[null,"4.22","G","X","4.22-G-X",20]
[null,"4.22","G",null,"4.22-G-",0]
[null,"4.23","G","X","4.23-G-X",20]
[null,"4.23","G",null,"4.23-G-",0]
[null,"4.24","G","X","4.24-G-X",20]
[null,"4.24","G",null,"4.24-G-",0]
[null,"4.3","G","X","4.3-G-X",20]
[null,"4.3","G",null,"4.3-G-",0]
[null,"4.31","G","X","4.31-G-X",20]
[null,"4.31","G",null,"4.31-G-",0]
[null,"4.32","G","X","4.32-G-X",20]
[null,"4.32","G",null,"4.32-G-",0]
[null,"4.33","G","X","4.33-G-X",20]
[null,"4.33","G",null,"4.33-G-",0]
[null,"4.34","G","X","4.34-G-X",20]
[null,"4.34","G",null,{"$f":"CONCATENATE(B853,\"-\",C853,\"-\",D853)","v":"4.34-G-"},0]
[null,"4.35","G","X","4.35-G-X",20]
[null,"4.35","G",null,"4.35-G-",0]
[null,"4.36","G","X","4.36-G-X",20]
[null,"4.36","G",null,"4.36-G-",0]
[null,"4.4","G","X","4.4-G-X",20]
[null,"4.4","G",null,"4.4-G-",0]
[null,"4.41","G","X","4.41-G-X",80]
[null,"4.41","G",null,"4.41-G-",0]
[null,"5.1","G","SI","5.1-G-SI",100]
[null,"5.1","G","NO","5.1-G-NO",0]
[null,"5.2","G","X","5.2-G-X",20]
[null,"5.2","G",null,"5.2-G-",0]
[null,"5.21","G","X","5.21-G-X",20]
[null,"5.21","G",null,"5.21-G-",0]
[null,"5.22","G","X","5.22-G-X",20]
[null,"5.22","G",null,"5.22-G-",0]
[null,"5.23","G","X","5.23-G-X",20]
[null,"5.23","G",null,"5.23-G-",0]
[null,"5.24","G","X","5.24-G-X",20]
[null,"5.24","G",null,"5.24-G-",0]
[null,"6.1","G","SI","6.1-G-SI",100]
[null,"6.1","G","NO","6.1-G-NO",0]
[null,"6.2","G","< 1%","6.2-G-< 1%",0]
[null,"6.2","G","1 - 25%","6.2-G-1 - 25%",25]
[null,"6.2","G","25 - 50%","6.2-G-25 - 50%",50]
[null,"6.2","G","50 - 75%","6.2-G-50 - 75%",75]
[null,"6.2","G","> 75%","6.2-G-> 75%",100]
[null,"6.3","G","SI","6.3-G-SI",100]
[null,"6.3","G","NO","6.3-G-NO",0]
[null,"6.5","G","< 1%","6.5-G-< 1%",0]
[null,"6.5","G","1 - 25%","6.5-G-1 - 25%",25]
[null,"6.5","G","25 - 50%","6.5-G-25 - 50%",50]
[null,"6.5","G","50 - 75%","6.5-G-50 - 75%",75]
[null,"6.5","G","> 75%","6.5-G-> 75%",100]
[null,"7.1","G","SI","7.1-G-SI",100]
[null,"7.1","G","NO","7.1-G-NO",0]
[null,"7.2","G","X","7.2-G-X",20]
[null,"7.2","G",null,"7.2-G-",0]
[null,"7.21","G","X","7.21-G-X",20]
[null,"7.21","G",null,"7.21-G-",0]
[null,"7.22","G","X","7.22-G-X",20]
[null,"7.22","G","SI","7.22-G-SI",0]
[null,"7.22","G","NO","7.22-G-NO",0]
[null,"7.22","G",null,"7.22-G-",0]
[null,"7.23","G","SI","7.23-G-SI",100]
[null,"7.23","G","NO","7.23-G-NO",0]
[null,"7.23","G","X","7.23-G-X",20]
[null,"7.23","G",null,"7.23-G-",0]
[null,"7.24","G","SI","7.24-G-SI",100]
[null,"7.24","G","NO","7.24-G-NO",0]
[null,"7.24","G","X","7.24-G-X",20]
[null,"7.24","G",null,"7.24-G-",0]
[null,"7.25","G","SI","7.25-G-SI",100]
[null,"7.25","G","NO","7.25-G-NO",0]
[null,"7.25","G","X","7.25-G-X",20]
[null,"7.25","G",null,"7.25-G-",0]
[null,"7.26","G","SI","7.26-G-SI",100]
[null,"7.26","G","NO","7.26-G-NO",0]
[null,"7.26","G","X","7.26-G-X",20]
[null,"7.26","G",null,"7.26-G-",0]
[null,"7.3","G","X","7.3-G-X",20]
[null,"7.3","G",null,"7.3-G-",0]
[null,"7.31","G","X","7.31-G-X",20]
[null,"7.31","G",null,{"$f":"CONCATENATE(B917,\"-\",C917,\"-\",D917)","v":"7.31-G-"},0]
[null,"7.32","G","X","7.32-G-X",20]
[null,"7.32","G",null,"7.32-G-",0]
[null,"7.33","G","X","7.33-G-X",20]
[null,"7.33","G",null,"7.33-G-",0]
[null,"7.34","G","X","7.34-G-X",20]
[null,"7.34","G",null,"7.34-G-",0]
[null,"7.35","G","X","7.35-G-X",20]
[null,"7.35","G",null,"7.35-G-",0]
[null,"7.4","G","X","7.4-G-X",20]
[null,"7.4","G",null,"7.4-G-",0]
[null,"7.41","G","X","7.41-G-X",20]
[null,"7.41","G",null,"7.41-G-",0]
[null,"7.42","G","X","7.42-G-X",20]
[null,"7.42","G",null,"7.42-G-",0]
[null,"7.43","G","X","7.43-G-X",20]
[null,"7.43","G",null,"7.43-G-",0]
[null,"7.44","G","X","7.44-G-X",20]
[null,"7.44","G",null,"7.44-G-",0]
[null,"7.45","G","X","7.45-G-X",20]
[null,"7.45","G",null,"7.45-G-",0]
[null,"7.5","G","SI ","7.5-G-SI ",100]
[null,"7.5","G","NO","7.5-G-NO",0]
[null,"7.5","G","NO APLICA","7.5-G-NO APLICA",0]
[null,"7.6","G","X","7.6-G-X",20]
[null,"7.6","G",null,"7.6-G-",0]
[null,"7.61","G","X","7.61-G-X",20]
[null,"7.61","G",null,"7.61-G-",0]
[null,"7.62","G","X","7.62-G-X",20]
[null,"7.62","G",null,"7.62-G-",0]
[null,"7.63","G","X","7.63-G-X",20]
[null,"7.63","G",null,"7.63-G-",0]
[null,"7.64","G","X","7.64-G-X",20]
[null,"7.64","G",null,"7.64-G-",0]
[null,"7.7","G","SI ","7.7-G-SI ",100]
[null,"7.7","G","NO ","7.7-G-NO ",0]
[null,"7.7","G","NO APLICA","7.7-G-NO APLICA",0]
[null,"8.1","G","SI","8.1-G-SI",100]
[null,"8.1","G","NO","8.1-G-NO",0]
[null,"8.11","G","SI","8.11-G-SI",100]
[null,"8.11","G","NO","8.11-G-NO",0]
[null,"8.3","G","X","8.3-G-X",20]
[null,"8.3","G",null,"8.3-G-",0]
[null,"8.31","G","X","8.31-G-X",20]
[null,"8.31","G",null,"8.31-G-",0]
[null,"8.32","G","X","8.32-G-X",20]
[null,"8.32","G",null,"8.32-G-",0]
[null,"8.33","G","X","8.33-G-X",20]
[null,"8.33","G",null,"8.33-G-",0]
[null,"8.34","G","X",{"$f":"CONCATENATE(B966,\"-\",C966,\"-\",D966)","v":"8.34-G-X"},20]
[null,"8.34","G",null,"8.34-G-",0]
[null,"8.34","G","SI","8.34-G-SI",100]
[null,"8.4","G","X","8.4-G-X",20]
[null,"8.4","G",null,"8.4-G-",0]
[null,"8.41","G","X","8.41-G-X",20]
[null,"8.41","G",null,"8.41-G-",0]
[null,"8.42","G","X","8.42-G-X",20]
[null,"8.42","G",null,"8.42-G-",0]
[null,"8.43","G","X","8.43-G-X",20]
[null,"8.43","G",null,"8.43-G-",0]
[null,"8.44","G","X","8.44-G-X",20]
[null,"8.44","G",null,{"$f":"CONCATENATE(B978,\"-\",C978,\"-\",D978)","v":"8.44-G-"},0]
[null,"8.5","G","SI","8.5-G-SI",100]
[null,"8.5","G","NO","8.5-G-NO",0]
[null,"8.6","G","SI","8.6-G-SI",100]
[null,"8.6","G","NO","8.6-G-NO",0]
[null,"8.7","G","SI","8.7-G-SI",100]
[null,"8.7","G","NO","8.7-G-NO",0]
[null,"8.8","G","SI","8.8-G-SI",100]
[null,"8.8","G","NO","8.8-G-NO",0]
[null,"8.9","G","X","8.9-G-X",20]
[null,"8.9","G",null,"8.9-G-",0]
[null,"8.91","G","X","8.91-G-X",20]
[null,"8.91","G",null,"8.91-G-",0]
[null,"8.92","G","X","8.92-G-X",20]
[null,"8.92","G",null,"8.92-G-",0]
[null,"8.93","G","X","8.93-G-X",20]
[null,"8.93","G",null,"8.93-G-",0]
[null,"8.94","G","X","8.94-G-X",20]
[null,"8.94","G",null,"8.94-G-",0]
[null,"9.1","G","SI","9.1-G-SI",100]
[null,"9.1","G","NO","9.1-G-NO",0]
[null,"9.3","G","Totalmente",{"$f":"CONCATENATE(B999,\"-\",C999,\"-\",D999)","v":"9.3-G-Totalmente"},100]
[null,"9.3","G","No","9.3-G-No",0]
[null,"7.27","P","X",{"$f":"CONCATENATE(B1001,\"-\",C1001,\"-\",D1001)","v":"7.27-P-X"},10]
[null,"7.27","P",null,"7.27-P-",0]
[null,"7.27","Me","X","7.27-Me-X",15]
[null,"7.27","Me",null,"7.27-Me-",0]
[null,"7.27","G","X","7.27-G-X",20]
[null,"7.27","G",null,"7.27-G-",0]
[null,"8.1","P",null,{"$f":"CONCATENATE(B1007,\"-\",C1007,\"-\",D1007)","v":"8.1-P-"},0]
[null,"8.1","P","X",{"$f":"CONCATENATE(B1008,\"-\",C1008,\"-\",D1008)","v":"8.1-P-X"},12.5]
[null,"8.11","P","X","8.11-P-X",12.5]
[null,"8.11","P",null,"8.11-P-",0]
[null,"8.12","P","X","8.12-P-X",12.5]
[null,"8.12","P",null,"8.12-P-",0]
[null,"8.13","P","X","8.13-P-X",12.5]
[null,"8.13","P",null,"8.13-P-",0]
[null,"8.1","Me",null,{"$f":"CONCATENATE(B1015,\"-\",C1015,\"-\",D1015)","v":"8.1-Me-"},0]
[null,"8.1","Me","X",{"$f":"CONCATENATE(B1016,\"-\",C1016,\"-\",D1016)","v":"8.1-Me-X"},18.75]
[null,"8.11","Me","X","8.11-Me-X",18.75]
[null,"8.11","Me",null,"8.11-Me-",0]
[null,"8.12","Me","X","8.12-Me-X",18.75]
[null,"8.12","Me",null,"8.12-Me-",0]
[null,"8.13","Me","X","8.13-Me-X",18.75]
[null,"8.13","Me",null,"8.13-Me-",0]
[null,"8.1","G",null,{"$f":"CONCATENATE(B1023,\"-\",C1023,\"-\",D1023)","v":"8.1-G-"},0]
[null,"8.1","G","X",{"$f":"CONCATENATE(B1024,\"-\",C1024,\"-\",D1024)","v":"8.1-G-X"},25]
[null,"8.11","G","X","8.11-G-X",25]
[null,"8.11","G",null,"8.11-G-",0]
[null,"8.12","G","X","8.12-G-X",25]
[null,"8.12","G",null,"8.12-G-",0]
[null,"8.13","G","X","8.13-G-X",25]
[null,"8.13","G",null,"8.13-G-",0]
[null,"8.10","M","X","8.10-M-X",8.33]
[null,"8.10","M",null,"8.10-M-",0]
[null,8101,"M","X","8101-M-X",8.33]
[null,8101,"M",null,"8101-M-",0]
[null,8102,"M","X","8102-M-X",8.34]
[null,8102,"M",null,"8102-M-",0]
[null,"8.10","P","X",{"$f":"CONCATENATE(B1037,\"-\",C1037,\"-\",D1037)","v":"8.10-P-X"},16.7]
[null,"8.10","P",null,"8.10-P-",0]
[null,8101,"P","X","8101-P-X",16.66]
[null,8101,"P",null,"8101-P-",0]
[null,8102,"P","X","8102-P-X",16.66]
[null,8102,"P",null,"8102-P-",0]
[null,"8.10","Me","X",{"$f":"CONCATENATE(B1043,\"-\",C1043,\"-\",D1043)","v":"8.10-Me-X"},25]
[null,"8.10","Me",null,"8.10-Me-",0]
[null,8101,"Me","X","8101-Me-X",25]
[null,8101,"Me",null,"8101-Me-",0]
[null,8102,"Me","X","8102-Me-X",25]
[null,8102,"Me",null,"8102-Me-",0]
[null,"8.10","G","X",{"$f":"CONCATENATE(B1049,\"-\",C1049,\"-\",D1049)","v":"8.10-G-X"},33.340000000000003]
[null,"8.10","G",null,"8.10-G-",0]
[null,8101,"G","X","8101-G-X",33.33]
[null,8101,"G",null,"8101-G-",0]
[null,8102,"G","X","8102-G-X",33.33]
[null,8102,"G",null,"8102-G-",0]
[null,"8.111","M","X","8.111-M-X",8.33]
[null,"8.111","M",null,"8.111-M-",0]
[null,8112,"M","X","8112-M-X",8.33]
[null,8112,"M",null,"8112-M-",0]
[null,8113,"M","X","8113-M-X",8.34]
[null,8113,"M",null,"8113-M-",0]
[null,"8.111","P","X",{"$f":"CONCATENATE(B1061,\"-\",C1061,\"-\",D1061)","v":"8.111-P-X"},16.7]
[null,"8.111","P",null,"8.111-P-",0]
[null,8112,"P","X","8112-P-X",16.7]
[null,8112,"P",null,"8112-P-",0]
[null,8113,"P","X","8113-P-X",16.600000000000001]
[null,8113,"P",null,"8113-P-",0]
[null,"8.111","Me","X",{"$f":"CONCATENATE(B1067,\"-\",C1067,\"-\",D1067)","v":"8.111-Me-X"},25]
[null,"8.111","Me",null,"8.111-Me-",0]
[null,8112,"Me","X","8112-Me-X",25]
[null,8112,"Me",null,"8112-Me-",0]
[null,8113,"Me","X","8113-Me-X",25]
[null,8113,"Me",null,"8113-Me-",0]
[null,"8.111","G","X",{"$f":"CONCATENATE(B1073,\"-\",C1073,\"-\",D1073)","v":"8.111-G-X"},33.340000000000003]
[null,"8.111","G",null,"8.111-G-",0]
[null,8112,"G","X","8112-G-X",33.33]
[null,8112,"G",null,"8112-G-",0]
[null,8113,"G","X","8113-G-X",33.33]
[null,8113,"G",null,"8113-G-",0]
[]
[]
[]
[]
[null,null,"Tipo de Empresa","Clave","Micro","Total Formulario","Porcentaje"]
[null,null,"Ambiental",{"$f":"CONCATENATE(E1083,C1084)","v":"MicroAmbiental"},610,{"$f":"Menú!J23+Menú!J24+Menú!J25+Menú!J26+Menú!J27","v":0},{"$f":"F1084/E1084","v":0}]
[null,null,"Social",{"$f":"CONCATENATE(E1083,C1085)","v":"MicroSocial"},445,{"$f":"Menú!J27+Menú!J28+Menú!J29","v":0},0]
[null,null,"Ética",{"$f":"CONCATENATE(E1083,C1086)","v":"MicroÉtica"},445,{"$f":"+Menú!J27+Menú!J28+Menú!J29","v":0},0]
[null,null,"Económica",{"$f":"CONCATENATE(E1083,C1087)","v":"MicroEconómica"},465,{"$f":"Menú!J23+Menú!J24+Menú!J25+Menú!J26","v":0},0]
[null,null,"Total",{"$f":"CONCATENATE(E1083,C1088)","v":"MicroTotal"},910,{"$f":"Menú!J30","v":0},0]
[null,null,"Consumo de Energía, Agua y Cambio Climático",{"$f":"CONCATENATE($E$1083,C1089)","v":"MicroConsumo de Energía, Agua y Cambio Climático"},415,{"$f":"Menú!D23","v":0},0]
[null,null,"Gestión eficiente del uso Materia Prima y Materiales",{"$f":"CONCATENATE($E$1083,C1090)","v":"MicroGestión eficiente del uso Materia Prima y Materiales"},50,{"$f":"Menú!J26","v":0},0]
[null,null,"Gestión  de los Residuos",{"$f":"CONCATENATE($E$1083,C1091)","v":"MicroGestión  de los Residuos"},145,{"$f":"Menú!D27","v":0},0]
[null,null,"Responsabilidad Social Empresarial",{"$f":"CONCATENATE($E$1083,C1092)","v":"MicroResponsabilidad Social Empresarial"},300,{"$f":"Menú!D28","v":0},0]
[null,null,"Tipo de Empresa",null,"Pequeña"]
[null,null,"Ambiental",{"$f":"CONCATENATE(E1093,C1094)","v":"PequeñaAmbiental"},1180,{"$f":"Menú!J23+Menú!J24+Menú!J25+Menú!J26+Menú!J27","v":0},{"$f":"F1094/E1094","v":0}]
[null,null,"Social",{"$f":"CONCATENATE(E1093,C1095)","v":"PequeñaSocial"},890,{"$f":"Menú!J27+Menú!J28+Menú!J29","v":0},{"$f":"F1095/E1095","v":0}]
[null,null,"Ética",{"$f":"CONCATENATE(E1093,C1096)","v":"PequeñaÉtica"},890,{"$f":"+Menú!J27+Menú!J28+Menú!J29","v":0},{"$f":"F1096/E1096","v":0}]
[null,null,"Económica",{"$f":"CONCATENATE(E1093,C1097)","v":"PequeñaEconómica"},890,{"$f":"Menú!J23+Menú!J24+Menú!J25+Menú!J26","v":0},{"$f":"F1097/E1097","v":0}]
[null,null,"Total",{"$f":"CONCATENATE(E1093,C1098)","v":"PequeñaTotal"},1780,{"$f":"Menú!J30","v":0},{"$f":"F1098/E1098","v":0}]
[null,null,"Consumo de Energía, Agua y Cambio Climático",{"$f":"CONCATENATE($E$1093,C1099)","v":"PequeñaConsumo de Energía, Agua y Cambio Climático"},790,{"$f":"Menú!D23","v":0},{"$f":"F1099/E1099","v":0}]
[null,null,"Gestión eficiente del uso Materia Prima y materiales",{"$f":"CONCATENATE($E$1093,C1100)","v":"PequeñaGestión eficiente del uso Materia Prima y materiales"},100,{"$f":"Menú!D26","v":0},0]
[null,null,"Gestión  de los Residuos","PequeñaGestión  de los Residuos",290,{"$f":"Menú!D27","v":0},0]
[null,null,"Responsabilidad Social Empresarial","PequeñaResponsabilidad Social Empresarial",600,{"$f":"Menú!D28","v":0},0]
[null,null,"Tipo de Empresa",null,"Mediana"]
[null,null,"Ambiental",{"$f":"CONCATENATE(E1103,C1104)","v":"MedianaAmbiental"},1750,{"$f":"Menú!J23+Menú!J24+Menú!J25+Menú!J26+Menú!J27","v":0},{"$f":"F1104/E1104","v":0}]
[null,null,"Social",{"$f":"CONCATENATE(E1103,C1105)","v":"MedianaSocial"},1335,{"$f":"Menú!J27+Menú!J28+Menú!J29","v":0},{"$f":"F1105/E1105","v":0}]
[null,null,"Ética",{"$f":"CONCATENATE(E1103,C1106)","v":"MedianaÉtica"},1335,{"$f":"+Menú!J27+Menú!J28+Menú!J29","v":0},{"$f":"F1106/E1106","v":0}]
[null,null,"Económica",{"$f":"CONCATENATE(E1103,C1107)","v":"MedianaEconómica"},1315,{"$f":"Menú!J23+Menú!J24+Menú!J25+Menú!J26","v":0},{"$f":"F1107/E1107","v":0}]
[null,null,"Total",{"$f":"CONCATENATE(E1103,C1108)","v":"MedianaTotal"},2650,{"$f":"Menú!J30","v":0},{"$f":"F1108/E1108","v":0}]
[null,null,"Consumo de Energía, Agua y Cambio Climático",{"$f":"CONCATENATE($E$1103,C1109)","v":"MedianaConsumo de Energía, Agua y Cambio Climático"},1165,{"$f":"Menú!D23","v":0},{"$f":"F1109/E1109","v":0}]
[null,null,"Gestión eficiente del uso Materia Prima y materiales",{"$f":"CONCATENATE($E$1103,C1110)","v":"MedianaGestión eficiente del uso Materia Prima y materiales"},150,{"$f":"Menú!D26","v":0},0]
[null,null,"Gestión  de los Residuos","MedianaGestión  de los Residuos",435,{"$f":"Menú!D27","v":0},0]
[null,null,"Responsabilidad Social Empresarial","MedianaResponsabilidad Social Empresarial",900,{"$f":"Menú!D28","v":0},0]
[null,null,"Tipo de Empresa",null,"Grande"]
[null,null,"Ambiental",{"$f":"CONCATENATE(E1113,C1114)","v":"GrandeAmbiental"},2356,{"$f":"Menú!J23+Menú!J24+Menú!J25+Menú!J26+Menú!J27","v":0},{"$f":"F1114/E1114","v":0}]
[null,null,"Social",{"$f":"CONCATENATE(E1113,C1115)","v":"GrandeSocial"},1780,{"$f":"Menú!J27+Menú!J28+Menú!J29","v":0},{"$f":"F1115/E1115","v":0}]
[null,null,"Ética",{"$f":"CONCATENATE(E1113,C1116)","v":"GrandeÉtica"},1980,{"$f":"Menú!J26+Menú!J27++Menú!J28+Menú!J29","v":0},{"$f":"F1116/E1116","v":0}]
[null,null,"Económica",{"$f":"CONCATENATE(E1113,C1117)","v":"GrandeEconómica"},1776,{"$f":"Menú!J23+Menú!J24+Menú!J25+Menú!J26","v":0},{"$f":"F1117/E1117","v":0}]
[null,null,"Total",{"$f":"CONCATENATE(E1113,C1118)","v":"GrandeTotal"},3556,{"$f":"Menú!J30","v":0},{"$f":"F1118/E1118","v":0}]
[null,null,"Consumo de Energía, Agua y Cambio Climático",{"$f":"CONCATENATE($E$1113,C1119)","v":"GrandeConsumo de Energía, Agua y Cambio Climático"},1576,{"$f":"Menú!D23","v":0},{"$f":"F1119/E1119","v":0}]
[null,null,"Gestión eficiente del uso Materia Prima y materiales",{"$f":"CONCATENATE($E$1113,C1120)","v":"GrandeGestión eficiente del uso Materia Prima y materiales"},200,{"$f":"Menú!D26","v":0},0]
[null,null,"Gestión  de los Residuos","GrandeGestión  de los Residuos",580,{"$f":"Menú!D27","v":0},0]
[null,null,"Responsabilidad Social Empresarial","GrandeResponsabilidad Social Empresarial",1200,{"$f":"Menú!D28","v":0},0]

{"sheet":"Respuestas","index":13,"n_rows":25,"n_cols":6,"rows_kept":25,"cut":false,"hidden":true,"merged":[]}
[]
[null,"Pregunta","1.1","SI","SI","SI "]
[null,null,null,"NO","NO","NO"]
[null,null,null,null,"NO APLICA","NO APLICA"]
[]
[null,null,null,"< 1%",null,"Micro"]
[null,null,null,"1 - 25%",null,"Pequeña"]
[null,null,null,"25 - 50%",null,"Mediana"]
[null,null,null,"50 - 75%",null,"Grande"]
[null,null,null,"> 75%"]
[null,null,null,"No Aplica"]
[]
[null,null,null,"Iluminacion Efciente (T5 y Led)",null,"X"]
[null,null,null,"Maquinaria Operada con motores electricos "]
[null,null,null,"Flota con vehiculos electricos"]
[null,null,null,"Campañas de eficiencia energetica"]
[]
[null,null,null,"Sin tratamiento"]
[null,null,null,"Gestionado por un tercero"]
[null,null,null,"Tratamientos preliminares"]
[null,null,null,"Planta de tratamiento "]
[]
[null,null,null,"Totalmente"]
[null,null,null,"Parcialmente ¿Cuál?"]
[null,null,null,"No"]

{"sheet":"Calificación (2)","index":14,"n_rows":970,"n_cols":7,"rows_kept":970,"cut":false,"hidden":true,"merged":[]}
[]
[null,"Número Pregunta","Tipo de Empresa","Respuesta","Clave","Calificación"]
[null,"1.1","M","SI",{"$f":"CONCATENATE(B3,\"-\",C3,\"-\",D3)","v":"1.1-M-SI"},25]
[null,"1.1","M","NO",{"$f":"CONCATENATE(B4,\"-\",C4,\"-\",D4)","v":"1.1-M-NO"},0]
[null,"1.2","M","X","1.2-M-X",5]
[null,"1.2","M",null,"1.2-M-",0]
[null,"1.21","M","X","1.21-M-X",5]
[null,"1.21","M",null,"1.21-M-",0]
[null,"1.22","M","X","1.22-M-X",5]
[null,"1.22","M",null,"1.22-M-",0]
[null,"1.23","M","X","1.23-M-X",5]
[null,"1.23","M",null,"1.23-M-",0]
[null,"1.24","M","X","1.24-M-X",5]
[null,"1.24","M",null,"1.24-M-",0]
[null,"1.25","M","X","1.25-M-X",5]
[null,"1.25","M",null,"1.25-M-",0]
[null,"1.3","M","< 1%","1.3-M-< 1%",0]
[null,"1.3","M","1 - 25%","1.3-M-1 - 25%",10]
[null,"1.3","M","25 - 50%","1.3-M-25 - 50%",15]
[null,"1.3","M","50 - 75%","1.3-M-50 - 75%",20]
[null,"1.3","M","> 75%","1.3-M-> 75%",25]
[null,"1.4","M","SI",{"$f":"CONCATENATE(B22,\"-\",C22,\"-\",D22)","v":"1.4-M-SI"},25]
[null,"1.4","M","NO",{"$f":"CONCATENATE(B23,\"-\",C23,\"-\",D23)","v":"1.4-M-NO"},0]
[null,"1.5","M","X",{"$f":"CONCATENATE(B24,\"-\",C24,\"-\",D24)","v":"1.5-M-X"},10]
[null,"1.5","M",null,"1.5-M-",0]
[null,"1.51","M","X","1.51-M-X",10]
[null,"1.51","M",null,"1.51-M-",0]
[null,"1.52","M","X","1.52-M-X",10]
[null,"1.52","M",null,"1.52-M-",0]
[null,"1.53","M","X","1.53-M-X",10]
[null,"1.53","M",null,"1.53-M-",0]
[null,"1.54","M","X","1.54-M-X",10]
[null,"1.54","M",null,"1.54-M-",0]
[null,"2.1","M","SI",{"$f":"CONCATENATE(B34,\"-\",C34,\"-\",D34)","v":"2.1-M-SI"},25]
[null,"2.1","M","NO","2.1-M-NO",0]
[null,"1.1","G","SI",{"$f":"CONCATENATE(B36,\"-\",C36,\"-\",D36)","v":"1.1-G-SI"},100]
[null,"1.1","G","NO","1.1-G-NO",0]
[null,"1.2","G","X","1.2-G-X",20]
[null,"1.2","G",null,"1.2-G-",0]
[null,"1.21","G","X","1.21-G-X",20]
[null,"1.21","G",null,"1.21-G-",0]
[null,"1.22","G","X","1.22-G-X",20]
[null,"1.22","G",null,"1.22-G-",0]
[null,"1.23","G","X","1.23-G-X",20]
[null,"1.23","G",null,"1.23-G-",0]
[null,"1.24","G","X","1.24-G-X",20]
[null,"1.24","G",null,"1.24-G-",0]
[null,"2.3","M","X","2.3-M-X",15]
[null,"2.3","M",null,"2.3-M-",0]
[null,"3.1","M","SI","3.1-M-SI",25]
[null,"3.1","M","NO","3.1-M-NO",0]
[null,"3.2","M","X","3.2-M-X",10]
[null,"3.2","M",null,"3.2-M-",0]
[null,"3.21","M","X","3.21-M-X",10]
[null,"3.21","M",null,"3.21-M-",0]
[null,"3.22","M","X","3.22-M-X",10]
[null,"3.22","M",null,"3.22-M-",0]
[null,"3.23","M","X","3.23-M-X",10]
[null,"3.23","M",null,"3.23-M-",0]
[null,"3.24","M","X","3.24-M-X",10]
[null,"3.24","M",null,"3.24-M-",0]
[null,"3.25","M","X","3.25-M-X",10]
[null,"3.25","M",null,"3.25-M-",0]
[null,"1.1","P","SI","1.1-P-SI",50]
[null,"1.1","P","NO","1.1-P-NO",0]
[null,"1.2","P","X","1.2-P-X",10]
[null,"1.2","P",null,"1.2-P-",0]
[null,"1.21","P","X","1.21-P-X",10]
[null,"1.21","P",null,"1.21-P-",0]
[null,"1.22","P","X","1.22-P-X",10]
[null,"1.22","P",null,"1.22-P-",0]
[null,"1.23","P","X","1.23-P-X",10]
[null,"1.23","P",null,"1.23-P-",0]
[null,"1.24","P","X","1.24-P-X",10]
[null,"1.24","P",null,"1.24-P-",0]
[null,"1.1","Me","SI","1.1-Me-SI",75]
[null,"1.1","Me","NO","1.1-Me-NO",0]
[null,"1.2","Me","X","1.2-Me-X",15]
[null,"1.2","Me",null,"1.2-Me-",0]
[null,"1.21","Me","X","1.21-Me-X",15]
[null,"1.21","Me",null,"1.21-Me-",0]
[null,"1.22","Me","X","1.22-Me-X",15]
[null,"1.22","Me",null,"1.22-Me-",0]
[null,"1.23","Me","X","1.23-Me-X",15]
[null,"1.23","Me",null,"1.23-Me-",0]
[null,"1.24","Me","X","1.24-Me-X",15]
[null,"1.24","Me",null,"1.24-Me-",0]
[null,"1.25","G","X","1.25-G-X",20]
[null,"1.25","G",null,"1.25-G-",0]
[null,"1.3","G","< 1%","1.3-G-< 1%",0]
[null,"1.3","G","1 - 25%","1.3-G-1 - 25%",25]
[null,"1.3","G","25 - 50%","1.3-G-25 - 50%",50]
[null,"1.3","G","50 - 75%","1.3-G-50 - 75%",75]
[null,"1.3","G","> 75%","1.3-G-> 75%",100]
[null,"1.4","G","SI","1.4-G-SI",100]
[null,"1.4","G","NO","1.4-G-NO",0]
[null,"1.5","G","X","1.5-G-X",25]
[null,"1.5","G",null,"1.5-G-",0]
[null,"1.51","G","X","1.51-G-X",25]
[null,"4.1","M","SI",{"$f":"CONCATENATE(B100,\"-\",C100,\"-\",D100)","v":"4.1-M-SI"},25]
[null,"4.1","M","NO","4.1-M-NO",0]
[null,"1.25","P","X","1.25-P-X",10]
[null,"1.25","P",null,"1.25-P-",0]
[null,"1.25","Me","X","1.25-Me-X",15]
[null,"1.25","Me",null,"1.25-Me-",0]
[null,"1.51","G",null,"1.51-G-",0]
[null,"1.52","G","X","1.52-G-X",25]
[null,"4.2","M","X","4.2-M-X",5]
[null,"4.2","M",null,"4.2-M-",0]
[null,"4.21","M","X","4.21-M-X",5]
[null,"4.21","M",null,"4.21-M-",0]
[null,"4.22","M","X","4.22-M-X",5]
[null,"4.22","M",null,"4.22-M-",0]
[null,"4.23","M","X","4.23-M-X",5]
[null,"4.23","M",null,"4.23-M-",0]
[null,"4.24","M","X","4.24-M-X",5]
[null,"4.24","M",null,"4.24-M-",0]
[null,"1.3","P","< 1%","1.3-P-< 1%",0]
[null,"1.3","P","1 - 25%","1.3-P-1 - 25%",15]
[null,"1.3","P","25 - 50%","1.3-P-25 - 50%",20]
[null,"1.3","P","50 - 75%","1.3-P-50 - 75%",35]
[null,"1.3","P","> 75%","1.3-P-> 75%",50]
[null,"1.4","P","SI","1.4-P-SI",50]
[null,"1.4","P","NO","1.4-P-NO",0]
[null,"1.5","P","X","1.5-P-X",15]
[null,"1.5","P",null,"1.5-P-",0]
[null,"1.51","P","X","1.51-P-X",15]
[null,"1.3","Me","< 1%","1.3-Me-< 1%",0]
[null,"1.3","Me","1 - 25%","1.3-Me-1 - 25%",20]
[null,"1.3","Me","25 - 50%","1.3-Me-25 - 50%",30]
[null,"1.3","Me","50 - 75%","1.3-Me-50 - 75%",55]
[null,"1.3","Me","> 75%","1.3-Me-> 75%",75]
[null,"1.4","Me","SI","1.4-Me-SI",75]
[null,"1.4","Me","NO","1.4-Me-NO",0]
[null,"1.5","Me","X","1.5-Me-X",20]
[null,"1.5","Me",null,"1.5-Me-",0]
[null,"1.51","Me","X","1.51-Me-X",20]
[null,"1.52","G",null,"1.52-G-",0]
[null,"1.53","G","X","1.53-G-X",25]
[null,"1.53","G",null,"1.53-G-",0]
[null,"1.54","G","X","1.54-G-X",25]
[null,"1.54","G",null,"1.54-G-",0]
[null,"1.55","G","X","1.55-G-X",25]
[null,"1.55","G",null,"1.55-G-",0]
[null,"1.56","G","X","1.56-G-X",25]
[null,"1.56","G",null,"1.56-G-",0]
[null,"1.57","G","X","1.57-G-X",25]
[null,"4.3","M","X","4.3-M-X",5]
[null,"4.3","M",null,"4.3-M-",0]
[null,"4.31","M","X","4.31-M-X",5]
[null,"4.31","M",null,"4.31-M-",0]
[null,"4.32","M","X","4.32-M-X",5]
[null,"4.32","M",null,"4.32-M-",0]
[null,"4.33","M","X","4.33-M-X",5]
[null,"4.33","M",null,"4.33-M-",0]
[null,"4.34","M","X","4.34-M-X",5]
[null,"4.34","M",null,"4.34-M-",0]
[null,"4.35","M","X","4.35-M-X",5]
[null,"4.35","M",null,"4.35-M-",0]
[null,"4.36","M","X","4.36-M-X",5]
[null,"4.36","M",null,"4.36-M-",0]
[null,"4.4","M","X","4.4-M-X",5]
[null,"4.4","M",null,"4.4-M-",0]
[null,"4.41","M","X",{"$f":"CONCATENATE(B164,\"-\",C164,\"-\",D164)","v":"4.41-M-X"},20]
[null,"4.41","M",null,"4.41-M-",0]
[null,"5.1","M","SI","5.1-M-SI",25]
[null,"5.1","M","NO","5.1-M-NO",0]
[null,"5.2","M","SI ¿Cuáles?","5.2-M-SI ¿Cuáles?",5]
[null,"5.2","M","NO","5.2-M-NO",0]
[null,"5.21","M","SI ¿Cuáles?","5.21-M-SI ¿Cuáles?",5]
[null,"5.21","M","NO","5.21-M-NO",0]
[null,"5.22","M","SI ¿Cuáles?","5.22-M-SI ¿Cuáles?",5]
[null,"5.22","M","NO","5.22-M-NO",0]
[null,"5.23","M","SI ¿Cuáles?","5.23-M-SI ¿Cuáles?",5]
[null,"5.23","M","NO","5.23-M-NO",0]
[null,"5.24","M","SI ¿Cuáles?","5.24-M-SI ¿Cuáles?",5]
[null,"5.24","M","NO","5.24-M-NO",0]
[null,"6.1","M","SI","6.1-M-SI",25]
[null,"6.1","M","NO","6.1-M-NO",0]
[null,"6.2","M","< 1%","6.2-M-< 1%",0]
[null,"6.2","M","1 - 25%","6.2-M-1 - 25%",10]
[null,"6.2","M","25 - 50%","6.2-M-25 - 50%",15]
[null,"6.2","M","50 - 75%","6.2-M-50 - 75%",20]
[null,"6.2","M","> 75%","6.2-M-> 75%",25]
[null,"6.3","M","SI","6.3-M-SI",25]
[null,"6.3","M","NO","6.3-M-NO",0]
[null,"6.5","M","< 1%","6.5-M-< 1%",0]
[null,"6.5","M","1 - 25%","6.5-M-1 - 25%",10]
[null,"6.5","M","25 - 50%","6.5-M-25 - 50%",10]
[null,"6.5","M","50 - 75%","6.5-M-50 - 75%",15]
[null,"6.5","M","> 75%","6.5-M-> 75%",25]
[null,"7.1","M","SI","7.1-M-SI",25]
[null,"7.1","M","NO","7.1-M-NO",0]
[null,"7.2","M","X","7.2-M-X",5]
[null,"7.2","M",null,"7.2-M-",0]
[null,"7.21","M","X","7.21-M-X",5]
[null,"7.21","M",null,"7.21-M-",0]
[null,"7.22","M","X","7.22-M-X",5]
[null,"7.22","M",null,"7.22-M-",0]
[null,"7.23","M","X","7.23-M-X",5]
[null,"7.23","M",null,"7.23-M-",0]
[null,"7.24","M","X","7.24-M-X",5]
[null,"7.24","M",null,"7.24-M-",0]
[null,"7.25","M","X","7.25-M-X",5]
[null,"7.25","M",null,"7.25-M-",0]
[null,"7.26","M","X","7.26-M-X",5]
[null,"7.26","M",null,"7.26-M-",0]
[null,"7.27","M","X","7.27-M-X",5]
[null,"7.27","M",null,"7.27-M-",0]
[null,"1.51","P",null,"1.51-P-",0]
[null,"1.52","P","X","1.52-P-X",15]
[null,"1.52","P",null,"1.52-P-",0]
[null,"1.53","P","X","1.53-P-X",15]
[null,"1.53","P",null,"1.53-P-",0]
[null,"1.54","P","X","1.54-P-X",15]
[null,"1.54","P",null,"1.54-P-",0]
[null,"1.55","P","X","1.55-P-X",15]
[null,"1.55","P",null,"1.55-P-",0]
[null,"1.56","P","X","1.56-P-X",15]
[null,"1.56","P",null,"1.56-P-",0]
[null,"1.57","P","X","1.57-P-X",15]
[null,"1.57","P",null,"1.57-P-",0]
[null,"2.1","P","SI","2.1-P-SI",50]
[null,"7.27","M","X","7.27-M-X",25]
[null,"7.27","M","NO","7.27-M-NO",0]
[null,"7.4","M","X","7.4-M-X",5]
[null,"7.4","M",null,"7.4-M-",0]
[null,"7.41","M","X",{"$f":"CONCATENATE(B228,\"-\",C228,\"-\",D228)","v":"7.41-M-X"},5]
[null,"7.41","M",null,"7.41-M-",0]
[null,"7.42","M","X","7.42-M-X",5]
[null,"7.42","M",null,"7.42-M-",0]
[null,"7.43","M","X","7.43-M-X",5]
[null,"7.43","M",null,"7.43-M-",0]
[null,"7.44","M","X","7.44-M-X",5]
[null,"7.44","M",null,"7.44-M-",0]
[null,"7.45","M","X","7.45-M-X",5]
[null,"7.45","M",null,"7.45-M-",0]
[null,"2.1","P","NO","2.1-P-NO",0]
[null,"2.2","P","X","2.2-P-X",20]
[null,"2.2","P",null,"2.2-P-",0]
[null,"2.21","P","X","2.21-P-X",20]
[null,"2.21","P",null,"2.21-P-",0]
[null,"2.22","P","X","2.22-P-X",20]
[null,"2.22","P",null,"2.22-P-",0]
[null,"2.23","P","X","2.23-P-X",20]
[null,"2.23","P",null,"2.23-P-",0]
[null,"2.24","P","X","2.24-P-X",20]
[null,"2.24","P",null,"2.24-P-",0]
[null,"2.25","P","X","2.25-P-X",20]
[null,"1.51","Me",null,"1.51-Me-",0]
[null,"1.52","Me","X","1.52-Me-X",20]
[null,"1.52","Me",null,"1.52-Me-",0]
[null,"1.53","Me","X","1.53-Me-X",20]
[null,"1.53","Me",null,"1.53-Me-",0]
[null,"1.54","Me","X","1.54-Me-X",20]
[null,"1.54","Me",null,"1.54-Me-",0]
[null,"1.55","Me","X","1.55-Me-X",20]
[null,"1.55","Me",null,"1.55-Me-",0]
[null,"1.56","Me","X","1.56-Me-X",20]
[null,"1.56","Me",null,"1.56-Me-",0]
[null,"1.57","Me","X","1.57-Me-X",20]
[null,"1.57","G",null,"1.57-G-",0]
[null,"2.1","G","SI","2.1-G-SI",100]
[null,"2.1","G","NO","2.1-G-NO",0]
[null,"2.2","G","X","2.2-G-X",42]
[null,"2.2","G",null,"2.2-G-",0]
[null,"2.21","G","X","2.21-G-X",42]
[null,"2.21","G",null,"2.21-G-",0]
[null,"2.22","G","X","2.22-G-X",42]
[null,"2.22","G",null,"2.22-G-",0]
[null,"2.23","G","X","2.23-G-X",42]
[null,"2.23","G",null,"2.23-G-",0]
[null,"2.24","G","X","2.24-G-X",42]
[null,"7.5","M","SI ","7.5-M-SI ",25]
[null,"7.5","M","NO","7.5-M-NO",0]
[null,"7.5","M","NO APLICA","7.5-M-NO APLICA",0]
[null,"7.6","M","X","7.6-M-X",5]
[null,"7.6","M",null,"7.6-M-",0]
[null,"7.61","M","X","7.61-M-X",5]
[null,"7.61","M",null,"7.61-M-",0]
[null,"7.62","M","X","7.62-M-X",5]
[null,"7.62","M",null,"7.62-M-",0]
[null,"7.63","M","X","7.63-M-X",5]
[null,"7.63","M",null,"7.63-M-",0]
[null,"7.64","M","X","7.64-M-X",5]
[null,"7.64","M",null,"7.64-M-",0]
[null,"2.25","P",null,"2.25-P-",0]
[null,"2.3","P","X","2.3-P-X",30]
[null,"2.3","P",null,"2.3-P-",0]
[null,"2.31","P","X","2.31-P-X",30]
[null,"2.31","P",null,"2.31-P-",0]
[null,"2.32","P","X",{"$f":"CONCATENATE(B292,\"-\",C292,\"-\",D292)","v":"2.32-P-X"},30]
[null,"2.32","P",null,"2.32-P-",0]
[null,"2.33","P","X","2.33-P-X",30]
[null,"2.33","P",null,"2.33-P-",0]
[null,"2.34","P","X","2.34-P-X",30]
[null,"1.57","Me",null,"1.57-Me-",0]
[null,"2.1","Me","SI","2.1-Me-SI",75]
[null,"2.1","Me","NO","2.1-Me-NO",0]
[null,"2.2","Me","X","2.2-Me-X",30]
[null,"2.2","Me",null,"2.2-Me-",0]
[null,"2.21","Me","X","2.21-Me-X",30]
[null,"2.21","Me",null,"2.21-Me-",0]
[null,"2.22","Me","X","2.22-Me-X",30]
[null,"2.22","Me",null,"2.22-Me-",0]
[null,"2.23","Me","X","2.23-Me-X",30]
[null,"2.24","G",null,"2.24-G-",0]
[null,"2.25","G","X","2.25-G-X",42]
[null,"2.25","G",null,"2.25-G-",0]
[null,"2.3","G","X","2.3-G-X",63]
[null,"2.3","G",null,"2.3-G-",0]
[null,"2.31","G","X","2.31-G-X",63]
[null,"2.31","G",null,"2.31-G-",0]
[null,"2.32","G","X","2.32-G-X",63]
[null,"2.32","G",null,"2.32-G-",0]
[null,"2.33","G","X","2.33-G-X",63]
[null,"7.7","M","SI ","7.7-M-SI ",25]
[null,"7.7","M","NO ","7.7-M-NO ",0]
[null,"7.7","M","NO APLICA","7.7-M-NO APLICA",0]
[null,"2.34","P",null,"2.34-P-",0]
[null,"3.1","P","SI","3.1-P-SI",50]
[null,"3.1","P","NO","3.1-P-NO",0]
[null,"2.23","Me",null,"2.23-Me-",0]
[null,"2.24","Me","X","2.24-Me-X",30]
[null,"2.24","Me",null,"2.24-Me-",0]
[null,"2.33","G",null,"2.33-G-",0]
[null,"2.34","G","X","2.34-G-X",0]
[null,"2.34","G",null,"2.34-G-",0]
[null,"3.2","P","X","3.2-P-X",20]
[null,"3.2","P",null,"3.2-P-",0]
[null,"8.2","M","SI","8.2-M-SI",25]
[null,"8.2","M","NO","8.2-M-NO",0]
[null,"8.3","M","SI ¿Cuáles?","8.3-M-SI ¿Cuáles?",25]
[null,"8.3","M","NO","8.3-M-NO",0]
[null,"8.3","M","NO APLICA","8.3-M-NO APLICA",25]
[null,"8.4","M","SI ¿Cuáles?","8.4-M-SI ¿Cuáles?",25]
[null,"8.4","M","NO","8.4-M-NO",0]
[null,"8.5","M","SI","8.5-M-SI",25]
[null,"8.5","M","NO","8.5-M-NO",0]
[null,"8.6","M","SI ¿Cuáles?","8.6-M-SI ¿Cuáles?",25]
[null,"8.6","M","NO","8.6-M-NO",0]
[null,"8.7","M","SI ¿Cuáles?","8.7-M-SI ¿Cuáles?",25]
[null,"8.7","M","NO","8.7-M-NO",0]
[null,"8.8","M","SI ¿Cuáles?","8.8-M-SI ¿Cuáles?",25]
[null,"8.8","M","NO","8.8-M-NO",0]
[null,"8.9","M","SI ¿Cuáles?","8.9-M-SI ¿Cuáles?",25]
[null,"8.9","M","NO","8.9-M-NO",0]
[null,"8.10","M","SI ¿Cuáles?","8.10-M-SI ¿Cuáles?",25]
[null,"8.10","M","NO","8.10-M-NO",0]
[null,"8.11","M","SI ¿Cuáles?","8.11-M-SI ¿Cuáles?",25]
[null,"8.11","M","NO","8.11-M-NO",0]
[null,"9.1","M","SI ¿Cuáles?","9.1-M-SI ¿Cuáles?",25]
[null,"9.1","M","NO","9.1-M-NO",0]
[null,"9.2","M","SI","9.2-M-SI",5]
[null,"9.2","M","NO","9.2-M-NO",0]
[null,"9.21","M","SI",{"$f":"CONCATENATE(B356,\"-\",C356,\"-\",D356)","v":"9.21-M-SI"},5]
[null,"9.21","M","NO","9.21-M-NO",0]
[null,"9.22","M","SI","9.22-M-SI",5]
[null,"9.22","M","NO","9.22-M-NO",0]
[null,"9.23","M","SI","9.23-M-SI",5]
[null,"9.23","M","NO","9.23-M-NO",0]
[null,"9.24","M","SI","9.24-M-SI",5]
[null,"9.24","M","NO","9.24-M-NO",0]
[null,"9.3","M","Totalmente","9.3-M-Totalmente",25]
[null,"9.3","M","Parcialmente ¿Cuál?","9.3-M-Parcialmente ¿Cuál?",20]
[null,"9.3","M","No","9.3-M-No",0]
[null,"3.21","P","X","3.21-P-X",20]
[null,"3.21","P",null,"3.21-P-",0]
[null,"3.22","P","X","3.22-P-X",20]
[null,"3.22","P",null,"3.22-P-",0]
[null,"3.23","P","X","3.23-P-X",20]
[null,"3.23","P",null,"3.23-P-",0]
[null,"3.24","P","X","3.24-P-X",20]
[null,"3.24","P",null,"3.24-P-",0]
[null,"3.25","P","X","3.25-P-X",20]
[null,"3.25","P",null,"3.25-P-",0]
[null,"4.1","P","SI","4.1-P-SI",50]
[null,"4.1","P","NO","4.1-P-NO",0]
[null,"4.2","P","X","4.2-P-X",10]
[null,"4.2","P",null,"4.2-P-",0]
[null,"4.21","P","X","4.21-P-X",10]
[null,"4.21","P",null,"4.21-P-",0]
[null,"4.22","P","X","4.22-P-X",10]
[null,"4.22","P",null,"4.22-P-",0]
[null,"4.23","P","X","4.23-P-X",10]
[null,"4.23","P",null,"4.23-P-",0]
[null,"4.24","P","X","4.24-P-X",10]
[null,"4.24","P",null,"4.24-P-",0]
[null,"4.3","P","X","4.3-P-X",10]
[null,"4.3","P",null,"4.3-P-",0]
[null,"4.31","P","X","4.31-P-X",10]
[null,"4.31","P",null,"4.31-P-",0]
[null,"4.32","P","X","4.32-P-X",10]
[null,"4.32","P",null,"4.32-P-",0]
[null,"4.33","P","X","4.33-P-X",10]
[null,"4.33","P",null,"4.33-P-",0]
[null,"4.34","P","X","4.34-P-X",10]
[null,"4.34","P",null,"4.34-P-",0]
[null,"4.35","P","X","4.35-P-X",10]
[null,"2.2","M","X","2.2-M-X",10]
[null,"2.2","M",null,"2.2-M-",0]
[null,"2.21","M","X","2.21-M-X",10]
[null,"2.21","M",null,"2.21-M-",0]
[null,"2.22","M","X","2.22-M-X",10]
[null,"2.22","M",null,"2.22-M-",0]
[null,"2.23","M","X","2.23-M-X",10]
[null,"2.23","M",null,"2.23-M-",0]
[null,"2.24","M","X","2.24-M-X",10]
[null,"2.24","M",null,"2.24-M-",0]
[null,"2.25","M","X","2.25-M-X",10]
[null,"2.25","M",null,"2.25-M-",0]
[null,"2.31","M","X","2.31-M-X",15]
[null,"2.31","M",null,"2.31-M-",0]
[null,"2.32","M","X","2.32-M-X",15]
[null,"2.32","M",null,"2.32-M-",0]
[null,"2.33","M","X","2.33-M-X",15]
[null,"2.33","M",null,"2.33-M-",0]
[null,"2.34","M","X","2.34-M-X",15]
[null,"2.34","M",null,"2.34-M-",0]
[null,"4.35","P",null,{"$f":"CONCATENATE(B420,\"-\",C420,\"-\",D420)","v":"4.35-P-"},0]
[null,"4.36","P","X","4.36-P-X",10]
[null,"4.36","P",null,"4.36-P-",0]
[null,"4.4","P","X","4.4-P-X",10]
[null,"4.4","P",null,"4.4-P-",0]
[null,"4.41","P","X","4.41-P-X",40]
[null,"4.41","P",null,"4.41-P-",0]
[null,"5.1","P","SI","5.1-P-SI",50]
[null,"5.1","P","NO","5.1-P-NO",0]
[null,"5.2","P","SI ¿Cuáles?","5.2-P-SI ¿Cuáles?",10]
[null,"5.2","P","NO","5.2-P-NO",0]
[null,"5.21","P","SI ¿Cuáles?","5.21-P-SI ¿Cuáles?",10]
[null,"5.21","P","NO","5.21-P-NO",0]
[null,"5.22","P","SI ¿Cuáles?","5.22-P-SI ¿Cuáles?",10]
[null,"5.22","P","NO","5.22-P-NO",0]
[null,"5.23","P","SI ¿Cuáles?","5.23-P-SI ¿Cuáles?",10]
[null,"5.23","P","NO","5.23-P-NO",0]
[null,"5.24","P","SI ¿Cuáles?","5.24-P-SI ¿Cuáles?",10]
[null,"5.24","P","NO","5.24-P-NO",0]
[null,"6.1","P","SI","6.1-P-SI",50]
[null,"6.1","P","NO","6.1-P-NO",0]
[null,"6.2","P","< 1%","6.2-P-< 1%",0]
[null,"6.2","P","1 - 25%","6.2-P-1 - 25%",15]
[null,"6.2","P","25 - 50%","6.2-P-25 - 50%",20]
[null,"6.2","P","50 - 75%","6.2-P-50 - 75%",35]
[null,"6.2","P","> 75%","6.2-P-> 75%",50]
[null,"6.3","P","SI","6.3-P-SI",50]
[null,"6.3","P","NO","6.3-P-NO",0]
[null,"6.5","P","< 1%","6.5-P-< 1%",0]
[null,"6.5","P","1 - 25%","6.5-P-1 - 25%",15]
[null,"6.5","P","25 - 50%","6.5-P-25 - 50%",20]
[null,"6.5","P","50 - 75%","6.5-P-50 - 75%",35]
[null,"6.5","P","> 75%","6.5-P-> 75%",50]
[null,"7.1","P","SI","7.1-P-SI",50]
[null,"7.1","P","NO","7.1-P-NO",0]
[null,"7.2","P","X","7.2-P-X",10]
[null,"7.2","P",null,"7.2-P-",0]
[null,"7.21","P","X","7.21-P-X",10]
[null,"7.21","P",null,"7.21-P-",0]
[null,"7.22","P","X","7.22-P-X",10]
[null,"7.22","P",null,"7.22-P-",0]
[null,"7.23","P","X","7.23-P-X",10]
[null,"7.23","P",null,"7.23-P-",0]
[null,"7.24","P","X","7.24-P-X",10]
[null,"7.24","P",null,"7.24-P-",0]
[null,"7.25","P","X","7.25-P-X",10]
[null,"7.25","P",null,"7.25-P-",0]
[null,"7.26","P","X","7.26-P-X",10]
[null,"7.26","P",null,"7.26-P-",0]
[null,"7.3","P","X","7.3-P-X",10]
[null,"7.3","P",null,"7.3-P-",0]
[null,"7.31","P","X","7.31-P-X",10]
[null,"7.31","P",null,"7.31-P-",0]
[null,"7.32","P","X","7.32-P-X",10]
[null,"7.32","P",null,"7.32-P-",0]
[null,"7.33","P","X","7.33-P-X",10]
[null,"7.33","P",null,"7.33-P-",0]
[null,"7.34","P","X","7.34-P-X",10]
[null,"2.25","Me","X","2.25-Me-X",30]
[null,"2.25","Me",null,"2.25-Me-",0]
[null,"2.3","Me","X","2.3-Me-X",45]
[null,"2.3","Me",null,"2.3-Me-",0]
[null,"2.31","Me","X","2.31-Me-X",45]
[null,"2.31","Me",null,"2.31-Me-",0]
[null,"2.32","Me","X",{"$f":"CONCATENATE(B484,\"-\",C484,\"-\",D484)","v":"2.32-Me-X"},45]
[null,"2.32","Me",null,"2.32-Me-",0]
[null,"2.33","Me","X","2.33-Me-X",45]
[null,"2.33","Me",null,"2.33-Me-",0]
[null,"2.34","Me","X","2.34-Me-X",0]
[null,"2.34","Me",null,"2.34-Me-",0]
[null,"3.1","Me","SI","3.1-Me-SI",75]
[null,"3.1","Me","NO","3.1-Me-NO",0]
[null,"3.1","G","SI","3.1-G-SI",100]
[null,"7.3","M","X","7.3-M-X",5]
[null,"7.3","M",null,"7.3-M-",0]
[null,"7.34","P",null,"7.34-P-",0]
[null,"7.35","P","X","7.35-P-X",10]
[null,"7.35","P",null,"7.35-P-",0]
[null,"7.4","P","X","7.4-P-X",10]
[null,"7.4","P",null,"7.4-P-",0]
[null,"7.41","P","X","7.41-P-X",10]
[null,"7.41","P",null,"7.41-P-",0]
[null,"7.42","P","X","7.42-P-X",10]
[null,"7.42","P",null,"7.42-P-",0]
[null,"7.43","P","X","7.43-P-X",10]
[null,"7.43","P",null,"7.43-P-",0]
[null,"7.44","P","X","7.44-P-X",10]
[null,"7.44","P",null,"7.44-P-",0]
[null,"7.45","P","X","7.45-P-X",10]
[null,"7.45","P",null,"7.45-P-",0]
[null,"7.5","P","SI ","7.5-P-SI ",50]
[null,"7.5","P","NO","7.5-P-NO",0]
[null,"7.5","P","NO APLICA","7.5-P-NO APLICA",0]
[null,"7.6","P","X","7.6-P-X",10]
[null,"7.6","P",null,"7.6-P-",0]
[null,"7.61","P","X","7.61-P-X",10]
[null,"7.61","P",null,"7.61-P-",0]
[null,"7.62","P","X","7.62-P-X",10]
[null,"7.62","P",null,"7.62-P-",0]
[null,"7.63","P","X","7.63-P-X",10]
[null,"7.63","P",null,"7.63-P-",0]
[null,"7.64","P","X","7.64-P-X",10]
[null,"7.64","P",null,"7.64-P-",0]
[null,"7.7","P","SI ","7.7-P-SI ",50]
[null,"7.7","P","NO ","7.7-P-NO ",0]
[null,"7.7","P","NO APLICA","7.7-P-NO APLICA",0]
[null,"7.7","P","NO ","7.7-P-NO ",0]
[null,"7.7","P","NO APLICA","7.7-P-NO APLICA",0]
[null,"8.1","P","NO","8.1-P-NO",0]
[null,"8.10","P","SI ¿Cuáles?","8.10-P-SI ¿Cuáles?",50]
[null,"8.10","P","NO","8.10-P-NO",0]
[null,"8.11","P","SI ¿Cuáles?","8.11-P-SI ¿Cuáles?",50]
[null,"8.11","P","NO","8.11-P-NO",0]
[null,"8.2","P","SI","8.2-P-SI",50]
[null,"8.2","P","NO","8.2-P-NO",0]
[null,"3.2","Me","X","3.2-Me-X",30]
[null,"3.2","Me",null,"3.2-Me-",0]
[null,"3.21","Me","X","3.21-Me-X",30]
[null,"3.21","Me",null,"3.21-Me-",0]
[null,"3.22","Me","X","3.22-Me-X",30]
[null,"3.22","Me",null,"3.22-Me-",0]
[null,"3.23","Me","X","3.23-Me-X",30]
[null,"3.23","Me",null,"3.23-Me-",0]
[null,"3.24","Me","X","3.24-Me-X",30]
[null,"3.24","Me",null,"3.24-Me-",0]
[null,"3.25","Me","X","3.25-Me-X",30]
[null,"3.25","Me",null,"3.25-Me-",0]
[null,"4.1","Me","SI","4.1-Me-SI",75]
[null,"4.1","Me","NO",{"$f":"CONCATENATE(B548,\"-\",C548,\"-\",D548)","v":"4.1-Me-NO"},0]
[null,"4.2","Me","X","4.2-Me-X",15]
[null,"4.2","Me",null,"4.2-Me-",0]
[null,"4.21","Me","X","4.21-Me-X",15]
[null,"4.21","Me",null,"4.21-Me-",0]
[null,"4.22","Me","X","4.22-Me-X",15]
[null,"4.22","Me",null,"4.22-Me-",0]
[null,"4.23","Me","X","4.23-Me-X",15]
[null,"4.23","Me",null,"4.23-Me-",0]
[null,"4.24","Me","X","4.24-Me-X",15]
[null,"4.24","Me",null,"4.24-Me-",0]
[null,"4.3","Me","X","4.3-Me-X",15]
[null,"4.3","Me",null,"4.3-Me-",0]
[null,"4.31","Me","X","4.31-Me-X",15]
[null,"4.31","Me",null,"4.31-Me-",0]
[null,"4.32","Me","X","4.32-Me-X",15]
[null,"4.32","Me",null,"4.32-Me-",0]
[null,"4.33","Me","X","4.33-Me-X",15]
[null,"4.33","Me",null,"4.33-Me-",0]
[null,"4.34","Me","X","4.34-Me-X",15]
[null,"4.34","Me",null,"4.34-Me-",0]
[null,"4.35","Me","X","4.35-Me-X",15]
[null,"4.35","Me",null,"4.35-Me-",0]
[null,"4.36","Me","X","4.36-Me-X",15]
[null,"4.36","Me",null,"4.36-Me-",0]
[null,"4.4","Me","X","4.4-Me-X",15]
[null,"4.4","Me",null,"4.4-Me-",0]
[null,"4.41","Me","X","4.41-Me-X",60]
[null,"4.41","Me",null,"4.41-Me-",0]
[null,"5.1","Me","SI","5.1-Me-SI",75]
[null,"5.1","Me","NO","5.1-Me-NO",0]
[null,"5.2","Me","SI ¿Cuáles?","5.2-Me-SI ¿Cuáles?",15]
[null,"8.3","P","SI ¿Cuáles?","8.3-P-SI ¿Cuáles?",50]
[null,"8.3","P","NO","8.3-P-NO",0]
[null,"8.3","P","NO APLICA","8.3-P-NO APLICA",50]
[null,"8.4","P","SI ¿Cuáles?","8.4-P-SI ¿Cuáles?",50]
[null,"8.4","P","NO","8.4-P-NO",0]
[null,"8.5","P","SI","8.5-P-SI",50]
[null,"8.5","P","NO","8.5-P-NO",0]
[null,"8.6","P","SI ¿Cuáles?","8.6-P-SI ¿Cuáles?",50]
[null,"8.6","P","NO","8.6-P-NO",0]
[null,"8.7","P","SI ¿Cuáles?","8.7-P-SI ¿Cuáles?",50]
[null,"8.7","P","NO","8.7-P-NO",0]
[null,"8.8","P","SI ¿Cuáles?","8.8-P-SI ¿Cuáles?",50]
[null,"5.2","Me","NO","5.2-Me-NO",0]
[null,"5.21","Me","SI ¿Cuáles?","5.21-Me-SI ¿Cuáles?",15]
[null,"5.21","Me","NO","5.21-Me-NO",0]
[null,"5.22","Me","SI ¿Cuáles?","5.22-Me-SI ¿Cuáles?",15]
[null,"5.22","Me","NO","5.22-Me-NO",0]
[null,"5.23","Me","SI ¿Cuáles?","5.23-Me-SI ¿Cuáles?",15]
[null,"5.23","Me","NO","5.23-Me-NO",0]
[null,"5.24","Me","SI ¿Cuáles?","5.24-Me-SI ¿Cuáles?",15]
[null,"5.24","Me","NO","5.24-Me-NO",0]
[null,"6.1","Me","SI","6.1-Me-SI",75]
[null,"6.1","Me","NO","6.1-Me-NO",0]
[null,"6.2","Me","< 1%","6.2-Me-< 1%",0]
[null,"6.2","Me","1 - 25%","6.2-Me-1 - 25%",20]
[null,"6.2","Me","25 - 50%","6.2-Me-25 - 50%",30]
[null,"6.2","Me","50 - 75%","6.2-Me-50 - 75%",55]
[null,"6.2","Me","> 75%","6.2-Me-> 75%",75]
[null,"6.3","Me","SI","6.3-Me-SI",75]
[null,"6.3","Me","NO","6.3-Me-NO",0]
[null,"6.5","Me","< 1%","6.5-Me-< 1%",0]
[null,"6.5","Me","1 - 25%","6.5-Me-1 - 25%",20]
[null,"6.5","Me","25 - 50%",{"$f":"CONCATENATE(B612,\"-\",C612,\"-\",D612)","v":"6.5-Me-25 - 50%"},30]
[null,"6.5","Me","50 - 75%","6.5-Me-50 - 75%",55]
[null,"6.5","Me","> 75%","6.5-Me-> 75%",75]
[null,"7.1","Me","SI","7.1-Me-SI",75]
[null,"7.1","Me","NO","7.1-Me-NO",0]
[null,"7.2","Me","X","7.2-Me-X",15]
[null,"7.2","Me",null,"7.2-Me-",0]
[null,"7.21","Me","X","7.21-Me-X",15]
[null,"7.21","Me",null,"7.21-Me-",0]
[null,"7.21","Me",null,"7.21-Me-",0]
[null,"7.22","Me","X","7.22-Me-X",15]
[null,"7.22","Me",null,"7.22-Me-",0]
[null,"7.22","Me","X","7.22-Me-X",15]
[null,"7.22","Me",null,"7.22-Me-",0]
[null,"7.23","Me","X","7.23-Me-X",15]
[null,"7.23","Me",null,"7.23-Me-",0]
[null,"7.23","Me","X","7.23-Me-X",15]
[null,"7.23","Me",null,"7.23-Me-",0]
[null,"7.24","Me","X","7.24-Me-X",15]
[null,"7.24","Me",null,"7.24-Me-",0]
[null,"7.24","Me","X","7.24-Me-X",15]
[null,"7.24","Me",null,"7.24-Me-",0]
[null,"7.25","Me","X","7.25-Me-X",15]
[null,"7.25","Me",null,"7.25-Me-",0]
[null,"7.25","Me","X","7.25-Me-X",15]
[null,"7.25","Me",null,"7.25-Me-",0]
[null,"7.26","Me","X","7.26-Me-X",15]
[null,"7.26","Me",null,"7.26-Me-",0]
[null,"7.26","Me","X","7.26-Me-X",15]
[null,"7.26","Me",null,"7.26-Me-",0]
[null,"3.1","G","NO","3.1-G-NO",0]
[null,"3.2","G","X","3.2-G-X",42]
[null,"7.3","Me","X","7.3-Me-X",15]
[null,"7.3","Me",null,"7.3-Me-",0]
[null,"7.31","Me","X","7.31-Me-X",15]
[null,"7.31","Me",null,"7.31-Me-",0]
[null,"7.32","Me","X","7.32-Me-X",15]
[null,"7.32","Me",null,"7.32-Me-",0]
[null,"7.33","Me","X","7.33-Me-X",15]
[null,"7.33","Me",null,"7.33-Me-",0]
[null,"7.34","Me","X","7.34-Me-X",15]
[null,"7.34","Me",null,"7.34-Me-",0]
[null,"7.35","Me","X","7.35-Me-X",15]
[null,"7.35","Me",null,"7.35-Me-",0]
[null,"7.4","Me","X","7.4-Me-X",15]
[null,"7.4","Me",null,"7.4-Me-",0]
[null,"7.41","Me","X","7.41-Me-X",15]
[null,"7.41","Me",null,"7.41-Me-",0]
[null,"7.42","Me","X","7.42-Me-X",15]
[null,"7.42","Me",null,"7.42-Me-",0]
[null,"7.43","Me","X","7.43-Me-X",15]
[null,"7.43","Me",null,"7.43-Me-",0]
[null,"7.44","Me","X","7.44-Me-X",15]
[null,"7.44","Me",null,"7.44-Me-",0]
[null,"7.45","Me","X","7.45-Me-X",15]
[null,"7.45","Me",null,"7.45-Me-",0]
[null,"7.5","Me","SI ","7.5-Me-SI ",75]
[null,"7.5","Me","NO","7.5-Me-NO",0]
[null,"7.5","Me","NO APLICA","7.5-Me-NO APLICA",0]
[null,"7.6","Me","X","7.6-Me-X",15]
[null,"7.6","Me",null,"7.6-Me-",0]
[null,"7.61","Me","X","7.61-Me-X",15]
[null,"7.61","Me",null,"7.61-Me-",0]
[null,"7.62","Me","X","7.62-Me-X",15]
[null,"7.62","Me",null,{"$f":"CONCATENATE(B676,\"-\",C676,\"-\",D676)","v":"7.62-Me-"},0]
[null,"7.63","Me","X","7.63-Me-X",15]
[null,"7.63","Me",null,"7.63-Me-",0]
[null,"7.64","Me","X","7.64-Me-X",15]
[null,"7.64","Me",null,"7.64-Me-",0]
[null,"7.7","Me","SI ","7.7-Me-SI ",75]
[null,"7.7","Me","NO ","7.7-Me-NO ",0]
[null,"7.7","Me","NO APLICA","7.7-Me-NO APLICA",0]
[null,"8.10","Me","SI ¿Cuáles?","8.10-Me-SI ¿Cuáles?",75]
[null,"8.10","Me","NO","8.10-Me-NO",0]
[null,"8.11","Me","SI ¿Cuáles?","8.11-Me-SI ¿Cuáles?",75]
[null,"8.11","Me","NO","8.11-Me-NO",0]
[null,"8.2","Me","SI","8.2-Me-SI",75]
[null,"8.3","Me","NO","8.3-Me-NO",75]
[null,"3.2","G",null,"3.2-G-",0]
[null,"3.21","G","X","3.21-G-X",42]
[null,"3.21","G",null,"3.21-G-",0]
[null,"3.22","G","X","3.22-G-X",42]
[null,"3.22","G",null,"3.22-G-",0]
[null,"3.23","G","X","3.23-G-X",42]
[null,"3.23","G",null,"3.23-G-",0]
[null,"3.24","G","X","3.24-G-X",42]
[null,"3.24","G",null,"3.24-G-",0]
[null,"3.25","G","X","3.25-G-X",42]
[null,"3.25","G",null,"3.25-G-",0]
[null,"4.1","G","SI","4.1-G-SI",100]
[null,"4.1","G","NO","4.1-G-NO",0]
[null,"4.2","G","X","4.2-G-X",20]
[null,"4.2","G",null,"4.2-G-",0]
[null,"4.21","G","X","4.21-G-X",20]
[null,"4.21","G",null,"4.21-G-",0]
[null,"4.22","G","X","4.22-G-X",20]
[null,"4.22","G",null,"4.22-G-",0]
[null,"4.23","G","X","4.23-G-X",20]
[null,"4.23","G",null,"4.23-G-",0]
[null,"4.24","G","X","4.24-G-X",20]
[null,"4.24","G",null,"4.24-G-",0]
[null,"4.3","G","X","4.3-G-X",20]
[null,"4.3","G",null,"4.3-G-",0]
[null,"4.31","G","X","4.31-G-X",20]
[null,"4.31","G",null,"4.31-G-",0]
[null,"4.32","G","X","4.32-G-X",20]
[null,"4.32","G",null,"4.32-G-",0]
[null,"4.33","G","X","4.33-G-X",20]
[null,"4.33","G",null,"4.33-G-",0]
[null,"4.34","G","X","4.34-G-X",20]
[null,"4.34","G",null,"4.34-G-",0]
[null,"8.3","Me","NO","8.3-Me-NO",0]
[null,"8.3","Me","NO APLICA","8.3-Me-NO APLICA",75]
[null,"8.4","Me","SI ¿Cuáles?","8.4-Me-SI ¿Cuáles?",75]
[null,"8.4","Me","NO","8.4-Me-NO",0]
[null,"8.5","Me","SI","8.5-Me-SI",75]
[null,"8.5","Me","NO","8.5-Me-NO",0]
[null,"8.6","Me","SI ¿Cuáles?","8.6-Me-SI ¿Cuáles?",75]
[null,"8.6","Me","NO","8.6-Me-NO",0]
[null,"4.35","G","X","4.35-G-X",20]
[null,"4.35","G",null,"4.35-G-",0]
[null,"4.36","G","X","4.36-G-X",20]
[null,"4.36","G",null,"4.36-G-",0]
[null,"4.4","G","X","4.4-G-X",20]
[null,"4.4","G",null,"4.4-G-",0]
[null,"4.41","G","X","4.41-G-X",80]
[null,"4.41","G",null,"4.41-G-",0]
[null,"5.1","G","SI","5.1-G-SI",100]
[null,"5.1","G","NO",{"$f":"CONCATENATE(B740,\"-\",C740,\"-\",D740)","v":"5.1-G-NO"},0]
[null,"5.2","G","SI ¿Cuáles?","5.2-G-SI ¿Cuáles?",20]
[null,"5.2","G","NO","5.2-G-NO",0]
[null,"5.21","G","SI ¿Cuáles?","5.21-G-SI ¿Cuáles?",20]
[null,"5.21","G","NO","5.21-G-NO",0]
[null,"5.22","G","SI ¿Cuáles?","5.22-G-SI ¿Cuáles?",20]
[null,"5.22","G","NO","5.22-G-NO",0]
[null,"5.23","G","SI ¿Cuáles?","5.23-G-SI ¿Cuáles?",20]
[null,"5.23","G","NO","5.23-G-NO",0]
[null,"5.24","G","SI ¿Cuáles?","5.24-G-SI ¿Cuáles?",20]
[null,"5.24","G","NO","5.24-G-NO",0]
[null,"6.1","G","SI","6.1-G-SI",100]
[null,"6.1","G","NO","6.1-G-NO",0]
[null,"6.2","G","< 1%","6.2-G-< 1%",0]
[null,"6.2","G","1 - 25%","6.2-G-1 - 25%",25]
[null,"6.2","G","25 - 50%","6.2-G-25 - 50%",50]
[null,"6.2","G","50 - 75%","6.2-G-50 - 75%",75]
[null,"6.2","G","> 75%","6.2-G-> 75%",100]
[null,"6.3","G","SI","6.3-G-SI",100]
[null,"6.3","G","NO","6.3-G-NO",0]
[null,"6.5","G","< 1%","6.5-G-< 1%",0]
[null,"6.5","G","1 - 25%","6.5-G-1 - 25%",25]
[null,"6.5","G","25 - 50%","6.5-G-25 - 50%",50]
[null,"6.5","G","50 - 75%","6.5-G-50 - 75%",75]
[null,"6.5","G","> 75%","6.5-G-> 75%",100]
[null,"7.1","G","SI","7.1-G-SI",100]
[null,"7.1","G","NO","7.1-G-NO",0]
[null,"7.2","G","X","7.2-G-X",20]
[null,"7.2","G",null,"7.2-G-",0]
[null,"7.21","G","X","7.21-G-X",20]
[null,"7.21","G",null,"7.21-G-",0]
[null,"7.22","G","X","7.22-G-X",20]
[null,"7.22","G","SI ¿Cuáles?","7.22-G-SI ¿Cuáles?",0]
[null,"7.22","G","NO","7.22-G-NO",0]
[null,"7.22","G",null,"7.22-G-",0]
[null,"7.23","G","SI ¿Cuáles?","7.23-G-SI ¿Cuáles?",100]
[null,"7.23","G","NO","7.23-G-NO",0]
[null,"7.23","G","X","7.23-G-X",20]
[null,"7.23","G",null,"7.23-G-",0]
[null,"7.24","G","SI ¿Cuáles?","7.24-G-SI ¿Cuáles?",100]
[null,"7.24","G","NO","7.24-G-NO",0]
[null,"7.24","G","X","7.24-G-X",20]
[null,"7.24","G",null,"7.24-G-",0]
[null,"7.25","G","SI ¿Cuáles?","7.25-G-SI ¿Cuáles?",100]
[null,"7.25","G","NO","7.25-G-NO",0]
[null,"7.25","G","X","7.25-G-X",20]
[null,"7.25","G",null,"7.25-G-",0]
[null,"7.26","G","SI ¿Cuáles?","7.26-G-SI ¿Cuáles?",100]
[null,"7.26","G","NO","7.26-G-NO",0]
[null,"7.26","G","X","7.26-G-X",20]
[null,"7.26","G",null,"7.26-G-",0]
[null,"7.3","G","X","7.3-G-X",20]
[null,"7.3","G",null,"7.3-G-",0]
[null,"7.31","G","X","7.31-G-X",20]
[null,"7.31","G",null,"7.31-G-",0]
[null,"7.32","G","X","7.32-G-X",20]
[null,"7.32","G",null,"7.32-G-",0]
[null,"7.33","G","X","7.33-G-X",20]
[null,"7.33","G",null,"7.33-G-",0]
[null,"7.34","G","X","7.34-G-X",20]
[null,"7.34","G",null,"7.34-G-",0]
[null,"7.35","G","X","7.35-G-X",20]
[null,"7.35","G",null,"7.35-G-",0]
[null,"7.4","G","X","7.4-G-X",20]
[null,"7.4","G",null,{"$f":"CONCATENATE(B804,\"-\",C804,\"-\",D804)","v":"7.4-G-"},0]
[null,"7.41","G","X","7.41-G-X",20]
[null,"7.41","G",null,"7.41-G-",0]
[null,"7.42","G","X","7.42-G-X",20]
[null,"7.42","G",null,"7.42-G-",0]
[null,"7.43","G","X","7.43-G-X",20]
[null,"7.43","G",null,"7.43-G-",0]
[null,"7.44","G","X","7.44-G-X",20]
[null,"7.44","G",null,"7.44-G-",0]
[null,"7.45","G","X","7.45-G-X",20]
[null,"7.45","G",null,"7.45-G-",0]
[null,"7.5","G","SI ","7.5-G-SI ",100]
[null,"7.5","G","NO","7.5-G-NO",0]
[null,"7.5","G","NO APLICA","7.5-G-NO APLICA",0]
[null,"7.6","G","X","7.6-G-X",20]
[null,"7.6","G",null,"7.6-G-",0]
[null,"7.61","G","X","7.61-G-X",20]
[null,"7.61","G",null,"7.61-G-",0]
[null,"7.62","G","X","7.62-G-X",20]
[null,"7.62","G",null,"7.62-G-",0]
[null,"7.63","G","X","7.63-G-X",20]
[null,"7.63","G",null,"7.63-G-",0]
[null,"7.64","G","X","7.64-G-X",20]
[null,"7.64","G",null,"7.64-G-",0]
[null,"7.7","G","SI ","7.7-G-SI ",100]
[null,"7.7","G","NO ","7.7-G-NO ",0]
[null,"7.7","G","NO APLICA","7.7-G-NO APLICA",0]
[null,"8.10","G","SI ¿Cuáles?","8.10-G-SI ¿Cuáles?",100]
[null,"8.10","G","NO","8.10-G-NO",0]
[null,"1.55","M","X","1.55-M-X",10]
[null,"1.55","M",null,"1.55-M-",0]
[null,"1.56","M","X","1.56-M-X",10]
[null,"1.56","M",null,"1.56-M-",0]
[null,"1.57","M","X","1.57-M-X",10]
[null,"1.57","M",null,"1.57-M-",0]
[null,"8.8","P","NO","8.8-P-NO",0]
[null,"8.9","P","SI ¿Cuáles?","8.9-P-SI ¿Cuáles?",50]
[null,"8.9","P","NO","8.9-P-NO",0]
[null,"9.1","P","SI ¿Cuáles?","9.1-P-SI ¿Cuáles?",50]
[null,"9.1","P","NO","9.1-P-NO",0]
[null,"9.2","P","SI","9.2-P-SI",10]
[null,"8.7","Me","SI ¿Cuáles?","8.7-Me-SI ¿Cuáles?",75]
[null,"8.7","Me","NO","8.7-Me-NO",0]
[null,"8.8","Me","SI ¿Cuáles?","8.8-Me-SI ¿Cuáles?",75]
[null,"8.8","Me","NO","8.8-Me-NO",0]
[null,"8.9","Me","SI ¿Cuáles?","8.9-Me-SI ¿Cuáles?",75]
[null,"8.9","Me","NO","8.9-Me-NO",0]
[null,"8.11","G","SI ¿Cuáles?","8.11-G-SI ¿Cuáles?",100]
[null,"8.11","G","NO","8.11-G-NO",0]
[null,"8.2","Me","NO","8.2-Me-NO",0]
[null,"8.2","G","SI","8.2-G-SI",100]
[null,"8.2","G","NO","8.2-G-NO",0]
[null,"8.3","G","SI ¿Cuáles?","8.3-G-SI ¿Cuáles?",100]
[null,"8.3","G","NO","8.3-G-NO",0]
[null,"8.3","G","NO APLICA","8.3-G-NO APLICA",100]
[null,"8.4","G","SI ¿Cuáles?","8.4-G-SI ¿Cuáles?",100]
[null,"8.4","G","NO","8.4-G-NO",0]
[null,"8.5","G","SI","8.5-G-SI",100]
[null,"8.5","G","NO","8.5-G-NO",0]
[null,"8.6","G","SI ¿Cuáles?","8.6-G-SI ¿Cuáles?",100]
[null,"8.6","G","NO","8.6-G-NO",0]
[null,"8.7","G","SI ¿Cuáles?","8.7-G-SI ¿Cuáles?",100]
[null,"8.7","G","NO","8.7-G-NO",0]
[null,"8.8","G","SI ¿Cuáles?","8.8-G-SI ¿Cuáles?",100]
[null,"8.8","G","NO",{"$f":"CONCATENATE(B868,\"-\",C868,\"-\",D868)","v":"8.8-G-NO"},0]
[null,"8.9","G","SI ¿Cuáles?","8.9-G-SI ¿Cuáles?",100]
[null,"8.9","G","NO","8.9-G-NO",0]
[null,"7.31","M","X","7.31-M-X",5]
[null,"7.31","M",null,"7.31-M-",0]
[null,"7.32","M","X","7.32-M-X",5]
[null,"7.32","M",null,"7.32-M-",0]
[null,"7.33","M","X","7.33-M-X",5]
[null,"7.33","M",null,"7.33-M-",0]
[null,"7.34","M","X","7.34-M-X",5]
[null,"7.34","M",null,"7.34-M-",0]
[null,"7.35","M","X","7.35-M-X",5]
[null,"7.35","M",null,"7.35-M-",0]
[null,"9.2","P","NO","9.2-P-NO",0]
[null,"9.21","P","SI","9.21-P-SI",10]
[null,"9.21","P","NO","9.21-P-NO",0]
[null,"9.22","P","SI","9.22-P-SI",10]
[null,"9.22","P","NO","9.22-P-NO",0]
[null,"9.23","P","SI","9.23-P-SI",10]
[null,"9.23","P","NO","9.23-P-NO",0]
[null,"9.24","P","SI","9.24-P-SI",10]
[null,"9.24","P","NO","9.24-P-NO",0]
[null,"9.3","P","Totalmente","9.3-P-Totalmente",50]
[null,"9.3","P","Parcialmente ¿Cuál?","9.3-P-Parcialmente ¿Cuál?",25]
[null,"9.3","P","No","9.3-P-No",0]
[null,"9.1","Me","SI ¿Cuáles?","9.1-Me-SI ¿Cuáles?",75]
[null,"9.1","Me","NO","9.1-Me-NO",0]
[null,"9.2","Me","SI","9.2-Me-SI",15]
[null,"9.2","Me","NO","9.2-Me-NO",0]
[null,"9.21","Me","SI","9.21-Me-SI",15]
[null,"9.21","Me","NO","9.21-Me-NO",0]
[null,"9.22","Me","SI","9.22-Me-SI",15]
[null,"9.22","Me","NO","9.22-Me-NO",0]
[null,"9.23","Me","SI","9.23-Me-SI",15]
[null,"9.23","Me","NO","9.23-Me-NO",0]
[null,"9.24","Me","SI","9.24-Me-SI",15]
[null,"9.24","Me","NO","9.24-Me-NO",0]
[null,"9.1","G","SI ¿Cuáles?","9.1-G-SI ¿Cuáles?",100]
[null,"9.1","G","NO","9.1-G-NO",0]
[null,"9.2","G","SI","9.2-G-SI",20]
[null,"9.2","G","NO","9.2-G-NO",0]
[null,"9.21","G","SI","9.21-G-SI",20]
[null,"9.21","G","NO","9.21-G-NO",0]
[null,"9.22","G","SI","9.22-G-SI",20]
[null,"9.22","G","NO","9.22-G-NO",0]
[null,"9.23","G","SI","9.23-G-SI",20]
[null,"9.23","G","NO","9.23-G-NO",0]
[null,"9.24","G","SI","9.24-G-SI",20]
[null,"9.24","G","NO","9.24-G-NO",0]
[null,"9.3","Me","Totalmente","9.3-Me-Totalmente",75]
[null,"9.3","Me","Parcialmente ¿Cuál?","9.3-Me-Parcialmente ¿Cuál?",35]
[null,"9.3","Me","No","9.3-Me-No",0]
[null,"9.3","G","Totalmente","9.3-G-Totalmente",100]
[null,"9.3","G","Parcialmente ¿Cuál?","9.3-G-Parcialmente ¿Cuál?",50]
[null,"9.3","G","No","9.3-G-No",0]
[]
[]
[]
[]
[]
[]
[]
[]
[null,null,"Tipo de Empresa","Clave","Micro","Total Formulario","Porcentaje"]
[null,null,"Ambiental",{"$f":"CONCATENATE(E931,C932)","v":"MicroAmbiental"},800,{"$f":"Menú!J23+Menú!J24+Menú!J25+Menú!J26+Menú!#REF!+Menú!J27+Menú!#REF!","v":{"$error":"#REF!"}},{"$f":"F932/E932","v":{"$error":"#REF!"}}]
[null,null,"Social",{"$f":"CONCATENATE(E931,C933)","v":"MicroSocial"},545,{"$f":"Menú!J27+Menú!#REF!+Menú!J28+Menú!J29","v":{"$error":"#REF!"}},{"$error":"#REF!"}]
[null,null,"Ética",{"$f":"CONCATENATE(E931,C934)","v":"MicroÉtica"},595,{"$f":"Menú!J26+Menú!J27+Menú!#REF!+Menú!J28+Menú!J29","v":{"$error":"#REF!"}},{"$error":"#REF!"}]
[null,null,"Económica",{"$f":"CONCATENATE(E931,C935)","v":"MicroEconómica"},480,{"$f":"Menú!J23+Menú!J24+Menú!J25+Menú!#REF!","v":{"$error":"#REF!"}},{"$error":"#REF!"}]
[null,null,"Total",{"$f":"CONCATENATE(E931,C936)","v":"MicroTotal"},1075,{"$f":"Menú!J30","v":0},0]
[null,null,"Consumo de Energía, Agua y Cambio Climático",{"$f":"CONCATENATE($E$931,C937)","v":"MicroConsumo de Energía, Agua y Cambio Climático"},430,{"$f":"Menú!D23","v":0},0]
[null,null,"Gestión eficiente del uso Materia Prima y materiales",{"$f":"CONCATENATE($E$931,C938)","v":"MicroGestión eficiente del uso Materia Prima y materiales"},100,{"$f":"Menú!D26","v":0},0]
[null,null,"Gestión  de los Residuos",{"$f":"CONCATENATE($E$931,C939)","v":"MicroGestión  de los Residuos"},270,{"$f":"Menú!D27","v":0},0]
[null,null,"Responsabilidad Social Empresarial",{"$f":"CONCATENATE($E$931,C940)","v":"MicroResponsabilidad Social Empresarial"},275,{"$f":"Menú!D28","v":0},0]
[null,null,"Tipo de Empresa",null,"Pequeña"]
[null,null,"Ambiental",{"$f":"CONCATENATE(E941,C942)","v":"PequeñaAmbiental"},1455,{"$f":"Menú!J23+Menú!J24+Menú!J25+Menú!J26+Menú!#REF!+Menú!J27+Menú!#REF!","v":{"$error":"#REF!"}},{"$f":"F942/E942","v":{"$error":"#REF!"}}]
[null,null,"Social",{"$f":"CONCATENATE(E941,C943)","v":"PequeñaSocial"},1110,{"$f":"Menú!J27+Menú!#REF!+Menú!J28+Menú!J29","v":{"$error":"#REF!"}},{"$f":"F943/E943","v":{"$error":"#REF!"}}]
[null,null,"Ética",{"$f":"CONCATENATE(E941,C944)","v":"PequeñaÉtica"},1210,{"$f":"Menú!J26+Menú!J27+Menú!#REF!+Menú!J28+Menú!J29","v":{"$error":"#REF!"}},{"$f":"F944/E944","v":{"$error":"#REF!"}}]
[null,null,"Económica",{"$f":"CONCATENATE(E941,C945)","v":"PequeñaEconómica"},845,{"$f":"Menú!J23+Menú!J24+Menú!J25+Menú!#REF!","v":{"$error":"#REF!"}},{"$f":"F945/E945","v":{"$error":"#REF!"}}]
[null,null,"Total",{"$f":"CONCATENATE(E941,C946)","v":"PequeñaTotal"},2055,{"$f":"Menú!J30","v":0},{"$f":"F946/E946","v":0}]
[null,null,"Consumo de Energía, Agua y Cambio Climático",{"$f":"CONCATENATE($E$941,C947)","v":"PequeñaConsumo de Energía, Agua y Cambio Climático"},745,{"$f":"Menú!D23","v":0},{"$f":"F947/E947","v":0}]
[null,null,"Gestión eficiente del uso Materia Prima y materiales",{"$f":"CONCATENATE($E$941,C948)","v":"PequeñaGestión eficiente del uso Materia Prima y materiales"},200,{"$f":"Menú!D26","v":0},0]
[null,null,"Gestión  de los Residuos","PequeñaGestión  de los Residuos",510,{"$f":"Menú!D27","v":0},0]
[null,null,"Responsabilidad Social Empresarial","PequeñaResponsabilidad Social Empresarial",600,{"$f":"Menú!D28","v":0},0]
[null,null,"Tipo de Empresa",null,"Mediana"]
[null,null,"Ambiental",{"$f":"CONCATENATE(E951,C952)","v":"MedianaAmbiental"},2175,{"$f":"Menú!J23+Menú!J24+Menú!J25+Menú!J26+Menú!#REF!+Menú!J27+Menú!#REF!","v":{"$error":"#REF!"}},{"$f":"F952/E952","v":{"$error":"#REF!"}}]
[null,null,"Social",{"$f":"CONCATENATE(E951,C953)","v":"MedianaSocial"},1670,{"$f":"Menú!J27+Menú!#REF!+Menú!J28+Menú!J29","v":{"$error":"#REF!"}},{"$f":"F953/E953","v":{"$error":"#REF!"}}]
[null,null,"Ética",{"$f":"CONCATENATE(E951,C954)","v":"MedianaÉtica"},1820,{"$f":"Menú!J26+Menú!J27+Menú!#REF!+Menú!J28+Menú!J29","v":{"$error":"#REF!"}},{"$f":"F954/E954","v":{"$error":"#REF!"}}]
[null,null,"Económica",{"$f":"CONCATENATE(E951,C955)","v":"MedianaEconómica"},1255,{"$f":"Menú!J23+Menú!J24+Menú!J25+Menú!#REF!","v":{"$error":"#REF!"}},{"$f":"F955/E955","v":{"$error":"#REF!"}}]
[null,null,"Total",{"$f":"CONCATENATE(E951,C956)","v":"MedianaTotal"},3075,{"$f":"Menú!J30","v":0},{"$f":"F956/E956","v":0}]
[null,null,"Consumo de Energía, Agua y Cambio Climático",{"$f":"CONCATENATE($E$951,C957)","v":"MedianaConsumo de Energía, Agua y Cambio Climático"},1105,{"$f":"Menú!D23","v":0},{"$f":"F957/E957","v":0}]
[null,null,"Gestión eficiente del uso Materia Prima y materiales",{"$f":"CONCATENATE($E$951,C958)","v":"MedianaGestión eficiente del uso Materia Prima y materiales"},300,{"$f":"Menú!D26","v":0},0]
[null,null,"Gestión  de los Residuos","MedianaGestión  de los Residuos",770,{"$f":"Menú!D27","v":0},0]
[null,null,"Responsabilidad Social Empresarial","MedianaResponsabilidad Social Empresarial",900,{"$f":"Menú!D28","v":0},0]
[null,null,"Tipo de Empresa",null,"Grande"]
[null,null,"Ambiental",{"$f":"CONCATENATE(E961,C962)","v":"GrandeAmbiental"},2925,{"$f":"Menú!J23+Menú!J24+Menú!J25+Menú!J26+Menú!#REF!+Menú!J27+Menú!#REF!","v":{"$error":"#REF!"}},{"$f":"F962/E962","v":{"$error":"#REF!"}}]
[null,null,"Social",{"$f":"CONCATENATE(E961,C963)","v":"GrandeSocial"},2230,{"$f":"Menú!J27+Menú!#REF!+Menú!J28+Menú!J29","v":{"$error":"#REF!"}},{"$f":"F963/E963","v":{"$error":"#REF!"}}]
[null,null,"Ética",{"$f":"CONCATENATE(E961,C964)","v":"GrandeÉtica"},2430,{"$f":"Menú!J26+Menú!J27+Menú!#REF!+Menú!J28+Menú!J29","v":{"$error":"#REF!"}},{"$f":"F964/E964","v":{"$error":"#REF!"}}]
[null,null,"Económica",{"$f":"CONCATENATE(E961,C965)","v":"GrandeEconómica"},1695,{"$f":"Menú!J23+Menú!J24+Menú!J25+Menú!#REF!","v":{"$error":"#REF!"}},{"$f":"F965/E965","v":{"$error":"#REF!"}}]
[null,null,"Total",{"$f":"CONCATENATE(E961,C966)","v":"GrandeTotal"},4125,{"$f":"Menú!J30","v":0},{"$f":"F966/E966","v":0}]
[null,null,"Consumo de Energía, Agua y Cambio Climático",{"$f":"CONCATENATE($E$961,C967)","v":"GrandeConsumo de Energía, Agua y Cambio Climático"},1495,{"$f":"Menú!D23","v":0},{"$f":"F967/E967","v":0}]
[null,null,"Gestión eficiente del uso Materia Prima y materiales",{"$f":"CONCATENATE($E$961,C968)","v":"GrandeGestión eficiente del uso Materia Prima y materiales"},400,{"$f":"Menú!D26","v":0},0]
[null,null,"Gestión  de los Residuos","GrandeGestión  de los Residuos",1030,{"$f":"Menú!D27","v":0},0]
[null,null,"Responsabilidad Social Empresarial","GrandeResponsabilidad Social Empresarial",1200,{"$f":"Menú!D28","v":0},0]